{"text_format":"1","workbook":"xlsx","n_sheets":26,"sheets":["Skippers List","Sheet1","5-9-18","5-16-18","5-23-18","5-30-18","6-6-18","6-13-18","6-20-18","6-27-18","7-4-18","7-11-18","7-18-18","7-25-18","8-1-18","8-8-18","8-15-18","8-22-18","8-29-18","9-7-18","9-12-18","9-19-18","9-26-18","10-3-18","10-10-18","Summary"],"not_rendered":{"charts":0,"images":0,"macros":1,"external_links":0,"defined_names":0,"comments":0,"pivot_tables":0},"unopened":[],"bounds":{"document_bytes":16777216,"sheet_cells":100000,"rows_first":2000,"rows_last":500,"rows_between":2000,"halvings":0,"cell_chars":16384,"cell_head_chars":4096},"cells_cut":0,"cells_raw":0,"read":"whole","date_system":"1900"}

{"sheet":"Skippers List","index":0,"n_rows":46,"n_cols":5,"rows_kept":46,"cut":false,"hidden":false,"merged":[[14,4,26,12]]}
["Day Sailer scoring workbook"]
["This workbook is comprised of this instruction page, Sheet1 as a template page, 23 weeks of score sheets and a Summary page."]
["A score keeper must enter the placement of each boat for each race (up to 15 races per day).  Formulas will calculate scores and daily placement."]
["Formulas in the Summary sheet compile the results over the entire season to determine seasonal placement of competitors."]
[]
["Instructions to start a new year:"]
["1. On this page, Fill in all the sail numbers and skipper names (up to 20 names).  "]
["2. Select the Yellow cells then Sort the list of numbers and names - DO NOT re-sort after the season starts or the scores will not be accurate!"]
["3. Click on \"Sheet1\" and type in the Date of your first race - all the dates in the other score sheets will update for each week."]
["4. Double click on each score sheet tab (NOT Sheet1) and re-name the tab to the proper date.  All the formulas in the Summary sheet will update automatically."]
["5. Once racing starts, record finishing placements for each race on the score sheet for the proper date."]
[]
[null,"Skippers List"]
[null,"Sail Number","Skipper",null,"Scoring Explanation"]
[1,1041,"Bryn Hawklove",null,"The scoring system employed here factors in the number of boats racing plus a \"high point\" finishing placement for each boat in each race.  There is also a 0.5 point bonus for placing first in a race.  For example, if there are 4 boats competing in race #1, each boat earns 4 points for competing; in addition, the first place boat receives another 4 points plus the .5 point bonus for finishing first, for a total of 8.5 points.  The second place boat receives 4 points plus 3 points, third receives 4 points plus 2 points, and 4th receives 4 points plus 1 point.   Any boat not completing a race receives 0 points for that race.  This should encourage all racers to participate in every race and to place as high as possible.  The \"Summary\" page tracks weekly scores over the course of the season to establish an overall seasonal ranking.  "]
[2,2753,"Gene McNurlen"]
[3,3011,"Karl Maas"]
[4,3097,"Jon Feist"]
[5,4836,"Nate Melby"]
[6,5251,"Jordan Cerney"]
[7,11062,"Dave Vind"]
[8,11791,"Stephen Taylor"]
[9,13030,"Lee Peterson"]
[10]
[11]
[12]
[13]
[14]
[15]
[16]
[17]
[18]
[19]
[20]
[]
[null,"Other Skippers"]
[null,1984,"Dane Lamb"]
[null,3383,"Harlan Gleason"]
[null,null,"Andy Plzak"]
[null,null,"Craig/Ellen Cutting"]
[null,null,"Ginny Wintersteen"]
[null,null,"Joe Konradt"]
[null,null,"Paul Krause"]
[null,null,"Scott Iverson"]
[null,null,"Tom Dubisar"]
[null,null,"Tom Marty"]

{"sheet":"Sheet1","index":1,"n_rows":23,"n_cols":40,"rows_kept":23,"cut":false,"hidden":false,"merged":[]}
["Day Sailer Racing "]
["2018-05-09","Race # ->",{"$f":"IF(COUNT(C4:C23)>0,1,\"\")","v":""},{"$f":"IF(COUNT(D4:D23)>0,1+C2,\"\")","v":""},"","","","","","","","","","","","","","Grand Total",null,null,null,null,null,null,"Race # ->",{"$f":"IF(COUNT(Z4:Z23)>0,1,\"\")","v":""},{"$f":"IF(COUNT(AA4:AA23)>0,1+Z2,\"\")","v":""},"","","","","","","","","","","","",""]
["Skipper/Sail Number"," # of boats -->  Ranking Below",{"$f":"COUNT(C4:C23)","v":0},{"$f":"COUNT(D4:D23)","v":0},0,0,0,0,0,0,0,0,0,0,0,0,0,"Points"]
[{"$f":"CONCATENATE('Skippers List'!B15,\" \",'Skippers List'!C15)","v":"1041 Bryn Hawklove"},{"$f":"IF(R4<>\"\",_xlfn.RANK.EQ(R4,$R$4:$R$23,0),\"\")","v":""},null,null,null,null,null,null,null,null,null,null,null,null,null,null,null,{"$f":"IF(SUM(Z4:AN4)>0,SUM(Z4:AN4),\"\")","v":""},null,null,null,null,null,null,null,{"$f":"IF(C4=1,C$3-C4+1+C$3+0.5,IF(C4>1,C$3-C4+1+C$3,IF(C4<1,\"\")))","v":""},"","","","","","","","","","","","","",""]
[{"$f":"CONCATENATE('Skippers List'!B16,\" \",'Skippers List'!C16)","v":"2753 Gene McNurlen"},{"$f":"IF(R5<>\"\",_xlfn.RANK.EQ(R5,$R$4:$R$23,0),\"\")","v":""},null,null,null,null,null,null,null,null,null,null,null,null,null,null,null,{"$f":"IF(SUM(Z5:AN5)>0,SUM(Z5:AN5),\"\")","v":""},null,null,null,null,null,null,null,{"$f":"IF(C5=1,C$3-C5+1+C$3+0.5,IF(C5>1,C$3-C5+1+C$3,IF(C5<1,\"\")))","v":""},{"$f":"IF(D5=1,D$3-D5+1+D$3+0.5,IF(D5>1,D$3-D5+1+D$3,IF(D5<1,\"\")))","v":""},{"$f":"IF(E5=1,E$3-E5+1+E$3+0.5,IF(E5>1,E$3-E5+1+E$3,IF(E5<1,\"\")))","v":""},{"$f":"IF(F5=1,F$3-F5+1+F$3+0.5,IF(F5>1,F$3-F5+1+F$3,IF(F5<1,\"\")))","v":""},{"$f":"IF(G5=1,G$3-G5+1+G$3+0.5,IF(G5>1,G$3-G5+1+G$3,IF(G5<1,\"\")))","v":""},{"$f":"IF(H5=1,H$3-H5+1+H$3+0.5,IF(H5>1,H$3-H5+1+H$3,IF(H5<1,\"\")))","v":""},{"$f":"IF(I5=1,I$3-I5+1+I$3+0.5,IF(I5>1,I$3-I5+1+I$3,IF(I5<1,\"\")))","v":""},{"$f":"IF(J5=1,J$3-J5+1+J$3+0.5,IF(J5>1,J$3-J5+1+J$3,IF(J5<1,\"\")))","v":""},{"$f":"IF(K5=1,K$3-K5+1+K$3+0.5,IF(K5>1,K$3-K5+1+K$3,IF(K5<1,\"\")))","v":""},{"$f":"IF(L5=1,L$3-L5+1+L$3+0.5,IF(L5>1,L$3-L5+1+L$3,IF(L5<1,\"\")))","v":""},{"$f":"IF(M5=1,M$3-M5+1+M$3+0.5,IF(M5>1,M$3-M5+1+M$3,IF(M5<1,\"\")))","v":""},{"$f":"IF(N5=1,N$3-N5+1+N$3+0.5,IF(N5>1,N$3-N5+1+N$3,IF(N5<1,\"\")))","v":""},{"$f":"IF(O5=1,O$3-O5+1+O$3+0.5,IF(O5>1,O$3-O5+1+O$3,IF(O5<1,\"\")))","v":""},{"$f":"IF(P5=1,P$3-P5+1+P$3+0.5,IF(P5>1,P$3-P5+1+P$3,IF(P5<1,\"\")))","v":""},{"$f":"IF(Q5=1,Q$3-Q5+1+Q$3+0.5,IF(Q5>1,Q$3-Q5+1+Q$3,IF(Q5<1,\"\")))","v":""}]
[{"$f":"CONCATENATE('Skippers List'!B17,\" \",'Skippers List'!C17)","v":"3011 Karl Maas"},"",null,null,null,null,null,null,null,null,null,null,null,null,null,null,null,"",null,null,null,null,null,null,null,"","","","","","","","","","","","","","",""]
[{"$f":"CONCATENATE('Skippers List'!B18,\" \",'Skippers List'!C18)","v":"3097 Jon Feist"},"",null,null,null,null,null,null,null,null,null,null,null,null,null,null,null,"",null,null,null,null,null,null,null,"","","","","","","","","","","","","","",""]
[{"$f":"CONCATENATE('Skippers List'!B19,\" \",'Skippers List'!C19)","v":"4836 Nate Melby"},"",null,null,null,null,null,null,null,null,null,null,null,null,null,null,null,"",null,null,null,null,null,null,null,"","","","","","","","","","","","","","",""]
[{"$f":"CONCATENATE('Skippers List'!B20,\" \",'Skippers List'!C20)","v":"5251 Jordan Cerney"},"",null,null,null,null,null,null,null,null,null,null,null,null,null,null,null,"",null,null,null,null,null,null,null,"","","","","","","","","","","","","","",""]
[{"$f":"CONCATENATE('Skippers List'!B21,\" \",'Skippers List'!C21)","v":"11062 Dave Vind"},"",null,null,null,null,null,null,null,null,null,null,null,null,null,null,null,"",null,null,null,null,null,null,null,"","","","","","","","","","","","","","",""]
[{"$f":"CONCATENATE('Skippers List'!B22,\" \",'Skippers List'!C22)","v":"11791 Stephen Taylor"},"",null,null,null,null,null,null,null,null,null,null,null,null,null,null,null,"",null,null,null,null,null,null,null,"","","","","","","","","","","","","","",""]
[{"$f":"CONCATENATE('Skippers List'!B23,\" \",'Skippers List'!C23)","v":"13030 Lee Peterson"},"",null,null,null,null,null,null,null,null,null,null,null,null,null,null,null,"",null,null,null,null,null,null,null,"","","","","","","","","","","","","","",""]
[{"$f":"CONCATENATE('Skippers List'!B24,\" \",'Skippers List'!C24)","v":" "},"",null,null,null,null,null,null,null,null,null,null,null,null,null,null,null,"",null,null,null,null,null,null,null,"","","","","","","","","","","","","","",""]
[{"$f":"CONCATENATE('Skippers List'!B25,\" \",'Skippers List'!C25)","v":" "},"",null,null,null,null,null,null,null,null,null,null,null,null,null,null,null,"",null,null,null,null,null,null,null,"","","","","","","","","","","","","","",""]
[{"$f":"CONCATENATE('Skippers List'!B26,\" \",'Skippers List'!C26)","v":" "},"",null,null,null,null,null,null,null,null,null,null,null,null,null,null,null,"",null,null,null,null,null,null,null,"","","","","","","","","","","","","","",""]
[{"$f":"CONCATENATE('Skippers List'!B27,\" \",'Skippers List'!C27)","v":" "},"",null,null,null,null,null,null,null,null,null,null,null,null,null,null,null,"",null,null,null,null,null,null,null,"","","","","","","","","","","","","","",""]
[{"$f":"CONCATENATE('Skippers List'!B28,\" \",'Skippers List'!C28)","v":" "},"",null,null,null,null,null,null,null,null,null,null,null,null,null,null,null,"",null,null,null,null,null,null,null,"","","","","","","","","","","","","","",""]
[{"$f":"CONCATENATE('Skippers List'!B29,\" \",'Skippers List'!C29)","v":" "},"",null,null,null,null,null,null,null,null,null,null,null,null,null,null,null,"",null,null,null,null,null,null,null,"","","","","","","","","","","","","","",""]
[{"$f":"CONCATENATE('Skippers List'!B30,\" \",'Skippers List'!C30)","v":" "},"",null,null,null,null,null,null,null,null,null,null,null,null,null,null,null,"",null,null,null,null,null,null,null,"","","","","","","","","","","","","","",""]
[{"$f":"CONCATENATE('Skippers List'!B31,\" \",'Skippers List'!C31)","v":" "},"",null,null,null,null,null,null,null,null,null,null,null,null,null,null,null,"",null,null,null,null,null,null,null,"","","","","","","","","","","","","","",""]
[{"$f":"CONCATENATE('Skippers List'!B32,\" \",'Skippers List'!C32)","v":" "},"",null,null,null,null,null,null,null,null,null,null,null,null,null,null,null,"",null,null,null,null,null,null,null,"","","","","","","","","","","","","","",""]
[{"$f":"CONCATENATE('Skippers List'!B33,\" \",'Skippers List'!C33)","v":" "},"",null,null,null,null,null,null,null,null,null,null,null,null,null,null,null,"",null,null,null,null,null,null,null,"","","","","","","","","","","","","","",""]
[{"$f":"CONCATENATE('Skippers List'!B34,\" \",'Skippers List'!C34)","v":" "},"",null,null,null,null,null,null,null,null,null,null,null,null,null,null,null,"",null,null,null,null,null,null,null,"","","","","","","","","","","","","","",""]

{"sheet":"5-9-18","index":2,"n_rows":23,"n_cols":40,"rows_kept":23,"cut":false,"hidden":false,"merged":[]}
["Day Sailer Racing "]
[{"$f":"Sheet1!A2","v":"2018-05-09"},"Race # ->",{"$f":"IF(COUNT(C4:C23)>0,1,\"\")","v":""},{"$f":"IF(COUNT(D4:D23)>0,1+C2,\"\")","v":""},"","","","","","","","","","","","","","Grand Total",null,null,null,null,null,null,"Race # ->",{"$f":"IF(COUNT(Z4:Z23)>0,1,\"\")","v":""},{"$f":"IF(COUNT(AA4:AA23)>0,1+Z2,\"\")","v":""},"","","","","","","","","","","","",""]
["Skipper/Sail Number"," # of boats -->  Ranking Below",{"$f":"COUNT(C4:C23)","v":0},{"$f":"COUNT(D4:D23)","v":0},0,0,0,0,0,0,0,0,0,0,0,0,0,"Points"]
[{"$f":"CONCATENATE('Skippers List'!B15,\" \",'Skippers List'!C15)","v":"1041 Bryn Hawklove"},{"$f":"IF(R4<>\"\",_xlfn.RANK.EQ(R4,$R$4:$R$23,0),\"\")","v":""},null,null,null,null,null,null,null,null,null,null,null,null,null,null,null,{"$f":"IF(SUM(Z4:AN4)>0,SUM(Z4:AN4),\"\")","v":""},null,null,null,null,null,null,null,{"$f":"IF(C4=1,C$3-C4+1+C$3+0.5,IF(C4>1,C$3-C4+1+C$3,IF(C4<1,\"\")))","v":""},"","","","","","","","","","","","","",""]
[{"$f":"CONCATENATE('Skippers List'!B16,\" \",'Skippers List'!C16)","v":"2753 Gene McNurlen"},{"$f":"IF(R5<>\"\",_xlfn.RANK.EQ(R5,$R$4:$R$23,0),\"\")","v":""},null,null,null,null,null,null,null,null,null,null,null,null,null,null,null,{"$f":"IF(SUM(Z5:AN5)>0,SUM(Z5:AN5),\"\")","v":""},null,null,null,null,null,null,null,{"$f":"IF(C5=1,C$3-C5+1+C$3+0.5,IF(C5>1,C$3-C5+1+C$3,IF(C5<1,\"\")))","v":""},"","","","","","","","","","","","","",""]
[{"$f":"CONCATENATE('Skippers List'!B17,\" \",'Skippers List'!C17)","v":"3011 Karl Maas"},"",null,null,null,null,null,null,null,null,null,null,null,null,null,null,null,"",null,null,null,null,null,null,null,"","","","","","","","","","","","","","",""]
[{"$f":"CONCATENATE('Skippers List'!B18,\" \",'Skippers List'!C18)","v":"3097 Jon Feist"},"",null,null,null,null,null,null,null,null,null,null,null,null,null,null,null,"",null,null,null,null,null,null,null,"","","","","","","","","","","","","","",""]
[{"$f":"CONCATENATE('Skippers List'!B19,\" \",'Skippers List'!C19)","v":"4836 Nate Melby"},"",null,null,null,null,null,null,null,null,null,null,null,null,null,null,null,"",null,null,null,null,null,null,null,"","","","","","","","","","","","","","",""]
[{"$f":"CONCATENATE('Skippers List'!B20,\" \",'Skippers List'!C20)","v":"5251 Jordan Cerney"},"",null,null,null,null,null,null,null,null,null,null,null,null,null,null,null,"",null,null,null,null,null,null,null,"","","","","","","","","","","","","","",""]
[{"$f":"CONCATENATE('Skippers List'!B21,\" \",'Skippers List'!C21)","v":"11062 Dave Vind"},"",null,null,null,null,null,null,null,null,null,null,null,null,null,null,null,"",null,null,null,null,null,null,null,"","","","","","","","","","","","","","",""]
[{"$f":"CONCATENATE('Skippers List'!B22,\" \",'Skippers List'!C22)","v":"11791 Stephen Taylor"},"",null,null,null,null,null,null,null,null,null,null,null,null,null,null,null,"",null,null,null,null,null,null,null,"","","","","","","","","","","","","","",""]
[{"$f":"CONCATENATE('Skippers List'!B23,\" \",'Skippers List'!C23)","v":"13030 Lee Peterson"},"",null,null,null,null,null,null,null,null,null,null,null,null,null,null,null,"",null,null,null,null,null,null,null,"","","","","","","","","","","","","","",""]
[{"$f":"CONCATENATE('Skippers List'!B24,\" \",'Skippers List'!C24)","v":" "},"",null,null,null,null,null,null,null,null,null,null,null,null,null,null,null,"",null,null,null,null,null,null,null,"","","","","","","","","","","","","","",""]
[{"$f":"CONCATENATE('Skippers List'!B25,\" \",'Skippers List'!C25)","v":" "},"",null,null,null,null,null,null,null,null,null,null,null,null,null,null,null,"",null,null,null,null,null,null,null,"","","","","","","","","","","","","","",""]
[{"$f":"CONCATENATE('Skippers List'!B26,\" \",'Skippers List'!C26)","v":" "},"",null,null,null,null,null,null,null,null,null,null,null,null,null,null,null,"",null,null,null,null,null,null,null,"","","","","","","","","","","","","","",""]
[{"$f":"CONCATENATE('Skippers List'!B27,\" \",'Skippers List'!C27)","v":" "},"",null,null,null,null,null,null,null,null,null,null,null,null,null,null,null,"",null,null,null,null,null,null,null,"","","","","","","","","","","","","","",""]
[{"$f":"CONCATENATE('Skippers List'!B28,\" \",'Skippers List'!C28)","v":" "},"",null,null,null,null,null,null,null,null,null,null,null,null,null,null,null,"",null,null,null,null,null,null,null,"","","","","","","","","","","","","","",""]
[{"$f":"CONCATENATE('Skippers List'!B29,\" \",'Skippers List'!C29)","v":" "},"",null,null,null,null,null,null,null,null,null,null,null,null,null,null,null,"",null,null,null,null,null,null,null,"","","","","","","","","","","","","","",""]
[{"$f":"CONCATENATE('Skippers List'!B30,\" \",'Skippers List'!C30)","v":" "},"",null,null,null,null,null,null,null,null,null,null,null,null,null,null,null,"",null,null,null,null,null,null,null,"","","","","","","","","","","","","","",""]
[{"$f":"CONCATENATE('Skippers List'!B31,\" \",'Skippers List'!C31)","v":" "},"",null,null,null,null,null,null,null,null,null,null,null,null,null,null,null,"",null,null,null,null,null,null,null,"","","","","","","","","","","","","","",""]
[{"$f":"CONCATENATE('Skippers List'!B32,\" \",'Skippers List'!C32)","v":" "},"",null,null,null,null,null,null,null,null,null,null,null,null,null,null,null,"",null,null,null,null,null,null,null,"","","","","","","","","","","","","","",""]
[{"$f":"CONCATENATE('Skippers List'!B33,\" \",'Skippers List'!C33)","v":" "},"",null,null,null,null,null,null,null,null,null,null,null,null,null,null,null,"",null,null,null,null,null,null,null,{"$f":"IF(C22=1,C$3-C22+1+C$3+0.5,IF(C22>1,C$3-C22+1+C$3,IF(C22<1,\"\")))","v":""},"","","","","","","","","","","","","",""]
[{"$f":"CONCATENATE('Skippers List'!B34,\" \",'Skippers List'!C34)","v":" "},"",null,null,null,null,null,null,null,null,null,null,null,null,null,null,null,"",null,null,null,null,null,null,null,"","","","","","","","","","","","","","",""]

{"sheet":"5-16-18","index":3,"n_rows":23,"n_cols":40,"rows_kept":23,"cut":false,"hidden":false,"merged":[]}
["Day Sailer Racing "]
[{"$f":"'5-9-18'!A2+7","v":"2018-05-16"},"Race # ->",{"$f":"IF(COUNT(C4:C23)>0,1,\"\")","v":""},{"$f":"IF(COUNT(D4:D23)>0,1+C2,\"\")","v":""},"","","","","","","","","","","","","","Grand Total",null,null,null,null,null,null,"Race # ->",{"$f":"IF(COUNT(Z4:Z23)>0,1,\"\")","v":""},{"$f":"IF(COUNT(AA4:AA23)>0,1+Z2,\"\")","v":""},"","","","","","","","","","","","",""]
["Skipper/Sail Number"," # of boats -->  Ranking Below",{"$f":"COUNT(C4:C23)","v":0},{"$f":"COUNT(D4:D23)","v":0},0,0,0,0,0,0,0,0,0,0,0,0,0,"Points"]
[{"$f":"CONCATENATE('Skippers List'!B15,\" \",'Skippers List'!C15)","v":"1041 Bryn Hawklove"},{"$f":"IF(R4<>\"\",_xlfn.RANK.EQ(R4,$R$4:$R$23,0),\"\")","v":""},null,null,null,null,null,null,null,null,null,null,null,null,null,null,null,{"$f":"IF(SUM(Z4:AN4)>0,SUM(Z4:AN4),\"\")","v":""},null,null,null,null,null,null,null,{"$f":"IF(C4=1,C$3-C4+1+C$3+0.5,IF(C4>1,C$3-C4+1+C$3,IF(C4<1,\"\")))","v":""},"","","","","","","","","","","","","",""]
[{"$f":"CONCATENATE('Skippers List'!B16,\" \",'Skippers List'!C16)","v":"2753 Gene McNurlen"},{"$f":"IF(R5<>\"\",_xlfn.RANK.EQ(R5,$R$4:$R$23,0),\"\")","v":""},null,null,null,null,null,null,null,null,null,null,null,null,null,null,null,{"$f":"IF(SUM(Z5:AN5)>0,SUM(Z5:AN5),\"\")","v":""},null,null,null,null,null,null,null,{"$f":"IF(C5=1,C$3-C5+1+C$3+0.5,IF(C5>1,C$3-C5+1+C$3,IF(C5<1,\"\")))","v":""},"","","","","","","","","","","","","",""]
[{"$f":"CONCATENATE('Skippers List'!B17,\" \",'Skippers List'!C17)","v":"3011 Karl Maas"},"",null,null,null,null,null,null,null,null,null,null,null,null,null,null,null,"",null,null,null,null,null,null,null,"","","","","","","","","","","","","","",""]
[{"$f":"CONCATENATE('Skippers List'!B18,\" \",'Skippers List'!C18)","v":"3097 Jon Feist"},"",null,null,null,null,null,null,null,null,null,null,null,null,null,null,null,"",null,null,null,null,null,null,null,"","","","","","","","","","","","","","",""]
[{"$f":"CONCATENATE('Skippers List'!B19,\" \",'Skippers List'!C19)","v":"4836 Nate Melby"},"",null,null,null,null,null,null,null,null,null,null,null,null,null,null,null,"",null,null,null,null,null,null,null,"","","","","","","","","","","","","","",""]
[{"$f":"CONCATENATE('Skippers List'!B20,\" \",'Skippers List'!C20)","v":"5251 Jordan Cerney"},"",null,null,null,null,null,null,null,null,null,null,null,null,null,null,null,"",null,null,null,null,null,null,null,"","","","","","","","","","","","","","",""]
[{"$f":"CONCATENATE('Skippers List'!B21,\" \",'Skippers List'!C21)","v":"11062 Dave Vind"},"",null,null,null,null,null,null,null,null,null,null,null,null,null,null,null,"",null,null,null,null,null,null,null,"","","","","","","","","","","","","","",""]
[{"$f":"CONCATENATE('Skippers List'!B22,\" \",'Skippers List'!C22)","v":"11791 Stephen Taylor"},"",null,null,null,null,null,null,null,null,null,null,null,null,null,null,null,"",null,null,null,null,null,null,null,"","","","","","","","","","","","","","",""]
[{"$f":"CONCATENATE('Skippers List'!B23,\" \",'Skippers List'!C23)","v":"13030 Lee Peterson"},"",null,null,null,null,null,null,null,null,null,null,null,null,null,null,null,"",null,null,null,null,null,null,null,"","","","","","","","","","","","","","",""]
[{"$f":"CONCATENATE('Skippers List'!B24,\" \",'Skippers List'!C24)","v":" "},"",null,null,null,null,null,null,null,null,null,null,null,null,null,null,null,"",null,null,null,null,null,null,null,"","","","","","","","","","","","","","",""]
[{"$f":"CONCATENATE('Skippers List'!B25,\" \",'Skippers List'!C25)","v":" "},"",null,null,null,null,null,null,null,null,null,null,null,null,null,null,null,"",null,null,null,null,null,null,null,"","","","","","","","","","","","","","",""]
[{"$f":"CONCATENATE('Skippers List'!B26,\" \",'Skippers List'!C26)","v":" "},"",null,null,null,null,null,null,null,null,null,null,null,null,null,null,null,"",null,null,null,null,null,null,null,"","","","","","","","","","","","","","",""]
[{"$f":"CONCATENATE('Skippers List'!B27,\" \",'Skippers List'!C27)","v":" "},"",null,null,null,null,null,null,null,null,null,null,null,null,null,null,null,"",null,null,null,null,null,null,null,"","","","","","","","","","","","","","",""]
[{"$f":"CONCATENATE('Skippers List'!B28,\" \",'Skippers List'!C28)","v":" "},"",null,null,null,null,null,null,null,null,null,null,null,null,null,null,null,"",null,null,null,null,null,null,null,"","","","","","","","","","","","","","",""]
[{"$f":"CONCATENATE('Skippers List'!B29,\" \",'Skippers List'!C29)","v":" "},"",null,null,null,null,null,null,null,null,null,null,null,null,null,null,null,"",null,null,null,null,null,null,null,"","","","","","","","","","","","","","",""]
[{"$f":"CONCATENATE('Skippers List'!B30,\" \",'Skippers List'!C30)","v":" "},"",null,null,null,null,null,null,null,null,null,null,null,null,null,null,null,"",null,null,null,null,null,null,null,"","","","","","","","","","","","","","",""]
[{"$f":"CONCATENATE('Skippers List'!B31,\" \",'Skippers List'!C31)","v":" "},"",null,null,null,null,null,null,null,null,null,null,null,null,null,null,null,"",null,null,null,null,null,null,null,"","","","","","","","","","","","","","",""]
[{"$f":"CONCATENATE('Skippers List'!B32,\" \",'Skippers List'!C32)","v":" "},"",null,null,null,null,null,null,null,null,null,null,null,null,null,null,null,"",null,null,null,null,null,null,null,"","","","","","","","","","","","","","",""]
[{"$f":"CONCATENATE('Skippers List'!B33,\" \",'Skippers List'!C33)","v":" "},"",null,null,null,null,null,null,null,null,null,null,null,null,null,null,null,"",null,null,null,null,null,null,null,{"$f":"IF(C22=1,C$3-C22+1+C$3+0.5,IF(C22>1,C$3-C22+1+C$3,IF(C22<1,\"\")))","v":""},"","","","","","","","","","","","","",""]
[{"$f":"CONCATENATE('Skippers List'!B34,\" \",'Skippers List'!C34)","v":" "},"",null,null,null,null,null,null,null,null,null,null,null,null,null,null,null,"",null,null,null,null,null,null,null,"","","","","","","","","","","","","","",""]

{"sheet":"5-23-18","index":4,"n_rows":23,"n_cols":40,"rows_kept":23,"cut":false,"hidden":false,"merged":[]}
["Day Sailer Racing "]
[{"$f":"'5-16-18'!A2+7","v":"2018-05-23"},"Race # ->",{"$f":"IF(COUNT(C4:C23)>0,1,\"\")","v":1},{"$f":"IF(COUNT(D4:D23)>0,1+C2,\"\")","v":2},3,4,"","","","","","","","","","","","Grand Total",null,null,null,null,null,null,"Race # ->",{"$f":"IF(COUNT(Z4:Z23)>0,1,\"\")","v":1},{"$f":"IF(COUNT(AA4:AA23)>0,1+Z2,\"\")","v":2},3,4,"","","","","","","","","","",""]
["Skipper/Sail Number"," # of boats -->  Ranking Below",{"$f":"COUNT(C4:C23)","v":4},{"$f":"COUNT(D4:D23)","v":4},4,3,0,0,0,0,0,0,0,0,0,0,0,"Points"]
[{"$f":"CONCATENATE('Skippers List'!B15,\" \",'Skippers List'!C15)","v":"1041 Bryn Hawklove"},{"$f":"IF(R4<>\"\",_xlfn.RANK.EQ(R4,$R$4:$R$23,0),\"\")","v":3},2,2,3,3,null,null,null,null,null,null,null,null,null,null,null,{"$f":"IF(SUM(Z4:AN4)>0,SUM(Z4:AN4),\"\")","v":24},null,null,null,null,null,null,null,{"$f":"IF(C4=1,C$3-C4+1+C$3+0.5,IF(C4>1,C$3-C4+1+C$3,IF(C4<1,\"\")))","v":7},7,6,4,"","","","","","","","","","",""]
[{"$f":"CONCATENATE('Skippers List'!B16,\" \",'Skippers List'!C16)","v":"2753 Gene McNurlen"},{"$f":"IF(R5<>\"\",_xlfn.RANK.EQ(R5,$R$4:$R$23,0),\"\")","v":1},1,1,2,1,null,null,null,null,null,null,null,null,null,null,null,{"$f":"IF(SUM(Z5:AN5)>0,SUM(Z5:AN5),\"\")","v":30.5},null,null,null,null,null,null,null,{"$f":"IF(C5=1,C$3-C5+1+C$3+0.5,IF(C5>1,C$3-C5+1+C$3,IF(C5<1,\"\")))","v":8.5},8.5,7,6.5,"","","","","","","","","","",""]
[{"$f":"CONCATENATE('Skippers List'!B17,\" \",'Skippers List'!C17)","v":"3011 Karl Maas"},2,3,3,1,2,null,null,null,null,null,null,null,null,null,null,null,25.5,null,null,null,null,null,null,null,6,6,8.5,5,"","","","","","","","","","",""]
[{"$f":"CONCATENATE('Skippers List'!B18,\" \",'Skippers List'!C18)","v":"3097 Jon Feist"},"",null,null,null,null,null,null,null,null,null,null,null,null,null,null,null,"",null,null,null,null,null,null,null,"","","","","","","","","","","","","","",""]
[{"$f":"CONCATENATE('Skippers List'!B19,\" \",'Skippers List'!C19)","v":"4836 Nate Melby"},"",null,null,null,null,null,null,null,null,null,null,null,null,null,null,null,"",null,null,null,null,null,null,null,"","","","","","","","","","","","","","",""]
[{"$f":"CONCATENATE('Skippers List'!B20,\" \",'Skippers List'!C20)","v":"5251 Jordan Cerney"},"",null,null,null,null,null,null,null,null,null,null,null,null,null,null,null,"",null,null,null,null,null,null,null,"","","","","","","","","","","","","","",""]
[{"$f":"CONCATENATE('Skippers List'!B21,\" \",'Skippers List'!C21)","v":"11062 Dave Vind"},4,4,4,4,null,null,null,null,null,null,null,null,null,null,null,null,15,null,null,null,null,null,null,null,5,5,5,"","","","","","","","","","","",""]
[{"$f":"CONCATENATE('Skippers List'!B22,\" \",'Skippers List'!C22)","v":"11791 Stephen Taylor"},"",null,null,null,null,null,null,null,null,null,null,null,null,null,null,null,"",null,null,null,null,null,null,null,"","","","","","","","","","","","","","",""]
[{"$f":"CONCATENATE('Skippers List'!B23,\" \",'Skippers List'!C23)","v":"13030 Lee Peterson"},"",null,null,null,null,null,null,null,null,null,null,null,null,null,null,null,"",null,null,null,null,null,null,null,"","","","","","","","","","","","","","",""]
[{"$f":"CONCATENATE('Skippers List'!B24,\" \",'Skippers List'!C24)","v":" "},"",null,null,null,null,null,null,null,null,null,null,null,null,null,null,null,"",null,null,null,null,null,null,null,"","","","","","","","","","","","","","",""]
[{"$f":"CONCATENATE('Skippers List'!B25,\" \",'Skippers List'!C25)","v":" "},"",null,null,null,null,null,null,null,null,null,null,null,null,null,null,null,"",null,null,null,null,null,null,null,"","","","","","","","","","","","","","",""]
[{"$f":"CONCATENATE('Skippers List'!B26,\" \",'Skippers List'!C26)","v":" "},"",null,null,null,null,null,null,null,null,null,null,null,null,null,null,null,"",null,null,null,null,null,null,null,"","","","","","","","","","","","","","",""]
[{"$f":"CONCATENATE('Skippers List'!B27,\" \",'Skippers List'!C27)","v":" "},"",null,null,null,null,null,null,null,null,null,null,null,null,null,null,null,"",null,null,null,null,null,null,null,"","","","","","","","","","","","","","",""]
[{"$f":"CONCATENATE('Skippers List'!B28,\" \",'Skippers List'!C28)","v":" "},"",null,null,null,null,null,null,null,null,null,null,null,null,null,null,null,"",null,null,null,null,null,null,null,"","","","","","","","","","","","","","",""]
[{"$f":"CONCATENATE('Skippers List'!B29,\" \",'Skippers List'!C29)","v":" "},"",null,null,null,null,null,null,null,null,null,null,null,null,null,null,null,"",null,null,null,null,null,null,null,"","","","","","","","","","","","","","",""]
[{"$f":"CONCATENATE('Skippers List'!B30,\" \",'Skippers List'!C30)","v":" "},"",null,null,null,null,null,null,null,null,null,null,null,null,null,null,null,"",null,null,null,null,null,null,null,"","","","","","","","","","","","","","",""]
[{"$f":"CONCATENATE('Skippers List'!B31,\" \",'Skippers List'!C31)","v":" "},"",null,null,null,null,null,null,null,null,null,null,null,null,null,null,null,"",null,null,null,null,null,null,null,"","","","","","","","","","","","","","",""]
[{"$f":"CONCATENATE('Skippers List'!B32,\" \",'Skippers List'!C32)","v":" "},"",null,null,null,null,null,null,null,null,null,null,null,null,null,null,null,"",null,null,null,null,null,null,null,"","","","","","","","","","","","","","",""]
[{"$f":"CONCATENATE('Skippers List'!B33,\" \",'Skippers List'!C33)","v":" "},"",null,null,null,null,null,null,null,null,null,null,null,null,null,null,null,"",null,null,null,null,null,null,null,{"$f":"IF(C22=1,C$3-C22+1+C$3+0.5,IF(C22>1,C$3-C22+1+C$3,IF(C22<1,\"\")))","v":""},"","","","","","","","","","","","","",""]
[{"$f":"CONCATENATE('Skippers List'!B34,\" \",'Skippers List'!C34)","v":" "},"",null,null,null,null,null,null,null,null,null,null,null,null,null,null,null,"",null,null,null,null,null,null,null,"","","","","","","","","","","","","","",""]

{"sheet":"5-30-18","index":5,"n_rows":23,"n_cols":40,"rows_kept":23,"cut":false,"hidden":false,"merged":[]}
["Day Sailer Racing "]
[{"$f":"'5-23-18'!A2+7","v":"2018-05-30"},"Race # ->",{"$f":"IF(COUNT(C4:C23)>0,1,\"\")","v":""},{"$f":"IF(COUNT(D4:D23)>0,1+C2,\"\")","v":""},"","","","","","","","","","","","","","Grand Total",null,null,null,null,null,null,"Race # ->",{"$f":"IF(COUNT(Z4:Z23)>0,1,\"\")","v":""},{"$f":"IF(COUNT(AA4:AA23)>0,1+Z2,\"\")","v":""},"","","","","","","","","","","","",""]
["Skipper/Sail Number"," # of boats -->  Ranking Below",{"$f":"COUNT(C4:C23)","v":0},{"$f":"COUNT(D4:D23)","v":0},0,0,0,0,0,0,0,0,0,0,0,0,0,"Points"]
[{"$f":"CONCATENATE('Skippers List'!B15,\" \",'Skippers List'!C15)","v":"1041 Bryn Hawklove"},{"$f":"IF(R4<>\"\",_xlfn.RANK.EQ(R4,$R$4:$R$23,0),\"\")","v":""},null,null,null,null,null,null,null,null,null,null,null,null,null,null,null,{"$f":"IF(SUM(Z4:AN4)>0,SUM(Z4:AN4),\"\")","v":""},null,null,null,null,null,null,null,{"$f":"IF(C4=1,C$3-C4+1+C$3+0.5,IF(C4>1,C$3-C4+1+C$3,IF(C4<1,\"\")))","v":""},"","","","","","","","","","","","","",""]
[{"$f":"CONCATENATE('Skippers List'!B16,\" \",'Skippers List'!C16)","v":"2753 Gene McNurlen"},{"$f":"IF(R5<>\"\",_xlfn.RANK.EQ(R5,$R$4:$R$23,0),\"\")","v":""},null,null,null,null,null,null,null,null,null,null,null,null,null,null,null,{"$f":"IF(SUM(Z5:AN5)>0,SUM(Z5:AN5),\"\")","v":""},null,null,null,null,null,null,null,{"$f":"IF(C5=1,C$3-C5+1+C$3+0.5,IF(C5>1,C$3-C5+1+C$3,IF(C5<1,\"\")))","v":""},"","","","","","","","","","","","","",""]
[{"$f":"CONCATENATE('Skippers List'!B17,\" \",'Skippers List'!C17)","v":"3011 Karl Maas"},"",null,null,null,null,null,null,null,null,null,null,null,null,null,null,null,"",null,null,null,null,null,null,null,"","","","","","","","","","","","","","",""]
[{"$f":"CONCATENATE('Skippers List'!B18,\" \",'Skippers List'!C18)","v":"3097 Jon Feist"},"",null,null,null,null,null,null,null,null,null,null,null,null,null,null,null,"",null,null,null,null,null,null,null,"","","","","","","","","","","","","","",""]
[{"$f":"CONCATENATE('Skippers List'!B19,\" \",'Skippers List'!C19)","v":"4836 Nate Melby"},"",null,null,null,null,null,null,null,null,null,null,null,null,null,null,null,"",null,null,null,null,null,null,null,"","","","","","","","","","","","","","",""]
[{"$f":"CONCATENATE('Skippers List'!B20,\" \",'Skippers List'!C20)","v":"5251 Jordan Cerney"},"",null,null,null,null,null,null,null,null,null,null,null,null,null,null,null,"",null,null,null,null,null,null,null,"","","","","","","","","","","","","","",""]
[{"$f":"CONCATENATE('Skippers List'!B21,\" \",'Skippers List'!C21)","v":"11062 Dave Vind"},"",null,null,null,null,null,null,null,null,null,null,null,null,null,null,null,"",null,null,null,null,null,null,null,"","","","","","","","","","","","","","",""]
[{"$f":"CONCATENATE('Skippers List'!B22,\" \",'Skippers List'!C22)","v":"11791 Stephen Taylor"},"",null,null,null,null,null,null,null,null,null,null,null,null,null,null,null,"",null,null,null,null,null,null,null,"","","","","","","","","","","","","","",""]
[{"$f":"CONCATENATE('Skippers List'!B23,\" \",'Skippers List'!C23)","v":"13030 Lee Peterson"},"",null,null,null,null,null,null,null,null,null,null,null,null,null,null,null,"",null,null,null,null,null,null,null,"","","","","","","","","","","","","","",""]
[{"$f":"CONCATENATE('Skippers List'!B24,\" \",'Skippers List'!C24)","v":" "},"",null,null,null,null,null,null,null,null,null,null,null,null,null,null,null,"",null,null,null,null,null,null,null,"","","","","","","","","","","","","","",""]
[{"$f":"CONCATENATE('Skippers List'!B25,\" \",'Skippers List'!C25)","v":" "},"",null,null,null,null,null,null,null,null,null,null,null,null,null,null,null,"",null,null,null,null,null,null,null,"","","","","","","","","","","","","","",""]
[{"$f":"CONCATENATE('Skippers List'!B26,\" \",'Skippers List'!C26)","v":" "},"",null,null,null,null,null,null,null,null,null,null,null,null,null,null,null,"",null,null,null,null,null,null,null,"","","","","","","","","","","","","","",""]
[{"$f":"CONCATENATE('Skippers List'!B27,\" \",'Skippers List'!C27)","v":" "},"",null,null,null,null,null,null,null,null,null,null,null,null,null,null,null,"",null,null,null,null,null,null,null,"","","","","","","","","","","","","","",""]
[{"$f":"CONCATENATE('Skippers List'!B28,\" \",'Skippers List'!C28)","v":" "},"",null,null,null,null,null,null,null,null,null,null,null,null,null,null,null,"",null,null,null,null,null,null,null,"","","","","","","","","","","","","","",""]
[{"$f":"CONCATENATE('Skippers List'!B29,\" \",'Skippers List'!C29)","v":" "},"",null,null,null,null,null,null,null,null,null,null,null,null,null,null,null,"",null,null,null,null,null,null,null,"","","","","","","","","","","","","","",""]
[{"$f":"CONCATENATE('Skippers List'!B30,\" \",'Skippers List'!C30)","v":" "},"",null,null,null,null,null,null,null,null,null,null,null,null,null,null,null,"",null,null,null,null,null,null,null,"","","","","","","","","","","","","","",""]
[{"$f":"CONCATENATE('Skippers List'!B31,\" \",'Skippers List'!C31)","v":" "},"",null,null,null,null,null,null,null,null,null,null,null,null,null,null,null,"",null,null,null,null,null,null,null,"","","","","","","","","","","","","","",""]
[{"$f":"CONCATENATE('Skippers List'!B32,\" \",'Skippers List'!C32)","v":" "},"",null,null,null,null,null,null,null,null,null,null,null,null,null,null,null,"",null,null,null,null,null,null,null,"","","","","","","","","","","","","","",""]
[{"$f":"CONCATENATE('Skippers List'!B33,\" \",'Skippers List'!C33)","v":" "},"",null,null,null,null,null,null,null,null,null,null,null,null,null,null,null,"",null,null,null,null,null,null,null,{"$f":"IF(C22=1,C$3-C22+1+C$3+0.5,IF(C22>1,C$3-C22+1+C$3,IF(C22<1,\"\")))","v":""},"","","","","","","","","","","","","",""]
[{"$f":"CONCATENATE('Skippers List'!B34,\" \",'Skippers List'!C34)","v":" "},"",null,null,null,null,null,null,null,null,null,null,null,null,null,null,null,"",null,null,null,null,null,null,null,"","","","","","","","","","","","","","",""]

{"sheet":"6-6-18","index":6,"n_rows":23,"n_cols":40,"rows_kept":23,"cut":false,"hidden":false,"merged":[]}
["Day Sailer Racing "]
[{"$f":"'5-30-18'!A2+7","v":"2018-06-06"},"Race # ->",{"$f":"IF(COUNT(C4:C23)>0,1,\"\")","v":1},{"$f":"IF(COUNT(D4:D23)>0,1+C2,\"\")","v":2},3,"","","","","","","","","","","","","Grand Total",null,null,null,null,null,null,"Race # ->",{"$f":"IF(COUNT(Z4:Z23)>0,1,\"\")","v":1},{"$f":"IF(COUNT(AA4:AA23)>0,1+Z2,\"\")","v":2},3,"","","","","","","","","","","",""]
["Skipper/Sail Number"," # of boats -->  Ranking Below",{"$f":"COUNT(C4:C23)","v":3},{"$f":"COUNT(D4:D23)","v":3},3,0,0,0,0,0,0,0,0,0,0,0,0,"Points"]
[{"$f":"CONCATENATE('Skippers List'!B15,\" \",'Skippers List'!C15)","v":"1041 Bryn Hawklove"},{"$f":"IF(R4<>\"\",_xlfn.RANK.EQ(R4,$R$4:$R$23,0),\"\")","v":""},null,null,null,null,null,null,null,null,null,null,null,null,null,null,null,{"$f":"IF(SUM(Z4:AN4)>0,SUM(Z4:AN4),\"\")","v":""},null,null,null,null,null,null,null,{"$f":"IF(C4=1,C$3-C4+1+C$3+0.5,IF(C4>1,C$3-C4+1+C$3,IF(C4<1,\"\")))","v":""},"","","","","","","","","","","","","",""]
[{"$f":"CONCATENATE('Skippers List'!B16,\" \",'Skippers List'!C16)","v":"2753 Gene McNurlen"},{"$f":"IF(R5<>\"\",_xlfn.RANK.EQ(R5,$R$4:$R$23,0),\"\")","v":""},null,null,null,null,null,null,null,null,null,null,null,null,null,null,null,{"$f":"IF(SUM(Z5:AN5)>0,SUM(Z5:AN5),\"\")","v":""},null,null,null,null,null,null,null,{"$f":"IF(C5=1,C$3-C5+1+C$3+0.5,IF(C5>1,C$3-C5+1+C$3,IF(C5<1,\"\")))","v":""},"","","","","","","","","","","","","",""]
[{"$f":"CONCATENATE('Skippers List'!B17,\" \",'Skippers List'!C17)","v":"3011 Karl Maas"},2,1,2,2,null,null,null,null,null,null,null,null,null,null,null,null,16.5,null,null,null,null,null,null,null,6.5,5,5,"","","","","","","","","","","",""]
[{"$f":"CONCATENATE('Skippers List'!B18,\" \",'Skippers List'!C18)","v":"3097 Jon Feist"},"",null,null,null,null,null,null,null,null,null,null,null,null,null,null,null,"",null,null,null,null,null,null,null,"","","","","","","","","","","","","","",""]
[{"$f":"CONCATENATE('Skippers List'!B19,\" \",'Skippers List'!C19)","v":"4836 Nate Melby"},"",null,null,null,null,null,null,null,null,null,null,null,null,null,null,null,"",null,null,null,null,null,null,null,"","","","","","","","","","","","","","",""]
[{"$f":"CONCATENATE('Skippers List'!B20,\" \",'Skippers List'!C20)","v":"5251 Jordan Cerney"},"",null,null,null,null,null,null,null,null,null,null,null,null,null,null,null,"",null,null,null,null,null,null,null,"","","","","","","","","","","","","","",""]
[{"$f":"CONCATENATE('Skippers List'!B21,\" \",'Skippers List'!C21)","v":"11062 Dave Vind"},3,3,3,3,null,null,null,null,null,null,null,null,null,null,null,null,12,null,null,null,null,null,null,null,4,4,4,"","","","","","","","","","","",""]
[{"$f":"CONCATENATE('Skippers List'!B22,\" \",'Skippers List'!C22)","v":"11791 Stephen Taylor"},"",null,null,null,null,null,null,null,null,null,null,null,null,null,null,null,"",null,null,null,null,null,null,null,"","","","","","","","","","","","","","",""]
[{"$f":"CONCATENATE('Skippers List'!B23,\" \",'Skippers List'!C23)","v":"13030 Lee Peterson"},1,2,1,1,null,null,null,null,null,null,null,null,null,null,null,null,18,null,null,null,null,null,null,null,5,6.5,6.5,"","","","","","","","","","","",""]
[{"$f":"CONCATENATE('Skippers List'!B24,\" \",'Skippers List'!C24)","v":" "},"",null,null,null,null,null,null,null,null,null,null,null,null,null,null,null,"",null,null,null,null,null,null,null,"","","","","","","","","","","","","","",""]
[{"$f":"CONCATENATE('Skippers List'!B25,\" \",'Skippers List'!C25)","v":" "},"",null,null,null,null,null,null,null,null,null,null,null,null,null,null,null,"",null,null,null,null,null,null,null,"","","","","","","","","","","","","","",""]
[{"$f":"CONCATENATE('Skippers List'!B26,\" \",'Skippers List'!C26)","v":" "},"",null,null,null,null,null,null,null,null,null,null,null,null,null,null,null,"",null,null,null,null,null,null,null,"","","","","","","","","","","","","","",""]
[{"$f":"CONCATENATE('Skippers List'!B27,\" \",'Skippers List'!C27)","v":" "},"",null,null,null,null,null,null,null,null,null,null,null,null,null,null,null,"",null,null,null,null,null,null,null,"","","","","","","","","","","","","","",""]
[{"$f":"CONCATENATE('Skippers List'!B28,\" \",'Skippers List'!C28)","v":" "},"",null,null,null,null,null,null,null,null,null,null,null,null,null,null,null,"",null,null,null,null,null,null,null,"","","","","","","","","","","","","","",""]
[{"$f":"CONCATENATE('Skippers List'!B29,\" \",'Skippers List'!C29)","v":" "},"",null,null,null,null,null,null,null,null,null,null,null,null,null,null,null,"",null,null,null,null,null,null,null,"","","","","","","","","","","","","","",""]
[{"$f":"CONCATENATE('Skippers List'!B30,\" \",'Skippers List'!C30)","v":" "},"",null,null,null,null,null,null,null,null,null,null,null,null,null,null,null,"",null,null,null,null,null,null,null,"","","","","","","","","","","","","","",""]
[{"$f":"CONCATENATE('Skippers List'!B31,\" \",'Skippers List'!C31)","v":" "},"",null,null,null,null,null,null,null,null,null,null,null,null,null,null,null,"",null,null,null,null,null,null,null,"","","","","","","","","","","","","","",""]
[{"$f":"CONCATENATE('Skippers List'!B32,\" \",'Skippers List'!C32)","v":" "},"",null,null,null,null,null,null,null,null,null,null,null,null,null,null,null,"",null,null,null,null,null,null,null,"","","","","","","","","","","","","","",""]
[{"$f":"CONCATENATE('Skippers List'!B33,\" \",'Skippers List'!C33)","v":" "},"",null,null,null,null,null,null,null,null,null,null,null,null,null,null,null,"",null,null,null,null,null,null,null,{"$f":"IF(C22=1,C$3-C22+1+C$3+0.5,IF(C22>1,C$3-C22+1+C$3,IF(C22<1,\"\")))","v":""},"","","","","","","","","","","","","",""]
[{"$f":"CONCATENATE('Skippers List'!B34,\" \",'Skippers List'!C34)","v":" "},"",null,null,null,null,null,null,null,null,null,null,null,null,null,null,null,"",null,null,null,null,null,null,null,"","","","","","","","","","","","","","",""]

{"sheet":"6-13-18","index":7,"n_rows":23,"n_cols":40,"rows_kept":23,"cut":false,"hidden":false,"merged":[]}
["Day Sailer Racing "]
[{"$f":"'6-6-18'!A2+7","v":"2018-06-13"},"Race # ->",{"$f":"IF(COUNT(C4:C23)>0,1,\"\")","v":1},{"$f":"IF(COUNT(D4:D23)>0,1+C2,\"\")","v":2},3,4,"","","","","","","","","","","","Grand Total",null,null,null,null,null,null,"Race # ->",{"$f":"IF(COUNT(Z4:Z23)>0,1,\"\")","v":1},{"$f":"IF(COUNT(AA4:AA23)>0,1+Z2,\"\")","v":2},3,4,"","","","","","","","","","",""]
["Skipper/Sail Number"," # of boats -->  Ranking Below",{"$f":"COUNT(C4:C23)","v":5},{"$f":"COUNT(D4:D23)","v":6},6,4,0,0,0,0,0,0,0,0,0,0,0,"Points"]
[{"$f":"CONCATENATE('Skippers List'!B15,\" \",'Skippers List'!C15)","v":"1041 Bryn Hawklove"},{"$f":"IF(R4<>\"\",_xlfn.RANK.EQ(R4,$R$4:$R$23,0),\"\")","v":3},4,6,3,4,null,null,null,null,null,null,null,null,null,null,null,{"$f":"IF(SUM(Z4:AN4)>0,SUM(Z4:AN4),\"\")","v":29},null,null,null,null,null,null,null,{"$f":"IF(C4=1,C$3-C4+1+C$3+0.5,IF(C4>1,C$3-C4+1+C$3,IF(C4<1,\"\")))","v":7},7,10,5,"","","","","","","","","","",""]
[{"$f":"CONCATENATE('Skippers List'!B16,\" \",'Skippers List'!C16)","v":"2753 Gene McNurlen"},{"$f":"IF(R5<>\"\",_xlfn.RANK.EQ(R5,$R$4:$R$23,0),\"\")","v":""},null,null,null,null,null,null,null,null,null,null,null,null,null,null,null,{"$f":"IF(SUM(Z5:AN5)>0,SUM(Z5:AN5),\"\")","v":""},null,null,null,null,null,null,null,{"$f":"IF(C5=1,C$3-C5+1+C$3+0.5,IF(C5>1,C$3-C5+1+C$3,IF(C5<1,\"\")))","v":""},"","","","","","","","","","","","","",""]
[{"$f":"CONCATENATE('Skippers List'!B17,\" \",'Skippers List'!C17)","v":"3011 Karl Maas"},5,null,5,5,3,null,null,null,null,null,null,null,null,null,null,null,22,null,null,null,null,null,null,null,"",8,8,6,"","","","","","","","","","",""]
[{"$f":"CONCATENATE('Skippers List'!B18,\" \",'Skippers List'!C18)","v":"3097 Jon Feist"},2,2,2,1,2,null,null,null,null,null,null,null,null,null,null,null,39.5,null,null,null,null,null,null,null,9,11,12.5,7,"","","","","","","","","","",""]
[{"$f":"CONCATENATE('Skippers List'!B19,\" \",'Skippers List'!C19)","v":"4836 Nate Melby"},"",null,null,null,null,null,null,null,null,null,null,null,null,null,null,null,"",null,null,null,null,null,null,null,"","","","","","","","","","","","","","",""]
[{"$f":"CONCATENATE('Skippers List'!B20,\" \",'Skippers List'!C20)","v":"5251 Jordan Cerney"},"",null,null,null,null,null,null,null,null,null,null,null,null,null,null,null,"",null,null,null,null,null,null,null,"","","","","","","","","","","","","","",""]
[{"$f":"CONCATENATE('Skippers List'!B21,\" \",'Skippers List'!C21)","v":"11062 Dave Vind"},5,5,4,6,null,null,null,null,null,null,null,null,null,null,null,null,22,null,null,null,null,null,null,null,6,9,7,"","","","","","","","","","","",""]
[{"$f":"CONCATENATE('Skippers List'!B22,\" \",'Skippers List'!C22)","v":"11791 Stephen Taylor"},4,3,3,4,null,null,null,null,null,null,null,null,null,null,null,null,27,null,null,null,null,null,null,null,8,10,9,"","","","","","","","","","","",""]
[{"$f":"CONCATENATE('Skippers List'!B23,\" \",'Skippers List'!C23)","v":"13030 Lee Peterson"},1,1,1,2,1,null,null,null,null,null,null,null,null,null,null,null,42.5,null,null,null,null,null,null,null,10.5,12.5,11,8.5,"","","","","","","","","","",""]
[{"$f":"CONCATENATE('Skippers List'!B24,\" \",'Skippers List'!C24)","v":" "},"",null,null,null,null,null,null,null,null,null,null,null,null,null,null,null,"",null,null,null,null,null,null,null,"","","","","","","","","","","","","","",""]
[{"$f":"CONCATENATE('Skippers List'!B25,\" \",'Skippers List'!C25)","v":" "},"",null,null,null,null,null,null,null,null,null,null,null,null,null,null,null,"",null,null,null,null,null,null,null,"","","","","","","","","","","","","","",""]
[{"$f":"CONCATENATE('Skippers List'!B26,\" \",'Skippers List'!C26)","v":" "},"",null,null,null,null,null,null,null,null,null,null,null,null,null,null,null,"",null,null,null,null,null,null,null,"","","","","","","","","","","","","","",""]
[{"$f":"CONCATENATE('Skippers List'!B27,\" \",'Skippers List'!C27)","v":" "},"",null,null,null,null,null,null,null,null,null,null,null,null,null,null,null,"",null,null,null,null,null,null,null,"","","","","","","","","","","","","","",""]
[{"$f":"CONCATENATE('Skippers List'!B28,\" \",'Skippers List'!C28)","v":" "},"",null,null,null,null,null,null,null,null,null,null,null,null,null,null,null,"",null,null,null,null,null,null,null,"","","","","","","","","","","","","","",""]
[{"$f":"CONCATENATE('Skippers List'!B29,\" \",'Skippers List'!C29)","v":" "},"",null,null,null,null,null,null,null,null,null,null,null,null,null,null,null,"",null,null,null,null,null,null,null,"","","","","","","","","","","","","","",""]
[{"$f":"CONCATENATE('Skippers List'!B30,\" \",'Skippers List'!C30)","v":" "},"",null,null,null,null,null,null,null,null,null,null,null,null,null,null,null,"",null,null,null,null,null,null,null,"","","","","","","","","","","","","","",""]
[{"$f":"CONCATENATE('Skippers List'!B31,\" \",'Skippers List'!C31)","v":" "},"",null,null,null,null,null,null,null,null,null,null,null,null,null,null,null,"",null,null,null,null,null,null,null,"","","","","","","","","","","","","","",""]
[{"$f":"CONCATENATE('Skippers List'!B32,\" \",'Skippers List'!C32)","v":" "},"",null,null,null,null,null,null,null,null,null,null,null,null,null,null,null,"",null,null,null,null,null,null,null,"","","","","","","","","","","","","","",""]
[{"$f":"CONCATENATE('Skippers List'!B33,\" \",'Skippers List'!C33)","v":" "},"",null,null,null,null,null,null,null,null,null,null,null,null,null,null,null,"",null,null,null,null,null,null,null,{"$f":"IF(C22=1,C$3-C22+1+C$3+0.5,IF(C22>1,C$3-C22+1+C$3,IF(C22<1,\"\")))","v":""},"","","","","","","","","","","","","",""]
[{"$f":"CONCATENATE('Skippers List'!B34,\" \",'Skippers List'!C34)","v":" "},"",null,null,null,null,null,null,null,null,null,null,null,null,null,null,null,"",null,null,null,null,null,null,null,"","","","","","","","","","","","","","",""]

{"sheet":"6-20-18","index":8,"n_rows":23,"n_cols":40,"rows_kept":23,"cut":false,"hidden":false,"merged":[]}
["Day Sailer Racing "]
[{"$f":"'6-13-18'!A2+7","v":"2018-06-20"},"Race # ->",{"$f":"IF(COUNT(C4:C23)>0,1,\"\")","v":""},{"$f":"IF(COUNT(D4:D23)>0,1+C2,\"\")","v":""},"","","","","","","","","","","","","","Grand Total",null,null,null,null,null,null,"Race # ->",{"$f":"IF(COUNT(Z4:Z23)>0,1,\"\")","v":""},{"$f":"IF(COUNT(AA4:AA23)>0,1+Z2,\"\")","v":""},"","","","","","","","","","","","",""]
["Skipper/Sail Number"," # of boats -->  Ranking Below",{"$f":"COUNT(C4:C23)","v":0},{"$f":"COUNT(D4:D23)","v":0},0,0,0,0,0,0,0,0,0,0,0,0,0,"Points"]
[{"$f":"CONCATENATE('Skippers List'!B15,\" \",'Skippers List'!C15)","v":"1041 Bryn Hawklove"},{"$f":"IF(R4<>\"\",_xlfn.RANK.EQ(R4,$R$4:$R$23,0),\"\")","v":""},null,null,null,null,null,null,null,null,null,null,null,null,null,null,null,{"$f":"IF(SUM(Z4:AN4)>0,SUM(Z4:AN4),\"\")","v":""},null,null,null,null,null,null,null,{"$f":"IF(C4=1,C$3-C4+1+C$3+0.5,IF(C4>1,C$3-C4+1+C$3,IF(C4<1,\"\")))","v":""},"","","","","","","","","","","","","",""]
[{"$f":"CONCATENATE('Skippers List'!B16,\" \",'Skippers List'!C16)","v":"2753 Gene McNurlen"},{"$f":"IF(R5<>\"\",_xlfn.RANK.EQ(R5,$R$4:$R$23,0),\"\")","v":""},null,null,null,null,null,null,null,null,null,null,null,null,null,null,null,{"$f":"IF(SUM(Z5:AN5)>0,SUM(Z5:AN5),\"\")","v":""},null,null,null,null,null,null,null,{"$f":"IF(C5=1,C$3-C5+1+C$3+0.5,IF(C5>1,C$3-C5+1+C$3,IF(C5<1,\"\")))","v":""},"","","","","","","","","","","","","",""]
[{"$f":"CONCATENATE('Skippers List'!B17,\" \",'Skippers List'!C17)","v":"3011 Karl Maas"},"",null,null,null,null,null,null,null,null,null,null,null,null,null,null,null,"",null,null,null,null,null,null,null,"","","","","","","","","","","","","","",""]
[{"$f":"CONCATENATE('Skippers List'!B18,\" \",'Skippers List'!C18)","v":"3097 Jon Feist"},"",null,null,null,null,null,null,null,null,null,null,null,null,null,null,null,"",null,null,null,null,null,null,null,"","","","","","","","","","","","","","",""]
[{"$f":"CONCATENATE('Skippers List'!B19,\" \",'Skippers List'!C19)","v":"4836 Nate Melby"},"",null,null,null,null,null,null,null,null,null,null,null,null,null,null,null,"",null,null,null,null,null,null,null,"","","","","","","","","","","","","","",""]
[{"$f":"CONCATENATE('Skippers List'!B20,\" \",'Skippers List'!C20)","v":"5251 Jordan Cerney"},"",null,null,null,null,null,null,null,null,null,null,null,null,null,null,null,"",null,null,null,null,null,null,null,"","","","","","","","","","","","","","",""]
[{"$f":"CONCATENATE('Skippers List'!B21,\" \",'Skippers List'!C21)","v":"11062 Dave Vind"},"",null,null,null,null,null,null,null,null,null,null,null,null,null,null,null,"",null,null,null,null,null,null,null,"","","","","","","","","","","","","","",""]
[{"$f":"CONCATENATE('Skippers List'!B22,\" \",'Skippers List'!C22)","v":"11791 Stephen Taylor"},"",null,null,null,null,null,null,null,null,null,null,null,null,null,null,null,"",null,null,null,null,null,null,null,"","","","","","","","","","","","","","",""]
[{"$f":"CONCATENATE('Skippers List'!B23,\" \",'Skippers List'!C23)","v":"13030 Lee Peterson"},"",null,null,null,null,null,null,null,null,null,null,null,null,null,null,null,"",null,null,null,null,null,null,null,"","","","","","","","","","","","","","",""]
[{"$f":"CONCATENATE('Skippers List'!B24,\" \",'Skippers List'!C24)","v":" "},"",null,null,null,null,null,null,null,null,null,null,null,null,null,null,null,"",null,null,null,null,null,null,null,"","","","","","","","","","","","","","",""]
[{"$f":"CONCATENATE('Skippers List'!B25,\" \",'Skippers List'!C25)","v":" "},"",null,null,null,null,null,null,null,null,null,null,null,null,null,null,null,"",null,null,null,null,null,null,null,"","","","","","","","","","","","","","",""]
[{"$f":"CONCATENATE('Skippers List'!B26,\" \",'Skippers List'!C26)","v":" "},"",null,null,null,null,null,null,null,null,null,null,null,null,null,null,null,"",null,null,null,null,null,null,null,"","","","","","","","","","","","","","",""]
[{"$f":"CONCATENATE('Skippers List'!B27,\" \",'Skippers List'!C27)","v":" "},"",null,null,null,null,null,null,null,null,null,null,null,null,null,null,null,"",null,null,null,null,null,null,null,"","","","","","","","","","","","","","",""]
[{"$f":"CONCATENATE('Skippers List'!B28,\" \",'Skippers List'!C28)","v":" "},"",null,null,null,null,null,null,null,null,null,null,null,null,null,null,null,"",null,null,null,null,null,null,null,"","","","","","","","","","","","","","",""]
[{"$f":"CONCATENATE('Skippers List'!B29,\" \",'Skippers List'!C29)","v":" "},"",null,null,null,null,null,null,null,null,null,null,null,null,null,null,null,"",null,null,null,null,null,null,null,"","","","","","","","","","","","","","",""]
[{"$f":"CONCATENATE('Skippers List'!B30,\" \",'Skippers List'!C30)","v":" "},"",null,null,null,null,null,null,null,null,null,null,null,null,null,null,null,"",null,null,null,null,null,null,null,"","","","","","","","","","","","","","",""]
[{"$f":"CONCATENATE('Skippers List'!B31,\" \",'Skippers List'!C31)","v":" "},"",null,null,null,null,null,null,null,null,null,null,null,null,null,null,null,"",null,null,null,null,null,null,null,"","","","","","","","","","","","","","",""]
[{"$f":"CONCATENATE('Skippers List'!B32,\" \",'Skippers List'!C32)","v":" "},"",null,null,null,null,null,null,null,null,null,null,null,null,null,null,null,"",null,null,null,null,null,null,null,"","","","","","","","","","","","","","",""]
[{"$f":"CONCATENATE('Skippers List'!B33,\" \",'Skippers List'!C33)","v":" "},"",null,null,null,null,null,null,null,null,null,null,null,null,null,null,null,"",null,null,null,null,null,null,null,{"$f":"IF(C22=1,C$3-C22+1+C$3+0.5,IF(C22>1,C$3-C22+1+C$3,IF(C22<1,\"\")))","v":""},"","","","","","","","","","","","","",""]
[{"$f":"CONCATENATE('Skippers List'!B34,\" \",'Skippers List'!C34)","v":" "},"",null,null,null,null,null,null,null,null,null,null,null,null,null,null,null,"",null,null,null,null,null,null,null,"","","","","","","","","","","","","","",""]

{"sheet":"6-27-18","index":9,"n_rows":23,"n_cols":40,"rows_kept":23,"cut":false,"hidden":false,"merged":[]}
["Day Sailer Racing "]
[{"$f":"'6-20-18'!A2+7","v":"2018-06-27"},"Race # ->",{"$f":"IF(COUNT(C4:C23)>0,1,\"\")","v":""},{"$f":"IF(COUNT(D4:D23)>0,1+C2,\"\")","v":""},"","","","","","","","","","","","","","Grand Total",null,null,null,null,null,null,"Race # ->",{"$f":"IF(COUNT(Z4:Z23)>0,1,\"\")","v":""},{"$f":"IF(COUNT(AA4:AA23)>0,1+Z2,\"\")","v":""},"","","","","","","","","","","","",""]
["Skipper/Sail Number"," # of boats -->  Ranking Below",{"$f":"COUNT(C4:C23)","v":0},{"$f":"COUNT(D4:D23)","v":0},0,0,0,0,0,0,0,0,0,0,0,0,0,"Points"]
[{"$f":"CONCATENATE('Skippers List'!B15,\" \",'Skippers List'!C15)","v":"1041 Bryn Hawklove"},{"$f":"IF(R4<>\"\",_xlfn.RANK.EQ(R4,$R$4:$R$23,0),\"\")","v":""},null,null,null,null,null,null,null,null,null,null,null,null,null,null,null,{"$f":"IF(SUM(Z4:AN4)>0,SUM(Z4:AN4),\"\")","v":""},null,null,null,null,null,null,null,{"$f":"IF(C4=1,C$3-C4+1+C$3+0.5,IF(C4>1,C$3-C4+1+C$3,IF(C4<1,\"\")))","v":""},"","","","","","","","","","","","","",""]
[{"$f":"CONCATENATE('Skippers List'!B16,\" \",'Skippers List'!C16)","v":"2753 Gene McNurlen"},{"$f":"IF(R5<>\"\",_xlfn.RANK.EQ(R5,$R$4:$R$23,0),\"\")","v":""},null,null,null,null,null,null,null,null,null,null,null,null,null,null,null,{"$f":"IF(SUM(Z5:AN5)>0,SUM(Z5:AN5),\"\")","v":""},null,null,null,null,null,null,null,{"$f":"IF(C5=1,C$3-C5+1+C$3+0.5,IF(C5>1,C$3-C5+1+C$3,IF(C5<1,\"\")))","v":""},"","","","","","","","","","","","","",""]
[{"$f":"CONCATENATE('Skippers List'!B17,\" \",'Skippers List'!C17)","v":"3011 Karl Maas"},"",null,null,null,null,null,null,null,null,null,null,null,null,null,null,null,"",null,null,null,null,null,null,null,"","","","","","","","","","","","","","",""]
[{"$f":"CONCATENATE('Skippers List'!B18,\" \",'Skippers List'!C18)","v":"3097 Jon Feist"},"",null,null,null,null,null,null,null,null,null,null,null,null,null,null,null,"",null,null,null,null,null,null,null,"","","","","","","","","","","","","","",""]
[{"$f":"CONCATENATE('Skippers List'!B19,\" \",'Skippers List'!C19)","v":"4836 Nate Melby"},"",null,null,null,null,null,null,null,null,null,null,null,null,null,null,null,"",null,null,null,null,null,null,null,"","","","","","","","","","","","","","",""]
[{"$f":"CONCATENATE('Skippers List'!B20,\" \",'Skippers List'!C20)","v":"5251 Jordan Cerney"},"",null,null,null,null,null,null,null,null,null,null,null,null,null,null,null,"",null,null,null,null,null,null,null,"","","","","","","","","","","","","","",""]
[{"$f":"CONCATENATE('Skippers List'!B21,\" \",'Skippers List'!C21)","v":"11062 Dave Vind"},"",null,null,null,null,null,null,null,null,null,null,null,null,null,null,null,"",null,null,null,null,null,null,null,"","","","","","","","","","","","","","",""]
[{"$f":"CONCATENATE('Skippers List'!B22,\" \",'Skippers List'!C22)","v":"11791 Stephen Taylor"},"",null,null,null,null,null,null,null,null,null,null,null,null,null,null,null,"",null,null,null,null,null,null,null,"","","","","","","","","","","","","","",""]
[{"$f":"CONCATENATE('Skippers List'!B23,\" \",'Skippers List'!C23)","v":"13030 Lee Peterson"},"",null,null,null,null,null,null,null,null,null,null,null,null,null,null,null,"",null,null,null,null,null,null,null,"","","","","","","","","","","","","","",""]
[{"$f":"CONCATENATE('Skippers List'!B24,\" \",'Skippers List'!C24)","v":" "},"",null,null,null,null,null,null,null,null,null,null,null,null,null,null,null,"",null,null,null,null,null,null,null,"","","","","","","","","","","","","","",""]
[{"$f":"CONCATENATE('Skippers List'!B25,\" \",'Skippers List'!C25)","v":" "},"",null,null,null,null,null,null,null,null,null,null,null,null,null,null,null,"",null,null,null,null,null,null,null,"","","","","","","","","","","","","","",""]
[{"$f":"CONCATENATE('Skippers List'!B26,\" \",'Skippers List'!C26)","v":" "},"",null,null,null,null,null,null,null,null,null,null,null,null,null,null,null,"",null,null,null,null,null,null,null,"","","","","","","","","","","","","","",""]
[{"$f":"CONCATENATE('Skippers List'!B27,\" \",'Skippers List'!C27)","v":" "},"",null,null,null,null,null,null,null,null,null,null,null,null,null,null,null,"",null,null,null,null,null,null,null,"","","","","","","","","","","","","","",""]
[{"$f":"CONCATENATE('Skippers List'!B28,\" \",'Skippers List'!C28)","v":" "},"",null,null,null,null,null,null,null,null,null,null,null,null,null,null,null,"",null,null,null,null,null,null,null,"","","","","","","","","","","","","","",""]
[{"$f":"CONCATENATE('Skippers List'!B29,\" \",'Skippers List'!C29)","v":" "},"",null,null,null,null,null,null,null,null,null,null,null,null,null,null,null,"",null,null,null,null,null,null,null,"","","","","","","","","","","","","","",""]
[{"$f":"CONCATENATE('Skippers List'!B30,\" \",'Skippers List'!C30)","v":" "},"",null,null,null,null,null,null,null,null,null,null,null,null,null,null,null,"",null,null,null,null,null,null,null,"","","","","","","","","","","","","","",""]
[{"$f":"CONCATENATE('Skippers List'!B31,\" \",'Skippers List'!C31)","v":" "},"",null,null,null,null,null,null,null,null,null,null,null,null,null,null,null,"",null,null,null,null,null,null,null,"","","","","","","","","","","","","","",""]
[{"$f":"CONCATENATE('Skippers List'!B32,\" \",'Skippers List'!C32)","v":" "},"",null,null,null,null,null,null,null,null,null,null,null,null,null,null,null,"",null,null,null,null,null,null,null,"","","","","","","","","","","","","","",""]
[{"$f":"CONCATENATE('Skippers List'!B33,\" \",'Skippers List'!C33)","v":" "},"",null,null,null,null,null,null,null,null,null,null,null,null,null,null,null,"",null,null,null,null,null,null,null,{"$f":"IF(C22=1,C$3-C22+1+C$3+0.5,IF(C22>1,C$3-C22+1+C$3,IF(C22<1,\"\")))","v":""},"","","","","","","","","","","","","",""]
[{"$f":"CONCATENATE('Skippers List'!B34,\" \",'Skippers List'!C34)","v":" "},"",null,null,null,null,null,null,null,null,null,null,null,null,null,null,null,"",null,null,null,null,null,null,null,"","","","","","","","","","","","","","",""]

{"sheet":"7-4-18","index":10,"n_rows":23,"n_cols":40,"rows_kept":23,"cut":false,"hidden":false,"merged":[]}
["Day Sailer Racing "]
[{"$f":"'6-27-18'!A2+7","v":"2018-07-04"},"Race # ->",{"$f":"IF(COUNT(C4:C23)>0,1,\"\")","v":""},{"$f":"IF(COUNT(D4:D23)>0,1+C2,\"\")","v":""},"","","","","","","","","","","","","","Grand Total",null,null,null,null,null,null,"Race # ->",{"$f":"IF(COUNT(Z4:Z23)>0,1,\"\")","v":""},{"$f":"IF(COUNT(AA4:AA23)>0,1+Z2,\"\")","v":""},"","","","","","","","","","","","",""]
["Skipper/Sail Number"," # of boats -->  Ranking Below",{"$f":"COUNT(C4:C23)","v":0},{"$f":"COUNT(D4:D23)","v":0},0,0,0,0,0,0,0,0,0,0,0,0,0,"Points"]
[{"$f":"CONCATENATE('Skippers List'!B15,\" \",'Skippers List'!C15)","v":"1041 Bryn Hawklove"},{"$f":"IF(R4<>\"\",_xlfn.RANK.EQ(R4,$R$4:$R$23,0),\"\")","v":""},null,null,null,null,null,null,null,null,null,null,null,null,null,null,null,{"$f":"IF(SUM(Z4:AN4)>0,SUM(Z4:AN4),\"\")","v":""},null,null,null,null,null,null,null,{"$f":"IF(C4=1,C$3-C4+1+C$3+0.5,IF(C4>1,C$3-C4+1+C$3,IF(C4<1,\"\")))","v":""},"","","","","","","","","","","","","",""]
[{"$f":"CONCATENATE('Skippers List'!B16,\" \",'Skippers List'!C16)","v":"2753 Gene McNurlen"},{"$f":"IF(R5<>\"\",_xlfn.RANK.EQ(R5,$R$4:$R$23,0),\"\")","v":""},null,null,null,null,null,null,null,null,null,null,null,null,null,null,null,{"$f":"IF(SUM(Z5:AN5)>0,SUM(Z5:AN5),\"\")","v":""},null,null,null,null,null,null,null,{"$f":"IF(C5=1,C$3-C5+1+C$3+0.5,IF(C5>1,C$3-C5+1+C$3,IF(C5<1,\"\")))","v":""},"","","","","","","","","","","","","",""]
[{"$f":"CONCATENATE('Skippers List'!B17,\" \",'Skippers List'!C17)","v":"3011 Karl Maas"},"",null,null,null,null,null,null,null,null,null,null,null,null,null,null,null,"",null,null,null,null,null,null,null,"","","","","","","","","","","","","","",""]
[{"$f":"CONCATENATE('Skippers List'!B18,\" \",'Skippers List'!C18)","v":"3097 Jon Feist"},"",null,null,null,null,null,null,null,null,null,null,null,null,null,null,null,"",null,null,null,null,null,null,null,"","","","","","","","","","","","","","",""]
[{"$f":"CONCATENATE('Skippers List'!B19,\" \",'Skippers List'!C19)","v":"4836 Nate Melby"},"",null,null,null,null,null,null,null,null,null,null,null,null,null,null,null,"",null,null,null,null,null,null,null,"","","","","","","","","","","","","","",""]
[{"$f":"CONCATENATE('Skippers List'!B20,\" \",'Skippers List'!C20)","v":"5251 Jordan Cerney"},"",null,null,null,null,null,null,null,null,null,null,null,null,null,null,null,"",null,null,null,null,null,null,null,"","","","","","","","","","","","","","",""]
[{"$f":"CONCATENATE('Skippers List'!B21,\" \",'Skippers List'!C21)","v":"11062 Dave Vind"},"",null,null,null,null,null,null,null,null,null,null,null,null,null,null,null,"",null,null,null,null,null,null,null,"","","","","","","","","","","","","","",""]
[{"$f":"CONCATENATE('Skippers List'!B22,\" \",'Skippers List'!C22)","v":"11791 Stephen Taylor"},"",null,null,null,null,null,null,null,null,null,null,null,null,null,null,null,"",null,null,null,null,null,null,null,"","","","","","","","","","","","","","",""]
[{"$f":"CONCATENATE('Skippers List'!B23,\" \",'Skippers List'!C23)","v":"13030 Lee Peterson"},"",null,null,null,null,null,null,null,null,null,null,null,null,null,null,null,"",null,null,null,null,null,null,null,"","","","","","","","","","","","","","",""]
[{"$f":"CONCATENATE('Skippers List'!B24,\" \",'Skippers List'!C24)","v":" "},"",null,null,null,null,null,null,null,null,null,null,null,null,null,null,null,"",null,null,null,null,null,null,null,"","","","","","","","","","","","","","",""]
[{"$f":"CONCATENATE('Skippers List'!B25,\" \",'Skippers List'!C25)","v":" "},"",null,null,null,null,null,null,null,null,null,null,null,null,null,null,null,"",null,null,null,null,null,null,null,"","","","","","","","","","","","","","",""]
[{"$f":"CONCATENATE('Skippers List'!B26,\" \",'Skippers List'!C26)","v":" "},"",null,null,null,null,null,null,null,null,null,null,null,null,null,null,null,"",null,null,null,null,null,null,null,"","","","","","","","","","","","","","",""]
[{"$f":"CONCATENATE('Skippers List'!B27,\" \",'Skippers List'!C27)","v":" "},"",null,null,null,null,null,null,null,null,null,null,null,null,null,null,null,"",null,null,null,null,null,null,null,"","","","","","","","","","","","","","",""]
[{"$f":"CONCATENATE('Skippers List'!B28,\" \",'Skippers List'!C28)","v":" "},"",null,null,null,null,null,null,null,null,null,null,null,null,null,null,null,"",null,null,null,null,null,null,null,"","","","","","","","","","","","","","",""]
[{"$f":"CONCATENATE('Skippers List'!B29,\" \",'Skippers List'!C29)","v":" "},"",null,null,null,null,null,null,null,null,null,null,null,null,null,null,null,"",null,null,null,null,null,null,null,"","","","","","","","","","","","","","",""]
[{"$f":"CONCATENATE('Skippers List'!B30,\" \",'Skippers List'!C30)","v":" "},"",null,null,null,null,null,null,null,null,null,null,null,null,null,null,null,"",null,null,null,null,null,null,null,"","","","","","","","","","","","","","",""]
[{"$f":"CONCATENATE('Skippers List'!B31,\" \",'Skippers List'!C31)","v":" "},"",null,null,null,null,null,null,null,null,null,null,null,null,null,null,null,"",null,null,null,null,null,null,null,"","","","","","","","","","","","","","",""]
[{"$f":"CONCATENATE('Skippers List'!B32,\" \",'Skippers List'!C32)","v":" "},"",null,null,null,null,null,null,null,null,null,null,null,null,null,null,null,"",null,null,null,null,null,null,null,"","","","","","","","","","","","","","",""]
[{"$f":"CONCATENATE('Skippers List'!B33,\" \",'Skippers List'!C33)","v":" "},"",null,null,null,null,null,null,null,null,null,null,null,null,null,null,null,"",null,null,null,null,null,null,null,{"$f":"IF(C22=1,C$3-C22+1+C$3+0.5,IF(C22>1,C$3-C22+1+C$3,IF(C22<1,\"\")))","v":""},"","","","","","","","","","","","","",""]
[{"$f":"CONCATENATE('Skippers List'!B34,\" \",'Skippers List'!C34)","v":" "},"",null,null,null,null,null,null,null,null,null,null,null,null,null,null,null,"",null,null,null,null,null,null,null,"","","","","","","","","","","","","","",""]

{"sheet":"7-11-18","index":11,"n_rows":23,"n_cols":40,"rows_kept":23,"cut":false,"hidden":false,"merged":[]}
["Day Sailer Racing "]
[{"$f":"'7-4-18'!A2+7","v":"2018-07-11"},"Race # ->",{"$f":"IF(COUNT(C4:C23)>0,1,\"\")","v":""},{"$f":"IF(COUNT(D4:D23)>0,1+C2,\"\")","v":""},"","","","","","","","","","","","","","Grand Total",null,null,null,null,null,null,"Race # ->",{"$f":"IF(COUNT(Z4:Z23)>0,1,\"\")","v":""},{"$f":"IF(COUNT(AA4:AA23)>0,1+Z2,\"\")","v":""},"","","","","","","","","","","","",""]
["Skipper/Sail Number"," # of boats -->  Ranking Below",{"$f":"COUNT(C4:C23)","v":0},{"$f":"COUNT(D4:D23)","v":0},0,0,0,0,0,0,0,0,0,0,0,0,0,"Points"]
[{"$f":"CONCATENATE('Skippers List'!B15,\" \",'Skippers List'!C15)","v":"1041 Bryn Hawklove"},{"$f":"IF(R4<>\"\",_xlfn.RANK.EQ(R4,$R$4:$R$23,0),\"\")","v":""},null,null,null,null,null,null,null,null,null,null,null,null,null,null,null,{"$f":"IF(SUM(Z4:AN4)>0,SUM(Z4:AN4),\"\")","v":""},null,null,null,null,null,null,null,{"$f":"IF(C4=1,C$3-C4+1+C$3+0.5,IF(C4>1,C$3-C4+1+C$3,IF(C4<1,\"\")))","v":""},"","","","","","","","","","","","","",""]
[{"$f":"CONCATENATE('Skippers List'!B16,\" \",'Skippers List'!C16)","v":"2753 Gene McNurlen"},{"$f":"IF(R5<>\"\",_xlfn.RANK.EQ(R5,$R$4:$R$23,0),\"\")","v":""},null,null,null,null,null,null,null,null,null,null,null,null,null,null,null,{"$f":"IF(SUM(Z5:AN5)>0,SUM(Z5:AN5),\"\")","v":""},null,null,null,null,null,null,null,{"$f":"IF(C5=1,C$3-C5+1+C$3+0.5,IF(C5>1,C$3-C5+1+C$3,IF(C5<1,\"\")))","v":""},"","","","","","","","","","","","","",""]
[{"$f":"CONCATENATE('Skippers List'!B17,\" \",'Skippers List'!C17)","v":"3011 Karl Maas"},"",null,null,null,null,null,null,null,null,null,null,null,null,null,null,null,"",null,null,null,null,null,null,null,"","","","","","","","","","","","","","",""]
[{"$f":"CONCATENATE('Skippers List'!B18,\" \",'Skippers List'!C18)","v":"3097 Jon Feist"},"",null,null,null,null,null,null,null,null,null,null,null,null,null,null,null,"",null,null,null,null,null,null,null,"","","","","","","","","","","","","","",""]
[{"$f":"CONCATENATE('Skippers List'!B19,\" \",'Skippers List'!C19)","v":"4836 Nate Melby"},"",null,null,null,null,null,null,null,null,null,null,null,null,null,null,null,"",null,null,null,null,null,null,null,"","","","","","","","","","","","","","",""]
[{"$f":"CONCATENATE('Skippers List'!B20,\" \",'Skippers List'!C20)","v":"5251 Jordan Cerney"},"",null,null,null,null,null,null,null,null,null,null,null,null,null,null,null,"",null,null,null,null,null,null,null,"","","","","","","","","","","","","","",""]
[{"$f":"CONCATENATE('Skippers List'!B21,\" \",'Skippers List'!C21)","v":"11062 Dave Vind"},"",null,null,null,null,null,null,null,null,null,null,null,null,null,null,null,"",null,null,null,null,null,null,null,"","","","","","","","","","","","","","",""]
[{"$f":"CONCATENATE('Skippers List'!B22,\" \",'Skippers List'!C22)","v":"11791 Stephen Taylor"},"",null,null,null,null,null,null,null,null,null,null,null,null,null,null,null,"",null,null,null,null,null,null,null,"","","","","","","","","","","","","","",""]
[{"$f":"CONCATENATE('Skippers List'!B23,\" \",'Skippers List'!C23)","v":"13030 Lee Peterson"},"",null,null,null,null,null,null,null,null,null,null,null,null,null,null,null,"",null,null,null,null,null,null,null,"","","","","","","","","","","","","","",""]
[{"$f":"CONCATENATE('Skippers List'!B24,\" \",'Skippers List'!C24)","v":" "},"",null,null,null,null,null,null,null,null,null,null,null,null,null,null,null,"",null,null,null,null,null,null,null,"","","","","","","","","","","","","","",""]
[{"$f":"CONCATENATE('Skippers List'!B25,\" \",'Skippers List'!C25)","v":" "},"",null,null,null,null,null,null,null,null,null,null,null,null,null,null,null,"",null,null,null,null,null,null,null,"","","","","","","","","","","","","","",""]
[{"$f":"CONCATENATE('Skippers List'!B26,\" \",'Skippers List'!C26)","v":" "},"",null,null,null,null,null,null,null,null,null,null,null,null,null,null,null,"",null,null,null,null,null,null,null,"","","","","","","","","","","","","","",""]
[{"$f":"CONCATENATE('Skippers List'!B27,\" \",'Skippers List'!C27)","v":" "},"",null,null,null,null,null,null,null,null,null,null,null,null,null,null,null,"",null,null,null,null,null,null,null,"","","","","","","","","","","","","","",""]
[{"$f":"CONCATENATE('Skippers List'!B28,\" \",'Skippers List'!C28)","v":" "},"",null,null,null,null,null,null,null,null,null,null,null,null,null,null,null,"",null,null,null,null,null,null,null,"","","","","","","","","","","","","","",""]
[{"$f":"CONCATENATE('Skippers List'!B29,\" \",'Skippers List'!C29)","v":" "},"",null,null,null,null,null,null,null,null,null,null,null,null,null,null,null,"",null,null,null,null,null,null,null,"","","","","","","","","","","","","","",""]
[{"$f":"CONCATENATE('Skippers List'!B30,\" \",'Skippers List'!C30)","v":" "},"",null,null,null,null,null,null,null,null,null,null,null,null,null,null,null,"",null,null,null,null,null,null,null,"","","","","","","","","","","","","","",""]
[{"$f":"CONCATENATE('Skippers List'!B31,\" \",'Skippers List'!C31)","v":" "},"",null,null,null,null,null,null,null,null,null,null,null,null,null,null,null,"",null,null,null,null,null,null,null,"","","","","","","","","","","","","","",""]
[{"$f":"CONCATENATE('Skippers List'!B32,\" \",'Skippers List'!C32)","v":" "},"",null,null,null,null,null,null,null,null,null,null,null,null,null,null,null,"",null,null,null,null,null,null,null,"","","","","","","","","","","","","","",""]
[{"$f":"CONCATENATE('Skippers List'!B33,\" \",'Skippers List'!C33)","v":" "},"",null,null,null,null,null,null,null,null,null,null,null,null,null,null,null,"",null,null,null,null,null,null,null,{"$f":"IF(C22=1,C$3-C22+1+C$3+0.5,IF(C22>1,C$3-C22+1+C$3,IF(C22<1,\"\")))","v":""},"","","","","","","","","","","","","",""]
[{"$f":"CONCATENATE('Skippers List'!B34,\" \",'Skippers List'!C34)","v":" "},"",null,null,null,null,null,null,null,null,null,null,null,null,null,null,null,"",null,null,null,null,null,null,null,"","","","","","","","","","","","","","",""]

{"sheet":"7-18-18","index":12,"n_rows":23,"n_cols":40,"rows_kept":23,"cut":false,"hidden":false,"merged":[]}
["Day Sailer Racing "]
[{"$f":"+'7-11-18'!A2+7","v":"2018-07-18"},"Race # ->",{"$f":"IF(COUNT(C4:C23)>0,1,\"\")","v":""},{"$f":"IF(COUNT(D4:D23)>0,1+C2,\"\")","v":""},"","","","","","","","","","","","","","Grand Total",null,null,null,null,null,null,"Race # ->",{"$f":"IF(COUNT(Z4:Z23)>0,1,\"\")","v":""},{"$f":"IF(COUNT(AA4:AA23)>0,1+Z2,\"\")","v":""},"","","","","","","","","","","","",""]
["Skipper/Sail Number"," # of boats -->  Ranking Below",{"$f":"COUNT(C4:C23)","v":0},{"$f":"COUNT(D4:D23)","v":0},0,0,0,0,0,0,0,0,0,0,0,0,0,"Points"]
[{"$f":"CONCATENATE('Skippers List'!B15,\" \",'Skippers List'!C15)","v":"1041 Bryn Hawklove"},{"$f":"IF(R4<>\"\",_xlfn.RANK.EQ(R4,$R$4:$R$23,0),\"\")","v":""},null,null,null,null,null,null,null,null,null,null,null,null,null,null,null,{"$f":"IF(SUM(Z4:AN4)>0,SUM(Z4:AN4),\"\")","v":""},null,null,null,null,null,null,null,{"$f":"IF(C4=1,C$3-C4+1+C$3+0.5,IF(C4>1,C$3-C4+1+C$3,IF(C4<1,\"\")))","v":""},"","","","","","","","","","","","","",""]
[{"$f":"CONCATENATE('Skippers List'!B16,\" \",'Skippers List'!C16)","v":"2753 Gene McNurlen"},{"$f":"IF(R5<>\"\",_xlfn.RANK.EQ(R5,$R$4:$R$23,0),\"\")","v":""},null,null,null,null,null,null,null,null,null,null,null,null,null,null,null,{"$f":"IF(SUM(Z5:AN5)>0,SUM(Z5:AN5),\"\")","v":""},null,null,null,null,null,null,null,{"$f":"IF(C5=1,C$3-C5+1+C$3+0.5,IF(C5>1,C$3-C5+1+C$3,IF(C5<1,\"\")))","v":""},"","","","","","","","","","","","","",""]
[{"$f":"CONCATENATE('Skippers List'!B17,\" \",'Skippers List'!C17)","v":"3011 Karl Maas"},"",null,null,null,null,null,null,null,null,null,null,null,null,null,null,null,"",null,null,null,null,null,null,null,"","","","","","","","","","","","","","",""]
[{"$f":"CONCATENATE('Skippers List'!B18,\" \",'Skippers List'!C18)","v":"3097 Jon Feist"},"",null,null,null,null,null,null,null,null,null,null,null,null,null,null,null,"",null,null,null,null,null,null,null,"","","","","","","","","","","","","","",""]
[{"$f":"CONCATENATE('Skippers List'!B19,\" \",'Skippers List'!C19)","v":"4836 Nate Melby"},"",null,null,null,null,null,null,null,null,null,null,null,null,null,null,null,"",null,null,null,null,null,null,null,"","","","","","","","","","","","","","",""]
[{"$f":"CONCATENATE('Skippers List'!B20,\" \",'Skippers List'!C20)","v":"5251 Jordan Cerney"},"",null,null,null,null,null,null,null,null,null,null,null,null,null,null,null,"",null,null,null,null,null,null,null,"","","","","","","","","","","","","","",""]
[{"$f":"CONCATENATE('Skippers List'!B21,\" \",'Skippers List'!C21)","v":"11062 Dave Vind"},"",null,null,null,null,null,null,null,null,null,null,null,null,null,null,null,"",null,null,null,null,null,null,null,"","","","","","","","","","","","","","",""]
[{"$f":"CONCATENATE('Skippers List'!B22,\" \",'Skippers List'!C22)","v":"11791 Stephen Taylor"},"",null,null,null,null,null,null,null,null,null,null,null,null,null,null,null,"",null,null,null,null,null,null,null,"","","","","","","","","","","","","","",""]
[{"$f":"CONCATENATE('Skippers List'!B23,\" \",'Skippers List'!C23)","v":"13030 Lee Peterson"},"",null,null,null,null,null,null,null,null,null,null,null,null,null,null,null,"",null,null,null,null,null,null,null,"","","","","","","","","","","","","","",""]
[{"$f":"CONCATENATE('Skippers List'!B24,\" \",'Skippers List'!C24)","v":" "},"",null,null,null,null,null,null,null,null,null,null,null,null,null,null,null,"",null,null,null,null,null,null,null,"","","","","","","","","","","","","","",""]
[{"$f":"CONCATENATE('Skippers List'!B25,\" \",'Skippers List'!C25)","v":" "},"",null,null,null,null,null,null,null,null,null,null,null,null,null,null,null,"",null,null,null,null,null,null,null,"","","","","","","","","","","","","","",""]
[{"$f":"CONCATENATE('Skippers List'!B26,\" \",'Skippers List'!C26)","v":" "},"",null,null,null,null,null,null,null,null,null,null,null,null,null,null,null,"",null,null,null,null,null,null,null,"","","","","","","","","","","","","","",""]
[{"$f":"CONCATENATE('Skippers List'!B27,\" \",'Skippers List'!C27)","v":" "},"",null,null,null,null,null,null,null,null,null,null,null,null,null,null,null,"",null,null,null,null,null,null,null,"","","","","","","","","","","","","","",""]
[{"$f":"CONCATENATE('Skippers List'!B28,\" \",'Skippers List'!C28)","v":" "},"",null,null,null,null,null,null,null,null,null,null,null,null,null,null,null,"",null,null,null,null,null,null,null,"","","","","","","","","","","","","","",""]
[{"$f":"CONCATENATE('Skippers List'!B29,\" \",'Skippers List'!C29)","v":" "},"",null,null,null,null,null,null,null,null,null,null,null,null,null,null,null,"",null,null,null,null,null,null,null,"","","","","","","","","","","","","","",""]
[{"$f":"CONCATENATE('Skippers List'!B30,\" \",'Skippers List'!C30)","v":" "},"",null,null,null,null,null,null,null,null,null,null,null,null,null,null,null,"",null,null,null,null,null,null,null,"","","","","","","","","","","","","","",""]
[{"$f":"CONCATENATE('Skippers List'!B31,\" \",'Skippers List'!C31)","v":" "},"",null,null,null,null,null,null,null,null,null,null,null,null,null,null,null,"",null,null,null,null,null,null,null,"","","","","","","","","","","","","","",""]
[{"$f":"CONCATENATE('Skippers List'!B32,\" \",'Skippers List'!C32)","v":" "},"",null,null,null,null,null,null,null,null,null,null,null,null,null,null,null,"",null,null,null,null,null,null,null,"","","","","","","","","","","","","","",""]
[{"$f":"CONCATENATE('Skippers List'!B33,\" \",'Skippers List'!C33)","v":" "},"",null,null,null,null,null,null,null,null,null,null,null,null,null,null,null,"",null,null,null,null,null,null,null,{"$f":"IF(C22=1,C$3-C22+1+C$3+0.5,IF(C22>1,C$3-C22+1+C$3,IF(C22<1,\"\")))","v":""},"","","","","","","","","","","","","",""]
[{"$f":"CONCATENATE('Skippers List'!B34,\" \",'Skippers List'!C34)","v":" "},"",null,null,null,null,null,null,null,null,null,null,null,null,null,null,null,"",null,null,null,null,null,null,null,"","","","","","","","","","","","","","",""]

{"sheet":"7-25-18","index":13,"n_rows":23,"n_cols":40,"rows_kept":23,"cut":false,"hidden":false,"merged":[]}
["Day Sailer Racing "]
[{"$f":"'7-18-18'!A2+7","v":"2018-07-25"},"Race # ->",{"$f":"IF(COUNT(C4:C23)>0,1,\"\")","v":""},{"$f":"IF(COUNT(D4:D23)>0,1+C2,\"\")","v":""},"","","","","","","","","","","","","","Grand Total",null,null,null,null,null,null,"Race # ->",{"$f":"IF(COUNT(Z4:Z23)>0,1,\"\")","v":""},{"$f":"IF(COUNT(AA4:AA23)>0,1+Z2,\"\")","v":""},"","","","","","","","","","","","",""]
["Skipper/Sail Number"," # of boats -->  Ranking Below",{"$f":"COUNT(C4:C23)","v":0},{"$f":"COUNT(D4:D23)","v":0},0,0,0,0,0,0,0,0,0,0,0,0,0,"Points"]
[{"$f":"CONCATENATE('Skippers List'!B15,\" \",'Skippers List'!C15)","v":"1041 Bryn Hawklove"},{"$f":"IF(R4<>\"\",_xlfn.RANK.EQ(R4,$R$4:$R$23,0),\"\")","v":""},null,null,null,null,null,null,null,null,null,null,null,null,null,null,null,{"$f":"IF(SUM(Z4:AN4)>0,SUM(Z4:AN4),\"\")","v":""},null,null,null,null,null,null,null,{"$f":"IF(C4=1,C$3-C4+1+C$3+0.5,IF(C4>1,C$3-C4+1+C$3,IF(C4<1,\"\")))","v":""},"","","","","","","","","","","","","",""]
[{"$f":"CONCATENATE('Skippers List'!B16,\" \",'Skippers List'!C16)","v":"2753 Gene McNurlen"},{"$f":"IF(R5<>\"\",_xlfn.RANK.EQ(R5,$R$4:$R$23,0),\"\")","v":""},null,null,null,null,null,null,null,null,null,null,null,null,null,null,null,{"$f":"IF(SUM(Z5:AN5)>0,SUM(Z5:AN5),\"\")","v":""},null,null,null,null,null,null,null,{"$f":"IF(C5=1,C$3-C5+1+C$3+0.5,IF(C5>1,C$3-C5+1+C$3,IF(C5<1,\"\")))","v":""},"","","","","","","","","","","","","",""]
[{"$f":"CONCATENATE('Skippers List'!B17,\" \",'Skippers List'!C17)","v":"3011 Karl Maas"},"",null,null,null,null,null,null,null,null,null,null,null,null,null,null,null,"",null,null,null,null,null,null,null,"","","","","","","","","","","","","","",""]
[{"$f":"CONCATENATE('Skippers List'!B18,\" \",'Skippers List'!C18)","v":"3097 Jon Feist"},"",null,null,null,null,null,null,null,null,null,null,null,null,null,null,null,"",null,null,null,null,null,null,null,"","","","","","","","","","","","","","",""]
[{"$f":"CONCATENATE('Skippers List'!B19,\" \",'Skippers List'!C19)","v":"4836 Nate Melby"},"",null,null,null,null,null,null,null,null,null,null,null,null,null,null,null,"",null,null,null,null,null,null,null,"","","","","","","","","","","","","","",""]
[{"$f":"CONCATENATE('Skippers List'!B20,\" \",'Skippers List'!C20)","v":"5251 Jordan Cerney"},"",null,null,null,null,null,null,null,null,null,null,null,null,null,null,null,"",null,null,null,null,null,null,null,"","","","","","","","","","","","","","",""]
[{"$f":"CONCATENATE('Skippers List'!B21,\" \",'Skippers List'!C21)","v":"11062 Dave Vind"},"",null,null,null,null,null,null,null,null,null,null,null,null,null,null,null,"",null,null,null,null,null,null,null,"","","","","","","","","","","","","","",""]
[{"$f":"CONCATENATE('Skippers List'!B22,\" \",'Skippers List'!C22)","v":"11791 Stephen Taylor"},"",null,null,null,null,null,null,null,null,null,null,null,null,null,null,null,"",null,null,null,null,null,null,null,"","","","","","","","","","","","","","",""]
[{"$f":"CONCATENATE('Skippers List'!B23,\" \",'Skippers List'!C23)","v":"13030 Lee Peterson"},"",null,null,null,null,null,null,null,null,null,null,null,null,null,null,null,"",null,null,null,null,null,null,null,"","","","","","","","","","","","","","",""]
[{"$f":"CONCATENATE('Skippers List'!B24,\" \",'Skippers List'!C24)","v":" "},"",null,null,null,null,null,null,null,null,null,null,null,null,null,null,null,"",null,null,null,null,null,null,null,"","","","","","","","","","","","","","",""]
[{"$f":"CONCATENATE('Skippers List'!B25,\" \",'Skippers List'!C25)","v":" "},"",null,null,null,null,null,null,null,null,null,null,null,null,null,null,null,"",null,null,null,null,null,null,null,"","","","","","","","","","","","","","",""]
[{"$f":"CONCATENATE('Skippers List'!B26,\" \",'Skippers List'!C26)","v":" "},"",null,null,null,null,null,null,null,null,null,null,null,null,null,null,null,"",null,null,null,null,null,null,null,"","","","","","","","","","","","","","",""]
[{"$f":"CONCATENATE('Skippers List'!B27,\" \",'Skippers List'!C27)","v":" "},"",null,null,null,null,null,null,null,null,null,null,null,null,null,null,null,"",null,null,null,null,null,null,null,"","","","","","","","","","","","","","",""]
[{"$f":"CONCATENATE('Skippers List'!B28,\" \",'Skippers List'!C28)","v":" "},"",null,null,null,null,null,null,null,null,null,null,null,null,null,null,null,"",null,null,null,null,null,null,null,"","","","","","","","","","","","","","",""]
[{"$f":"CONCATENATE('Skippers List'!B29,\" \",'Skippers List'!C29)","v":" "},"",null,null,null,null,null,null,null,null,null,null,null,null,null,null,null,"",null,null,null,null,null,null,null,"","","","","","","","","","","","","","",""]
[{"$f":"CONCATENATE('Skippers List'!B30,\" \",'Skippers List'!C30)","v":" "},"",null,null,null,null,null,null,null,null,null,null,null,null,null,null,null,"",null,null,null,null,null,null,null,"","","","","","","","","","","","","","",""]
[{"$f":"CONCATENATE('Skippers List'!B31,\" \",'Skippers List'!C31)","v":" "},"",null,null,null,null,null,null,null,null,null,null,null,null,null,null,null,"",null,null,null,null,null,null,null,"","","","","","","","","","","","","","",""]
[{"$f":"CONCATENATE('Skippers List'!B32,\" \",'Skippers List'!C32)","v":" "},"",null,null,null,null,null,null,null,null,null,null,null,null,null,null,null,"",null,null,null,null,null,null,null,"","","","","","","","","","","","","","",""]
[{"$f":"CONCATENATE('Skippers List'!B33,\" \",'Skippers List'!C33)","v":" "},"",null,null,null,null,null,null,null,null,null,null,null,null,null,null,null,"",null,null,null,null,null,null,null,{"$f":"IF(C22=1,C$3-C22+1+C$3+0.5,IF(C22>1,C$3-C22+1+C$3,IF(C22<1,\"\")))","v":""},"","","","","","","","","","","","","",""]
[{"$f":"CONCATENATE('Skippers List'!B34,\" \",'Skippers List'!C34)","v":" "},"",null,null,null,null,null,null,null,null,null,null,null,null,null,null,null,"",null,null,null,null,null,null,null,"","","","","","","","","","","","","","",""]

{"sheet":"8-1-18","index":14,"n_rows":23,"n_cols":40,"rows_kept":23,"cut":false,"hidden":false,"merged":[]}
["Day Sailer Racing "]
[{"$f":"'7-25-18'!A2+7","v":"2018-08-01"},"Race # ->",{"$f":"IF(COUNT(C4:C23)>0,1,\"\")","v":""},{"$f":"IF(COUNT(D4:D23)>0,1+C2,\"\")","v":""},"","","","","","","","","","","","","","Grand Total",null,null,null,null,null,null,"Race # ->",{"$f":"IF(COUNT(Z4:Z23)>0,1,\"\")","v":""},{"$f":"IF(COUNT(AA4:AA23)>0,1+Z2,\"\")","v":""},"","","","","","","","","","","","",""]
["Skipper/Sail Number"," # of boats -->  Ranking Below",{"$f":"COUNT(C4:C23)","v":0},{"$f":"COUNT(D4:D23)","v":0},0,0,0,0,0,0,0,0,0,0,0,0,0,"Points"]
[{"$f":"CONCATENATE('Skippers List'!B15,\" \",'Skippers List'!C15)","v":"1041 Bryn Hawklove"},{"$f":"IF(R4<>\"\",_xlfn.RANK.EQ(R4,$R$4:$R$23,0),\"\")","v":""},null,null,null,null,null,null,null,null,null,null,null,null,null,null,null,{"$f":"IF(SUM(Z4:AN4)>0,SUM(Z4:AN4),\"\")","v":""},null,null,null,null,null,null,null,{"$f":"IF(C4=1,C$3-C4+1+C$3+0.5,IF(C4>1,C$3-C4+1+C$3,IF(C4<1,\"\")))","v":""},"","","","","","","","","","","","","",""]
[{"$f":"CONCATENATE('Skippers List'!B16,\" \",'Skippers List'!C16)","v":"2753 Gene McNurlen"},{"$f":"IF(R5<>\"\",_xlfn.RANK.EQ(R5,$R$4:$R$23,0),\"\")","v":""},null,null,null,null,null,null,null,null,null,null,null,null,null,null,null,{"$f":"IF(SUM(Z5:AN5)>0,SUM(Z5:AN5),\"\")","v":""},null,null,null,null,null,null,null,{"$f":"IF(C5=1,C$3-C5+1+C$3+0.5,IF(C5>1,C$3-C5+1+C$3,IF(C5<1,\"\")))","v":""},"","","","","","","","","","","","","",""]
[{"$f":"CONCATENATE('Skippers List'!B17,\" \",'Skippers List'!C17)","v":"3011 Karl Maas"},"",null,null,null,null,null,null,null,null,null,null,null,null,null,null,null,"",null,null,null,null,null,null,null,"","","","","","","","","","","","","","",""]
[{"$f":"CONCATENATE('Skippers List'!B18,\" \",'Skippers List'!C18)","v":"3097 Jon Feist"},"",null,null,null,null,null,null,null,null,null,null,null,null,null,null,null,"",null,null,null,null,null,null,null,"","","","","","","","","","","","","","",""]
[{"$f":"CONCATENATE('Skippers List'!B19,\" \",'Skippers List'!C19)","v":"4836 Nate Melby"},"",null,null,null,null,null,null,null,null,null,null,null,null,null,null,null,"",null,null,null,null,null,null,null,"","","","","","","","","","","","","","",""]
[{"$f":"CONCATENATE('Skippers List'!B20,\" \",'Skippers List'!C20)","v":"5251 Jordan Cerney"},"",null,null,null,null,null,null,null,null,null,null,null,null,null,null,null,"",null,null,null,null,null,null,null,"","","","","","","","","","","","","","",""]
[{"$f":"CONCATENATE('Skippers List'!B21,\" \",'Skippers List'!C21)","v":"11062 Dave Vind"},"",null,null,null,null,null,null,null,null,null,null,null,null,null,null,null,"",null,null,null,null,null,null,null,"","","","","","","","","","","","","","",""]
[{"$f":"CONCATENATE('Skippers List'!B22,\" \",'Skippers List'!C22)","v":"11791 Stephen Taylor"},"",null,null,null,null,null,null,null,null,null,null,null,null,null,null,null,"",null,null,null,null,null,null,null,"","","","","","","","","","","","","","",""]
[{"$f":"CONCATENATE('Skippers List'!B23,\" \",'Skippers List'!C23)","v":"13030 Lee Peterson"},"",null,null,null,null,null,null,null,null,null,null,null,null,null,null,null,"",null,null,null,null,null,null,null,"","","","","","","","","","","","","","",""]
[{"$f":"CONCATENATE('Skippers List'!B24,\" \",'Skippers List'!C24)","v":" "},"",null,null,null,null,null,null,null,null,null,null,null,null,null,null,null,"",null,null,null,null,null,null,null,"","","","","","","","","","","","","","",""]
[{"$f":"CONCATENATE('Skippers List'!B25,\" \",'Skippers List'!C25)","v":" "},"",null,null,null,null,null,null,null,null,null,null,null,null,null,null,null,"",null,null,null,null,null,null,null,"","","","","","","","","","","","","","",""]
[{"$f":"CONCATENATE('Skippers List'!B26,\" \",'Skippers List'!C26)","v":" "},"",null,null,null,null,null,null,null,null,null,null,null,null,null,null,null,"",null,null,null,null,null,null,null,"","","","","","","","","","","","","","",""]
[{"$f":"CONCATENATE('Skippers List'!B27,\" \",'Skippers List'!C27)","v":" "},"",null,null,null,null,null,null,null,null,null,null,null,null,null,null,null,"",null,null,null,null,null,null,null,"","","","","","","","","","","","","","",""]
[{"$f":"CONCATENATE('Skippers List'!B28,\" \",'Skippers List'!C28)","v":" "},"",null,null,null,null,null,null,null,null,null,null,null,null,null,null,null,"",null,null,null,null,null,null,null,"","","","","","","","","","","","","","",""]
[{"$f":"CONCATENATE('Skippers List'!B29,\" \",'Skippers List'!C29)","v":" "},"",null,null,null,null,null,null,null,null,null,null,null,null,null,null,null,"",null,null,null,null,null,null,null,"","","","","","","","","","","","","","",""]
[{"$f":"CONCATENATE('Skippers List'!B30,\" \",'Skippers List'!C30)","v":" "},"",null,null,null,null,null,null,null,null,null,null,null,null,null,null,null,"",null,null,null,null,null,null,null,"","","","","","","","","","","","","","",""]
[{"$f":"CONCATENATE('Skippers List'!B31,\" \",'Skippers List'!C31)","v":" "},"",null,null,null,null,null,null,null,null,null,null,null,null,null,null,null,"",null,null,null,null,null,null,null,"","","","","","","","","","","","","","",""]
[{"$f":"CONCATENATE('Skippers List'!B32,\" \",'Skippers List'!C32)","v":" "},"",null,null,null,null,null,null,null,null,null,null,null,null,null,null,null,"",null,null,null,null,null,null,null,"","","","","","","","","","","","","","",""]
[{"$f":"CONCATENATE('Skippers List'!B33,\" \",'Skippers List'!C33)","v":" "},"",null,null,null,null,null,null,null,null,null,null,null,null,null,null,null,"",null,null,null,null,null,null,null,{"$f":"IF(C22=1,C$3-C22+1+C$3+0.5,IF(C22>1,C$3-C22+1+C$3,IF(C22<1,\"\")))","v":""},"","","","","","","","","","","","","",""]
[{"$f":"CONCATENATE('Skippers List'!B34,\" \",'Skippers List'!C34)","v":" "},"",null,null,null,null,null,null,null,null,null,null,null,null,null,null,null,"",null,null,null,null,null,null,null,"","","","","","","","","","","","","","",""]

{"sheet":"8-8-18","index":15,"n_rows":23,"n_cols":40,"rows_kept":23,"cut":false,"hidden":false,"merged":[]}
["Day Sailer Racing "]
[{"$f":"'8-1-18'!A2+7","v":"2018-08-08"},"Race # ->",{"$f":"IF(COUNT(C4:C23)>0,1,\"\")","v":""},{"$f":"IF(COUNT(D4:D23)>0,1+C2,\"\")","v":""},"","","","","","","","","","","","","","Grand Total",null,null,null,null,null,null,"Race # ->",{"$f":"IF(COUNT(Z4:Z23)>0,1,\"\")","v":""},{"$f":"IF(COUNT(AA4:AA23)>0,1+Z2,\"\")","v":""},"","","","","","","","","","","","",""]
["Skipper/Sail Number"," # of boats -->  Ranking Below",{"$f":"COUNT(C4:C23)","v":0},{"$f":"COUNT(D4:D23)","v":0},0,0,0,0,0,0,0,0,0,0,0,0,0,"Points"]
[{"$f":"CONCATENATE('Skippers List'!B15,\" \",'Skippers List'!C15)","v":"1041 Bryn Hawklove"},{"$f":"IF(R4<>\"\",_xlfn.RANK.EQ(R4,$R$4:$R$23,0),\"\")","v":""},null,null,null,null,null,null,null,null,null,null,null,null,null,null,null,{"$f":"IF(SUM(Z4:AN4)>0,SUM(Z4:AN4),\"\")","v":""},null,null,null,null,null,null,null,{"$f":"IF(C4=1,C$3-C4+1+C$3+0.5,IF(C4>1,C$3-C4+1+C$3,IF(C4<1,\"\")))","v":""},"","","","","","","","","","","","","",""]
[{"$f":"CONCATENATE('Skippers List'!B16,\" \",'Skippers List'!C16)","v":"2753 Gene McNurlen"},{"$f":"IF(R5<>\"\",_xlfn.RANK.EQ(R5,$R$4:$R$23,0),\"\")","v":""},null,null,null,null,null,null,null,null,null,null,null,null,null,null,null,{"$f":"IF(SUM(Z5:AN5)>0,SUM(Z5:AN5),\"\")","v":""},null,null,null,null,null,null,null,{"$f":"IF(C5=1,C$3-C5+1+C$3+0.5,IF(C5>1,C$3-C5+1+C$3,IF(C5<1,\"\")))","v":""},"","","","","","","","","","","","","",""]
[{"$f":"CONCATENATE('Skippers List'!B17,\" \",'Skippers List'!C17)","v":"3011 Karl Maas"},"",null,null,null,null,null,null,null,null,null,null,null,null,null,null,null,"",null,null,null,null,null,null,null,"","","","","","","","","","","","","","",""]
[{"$f":"CONCATENATE('Skippers List'!B18,\" \",'Skippers List'!C18)","v":"3097 Jon Feist"},"",null,null,null,null,null,null,null,null,null,null,null,null,null,null,null,"",null,null,null,null,null,null,null,"","","","","","","","","","","","","","",""]
[{"$f":"CONCATENATE('Skippers List'!B19,\" \",'Skippers List'!C19)","v":"4836 Nate Melby"},"",null,null,null,null,null,null,null,null,null,null,null,null,null,null,null,"",null,null,null,null,null,null,null,"","","","","","","","","","","","","","",""]
[{"$f":"CONCATENATE('Skippers List'!B20,\" \",'Skippers List'!C20)","v":"5251 Jordan Cerney"},"",null,null,null,null,null,null,null,null,null,null,null,null,null,null,null,"",null,null,null,null,null,null,null,"","","","","","","","","","","","","","",""]
[{"$f":"CONCATENATE('Skippers List'!B21,\" \",'Skippers List'!C21)","v":"11062 Dave Vind"},"",null,null,null,null,null,null,null,null,null,null,null,null,null,null,null,"",null,null,null,null,null,null,null,"","","","","","","","","","","","","","",""]
[{"$f":"CONCATENATE('Skippers List'!B22,\" \",'Skippers List'!C22)","v":"11791 Stephen Taylor"},"",null,null,null,null,null,null,null,null,null,null,null,null,null,null,null,"",null,null,null,null,null,null,null,"","","","","","","","","","","","","","",""]
[{"$f":"CONCATENATE('Skippers List'!B23,\" \",'Skippers List'!C23)","v":"13030 Lee Peterson"},"",null,null,null,null,null,null,null,null,null,null,null,null,null,null,null,"",null,null,null,null,null,null,null,"","","","","","","","","","","","","","",""]
[{"$f":"CONCATENATE('Skippers List'!B24,\" \",'Skippers List'!C24)","v":" "},"",null,null,null,null,null,null,null,null,null,null,null,null,null,null,null,"",null,null,null,null,null,null,null,"","","","","","","","","","","","","","",""]
[{"$f":"CONCATENATE('Skippers List'!B25,\" \",'Skippers List'!C25)","v":" "},"",null,null,null,null,null,null,null,null,null,null,null,null,null,null,null,"",null,null,null,null,null,null,null,"","","","","","","","","","","","","","",""]
[{"$f":"CONCATENATE('Skippers List'!B26,\" \",'Skippers List'!C26)","v":" "},"",null,null,null,null,null,null,null,null,null,null,null,null,null,null,null,"",null,null,null,null,null,null,null,"","","","","","","","","","","","","","",""]
[{"$f":"CONCATENATE('Skippers List'!B27,\" \",'Skippers List'!C27)","v":" "},"",null,null,null,null,null,null,null,null,null,null,null,null,null,null,null,"",null,null,null,null,null,null,null,"","","","","","","","","","","","","","",""]
[{"$f":"CONCATENATE('Skippers List'!B28,\" \",'Skippers List'!C28)","v":" "},"",null,null,null,null,null,null,null,null,null,null,null,null,null,null,null,"",null,null,null,null,null,null,null,"","","","","","","","","","","","","","",""]
[{"$f":"CONCATENATE('Skippers List'!B29,\" \",'Skippers List'!C29)","v":" "},"",null,null,null,null,null,null,null,null,null,null,null,null,null,null,null,"",null,null,null,null,null,null,null,"","","","","","","","","","","","","","",""]
[{"$f":"CONCATENATE('Skippers List'!B30,\" \",'Skippers List'!C30)","v":" "},"",null,null,null,null,null,null,null,null,null,null,null,null,null,null,null,"",null,null,null,null,null,null,null,"","","","","","","","","","","","","","",""]
[{"$f":"CONCATENATE('Skippers List'!B31,\" \",'Skippers List'!C31)","v":" "},"",null,null,null,null,null,null,null,null,null,null,null,null,null,null,null,"",null,null,null,null,null,null,null,"","","","","","","","","","","","","","",""]
[{"$f":"CONCATENATE('Skippers List'!B32,\" \",'Skippers List'!C32)","v":" "},"",null,null,null,null,null,null,null,null,null,null,null,null,null,null,null,"",null,null,null,null,null,null,null,"","","","","","","","","","","","","","",""]
[{"$f":"CONCATENATE('Skippers List'!B33,\" \",'Skippers List'!C33)","v":" "},"",null,null,null,null,null,null,null,null,null,null,null,null,null,null,null,"",null,null,null,null,null,null,null,{"$f":"IF(C22=1,C$3-C22+1+C$3+0.5,IF(C22>1,C$3-C22+1+C$3,IF(C22<1,\"\")))","v":""},"","","","","","","","","","","","","",""]
[{"$f":"CONCATENATE('Skippers List'!B34,\" \",'Skippers List'!C34)","v":" "},"",null,null,null,null,null,null,null,null,null,null,null,null,null,null,null,"",null,null,null,null,null,null,null,"","","","","","","","","","","","","","",""]

{"sheet":"8-15-18","index":16,"n_rows":23,"n_cols":40,"rows_kept":23,"cut":false,"hidden":false,"merged":[]}
["Day Sailer Racing "]
[{"$f":"'8-8-18'!A2+7","v":"2018-08-15"},"Race # ->",{"$f":"IF(COUNT(C4:C23)>0,1,\"\")","v":""},{"$f":"IF(COUNT(D4:D23)>0,1+C2,\"\")","v":""},"","","","","","","","","","","","","","Grand Total",null,null,null,null,null,null,"Race # ->",{"$f":"IF(COUNT(Z4:Z23)>0,1,\"\")","v":""},{"$f":"IF(COUNT(AA4:AA23)>0,1+Z2,\"\")","v":""},"","","","","","","","","","","","",""]
["Skipper/Sail Number"," # of boats -->  Ranking Below",{"$f":"COUNT(C4:C23)","v":0},{"$f":"COUNT(D4:D23)","v":0},0,0,0,0,0,0,0,0,0,0,0,0,0,"Points"]
[{"$f":"CONCATENATE('Skippers List'!B15,\" \",'Skippers List'!C15)","v":"1041 Bryn Hawklove"},{"$f":"IF(R4<>\"\",_xlfn.RANK.EQ(R4,$R$4:$R$23,0),\"\")","v":""},null,null,null,null,null,null,null,null,null,null,null,null,null,null,null,{"$f":"IF(SUM(Z4:AN4)>0,SUM(Z4:AN4),\"\")","v":""},null,null,null,null,null,null,null,{"$f":"IF(C4=1,C$3-C4+1+C$3+0.5,IF(C4>1,C$3-C4+1+C$3,IF(C4<1,\"\")))","v":""},"","","","","","","","","","","","","",""]
[{"$f":"CONCATENATE('Skippers List'!B16,\" \",'Skippers List'!C16)","v":"2753 Gene McNurlen"},{"$f":"IF(R5<>\"\",_xlfn.RANK.EQ(R5,$R$4:$R$23,0),\"\")","v":""},null,null,null,null,null,null,null,null,null,null,null,null,null,null,null,{"$f":"IF(SUM(Z5:AN5)>0,SUM(Z5:AN5),\"\")","v":""},null,null,null,null,null,null,null,{"$f":"IF(C5=1,C$3-C5+1+C$3+0.5,IF(C5>1,C$3-C5+1+C$3,IF(C5<1,\"\")))","v":""},"","","","","","","","","","","","","",""]
[{"$f":"CONCATENATE('Skippers List'!B17,\" \",'Skippers List'!C17)","v":"3011 Karl Maas"},"",null,null,null,null,null,null,null,null,null,null,null,null,null,null,null,"",null,null,null,null,null,null,null,"","","","","","","","","","","","","","",""]
[{"$f":"CONCATENATE('Skippers List'!B18,\" \",'Skippers List'!C18)","v":"3097 Jon Feist"},"",null,null,null,null,null,null,null,null,null,null,null,null,null,null,null,"",null,null,null,null,null,null,null,"","","","","","","","","","","","","","",""]
[{"$f":"CONCATENATE('Skippers List'!B19,\" \",'Skippers List'!C19)","v":"4836 Nate Melby"},"",null,null,null,null,null,null,null,null,null,null,null,null,null,null,null,"",null,null,null,null,null,null,null,"","","","","","","","","","","","","","",""]
[{"$f":"CONCATENATE('Skippers List'!B20,\" \",'Skippers List'!C20)","v":"5251 Jordan Cerney"},"",null,null,null,null,null,null,null,null,null,null,null,null,null,null,null,"",null,null,null,null,null,null,null,"","","","","","","","","","","","","","",""]
[{"$f":"CONCATENATE('Skippers List'!B21,\" \",'Skippers List'!C21)","v":"11062 Dave Vind"},"",null,null,null,null,null,null,null,null,null,null,null,null,null,null,null,"",null,null,null,null,null,null,null,"","","","","","","","","","","","","","",""]
[{"$f":"CONCATENATE('Skippers List'!B22,\" \",'Skippers List'!C22)","v":"11791 Stephen Taylor"},"",null,null,null,null,null,null,null,null,null,null,null,null,null,null,null,"",null,null,null,null,null,null,null,"","","","","","","","","","","","","","",""]
[{"$f":"CONCATENATE('Skippers List'!B23,\" \",'Skippers List'!C23)","v":"13030 Lee Peterson"},"",null,null,null,null,null,null,null,null,null,null,null,null,null,null,null,"",null,null,null,null,null,null,null,"","","","","","","","","","","","","","",""]
[{"$f":"CONCATENATE('Skippers List'!B24,\" \",'Skippers List'!C24)","v":" "},"",null,null,null,null,null,null,null,null,null,null,null,null,null,null,null,"",null,null,null,null,null,null,null,"","","","","","","","","","","","","","",""]
[{"$f":"CONCATENATE('Skippers List'!B25,\" \",'Skippers List'!C25)","v":" "},"",null,null,null,null,null,null,null,null,null,null,null,null,null,null,null,"",null,null,null,null,null,null,null,"","","","","","","","","","","","","","",""]
[{"$f":"CONCATENATE('Skippers List'!B26,\" \",'Skippers List'!C26)","v":" "},"",null,null,null,null,null,null,null,null,null,null,null,null,null,null,null,"",null,null,null,null,null,null,null,"","","","","","","","","","","","","","",""]
[{"$f":"CONCATENATE('Skippers List'!B27,\" \",'Skippers List'!C27)","v":" "},"",null,null,null,null,null,null,null,null,null,null,null,null,null,null,null,"",null,null,null,null,null,null,null,"","","","","","","","","","","","","","",""]
[{"$f":"CONCATENATE('Skippers List'!B28,\" \",'Skippers List'!C28)","v":" "},"",null,null,null,null,null,null,null,null,null,null,null,null,null,null,null,"",null,null,null,null,null,null,null,"","","","","","","","","","","","","","",""]
[{"$f":"CONCATENATE('Skippers List'!B29,\" \",'Skippers List'!C29)","v":" "},"",null,null,null,null,null,null,null,null,null,null,null,null,null,null,null,"",null,null,null,null,null,null,null,"","","","","","","","","","","","","","",""]
[{"$f":"CONCATENATE('Skippers List'!B30,\" \",'Skippers List'!C30)","v":" "},"",null,null,null,null,null,null,null,null,null,null,null,null,null,null,null,"",null,null,null,null,null,null,null,"","","","","","","","","","","","","","",""]
[{"$f":"CONCATENATE('Skippers List'!B31,\" \",'Skippers List'!C31)","v":" "},"",null,null,null,null,null,null,null,null,null,null,null,null,null,null,null,"",null,null,null,null,null,null,null,"","","","","","","","","","","","","","",""]
[{"$f":"CONCATENATE('Skippers List'!B32,\" \",'Skippers List'!C32)","v":" "},"",null,null,null,null,null,null,null,null,null,null,null,null,null,null,null,"",null,null,null,null,null,null,null,"","","","","","","","","","","","","","",""]
[{"$f":"CONCATENATE('Skippers List'!B33,\" \",'Skippers List'!C33)","v":" "},"",null,null,null,null,null,null,null,null,null,null,null,null,null,null,null,"",null,null,null,null,null,null,null,{"$f":"IF(C22=1,C$3-C22+1+C$3+0.5,IF(C22>1,C$3-C22+1+C$3,IF(C22<1,\"\")))","v":""},"","","","","","","","","","","","","",""]
[{"$f":"CONCATENATE('Skippers List'!B34,\" \",'Skippers List'!C34)","v":" "},"",null,null,null,null,null,null,null,null,null,null,null,null,null,null,null,"",null,null,null,null,null,null,null,"","","","","","","","","","","","","","",""]

{"sheet":"8-22-18","index":17,"n_rows":23,"n_cols":40,"rows_kept":23,"cut":false,"hidden":false,"merged":[]}
["Day Sailer Racing "]
[{"$f":"'8-15-18'!A2+7","v":"2018-08-22"},"Race # ->",{"$f":"IF(COUNT(C4:C23)>0,1,\"\")","v":""},{"$f":"IF(COUNT(D4:D23)>0,1+C2,\"\")","v":""},"","","","","","","","","","","","","","Grand Total",null,null,null,null,null,null,"Race # ->",{"$f":"IF(COUNT(Z4:Z23)>0,1,\"\")","v":""},{"$f":"IF(COUNT(AA4:AA23)>0,1+Z2,\"\")","v":""},"","","","","","","","","","","","",""]
["Skipper/Sail Number"," # of boats -->  Ranking Below",{"$f":"COUNT(C4:C23)","v":0},{"$f":"COUNT(D4:D23)","v":0},0,0,0,0,0,0,0,0,0,0,0,0,0,"Points"]
[{"$f":"CONCATENATE('Skippers List'!B15,\" \",'Skippers List'!C15)","v":"1041 Bryn Hawklove"},{"$f":"IF(R4<>\"\",_xlfn.RANK.EQ(R4,$R$4:$R$23,0),\"\")","v":""},null,null,null,null,null,null,null,null,null,null,null,null,null,null,null,{"$f":"IF(SUM(Z4:AN4)>0,SUM(Z4:AN4),\"\")","v":""},null,null,null,null,null,null,null,{"$f":"IF(C4=1,C$3-C4+1+C$3+0.5,IF(C4>1,C$3-C4+1+C$3,IF(C4<1,\"\")))","v":""},"","","","","","","","","","","","","",""]
[{"$f":"CONCATENATE('Skippers List'!B16,\" \",'Skippers List'!C16)","v":"2753 Gene McNurlen"},{"$f":"IF(R5<>\"\",_xlfn.RANK.EQ(R5,$R$4:$R$23,0),\"\")","v":""},null,null,null,null,null,null,null,null,null,null,null,null,null,null,null,{"$f":"IF(SUM(Z5:AN5)>0,SUM(Z5:AN5),\"\")","v":""},null,null,null,null,null,null,null,{"$f":"IF(C5=1,C$3-C5+1+C$3+0.5,IF(C5>1,C$3-C5+1+C$3,IF(C5<1,\"\")))","v":""},"","","","","","","","","","","","","",""]
[{"$f":"CONCATENATE('Skippers List'!B17,\" \",'Skippers List'!C17)","v":"3011 Karl Maas"},"",null,null,null,null,null,null,null,null,null,null,null,null,null,null,null,"",null,null,null,null,null,null,null,"","","","","","","","","","","","","","",""]
[{"$f":"CONCATENATE('Skippers List'!B18,\" \",'Skippers List'!C18)","v":"3097 Jon Feist"},"",null,null,null,null,null,null,null,null,null,null,null,null,null,null,null,"",null,null,null,null,null,null,null,"","","","","","","","","","","","","","",""]
[{"$f":"CONCATENATE('Skippers List'!B19,\" \",'Skippers List'!C19)","v":"4836 Nate Melby"},"",null,null,null,null,null,null,null,null,null,null,null,null,null,null,null,"",null,null,null,null,null,null,null,"","","","","","","","","","","","","","",""]
[{"$f":"CONCATENATE('Skippers List'!B20,\" \",'Skippers List'!C20)","v":"5251 Jordan Cerney"},"",null,null,null,null,null,null,null,null,null,null,null,null,null,null,null,"",null,null,null,null,null,null,null,"","","","","","","","","","","","","","",""]
[{"$f":"CONCATENATE('Skippers List'!B21,\" \",'Skippers List'!C21)","v":"11062 Dave Vind"},"",null,null,null,null,null,null,null,null,null,null,null,null,null,null,null,"",null,null,null,null,null,null,null,"","","","","","","","","","","","","","",""]
[{"$f":"CONCATENATE('Skippers List'!B22,\" \",'Skippers List'!C22)","v":"11791 Stephen Taylor"},"",null,null,null,null,null,null,null,null,null,null,null,null,null,null,null,"",null,null,null,null,null,null,null,"","","","","","","","","","","","","","",""]
[{"$f":"CONCATENATE('Skippers List'!B23,\" \",'Skippers List'!C23)","v":"13030 Lee Peterson"},"",null,null,null,null,null,null,null,null,null,null,null,null,null,null,null,"",null,null,null,null,null,null,null,"","","","","","","","","","","","","","",""]
[{"$f":"CONCATENATE('Skippers List'!B24,\" \",'Skippers List'!C24)","v":" "},"",null,null,null,null,null,null,null,null,null,null,null,null,null,null,null,"",null,null,null,null,null,null,null,"","","","","","","","","","","","","","",""]
[{"$f":"CONCATENATE('Skippers List'!B25,\" \",'Skippers List'!C25)","v":" "},"",null,null,null,null,null,null,null,null,null,null,null,null,null,null,null,"",null,null,null,null,null,null,null,"","","","","","","","","","","","","","",""]
[{"$f":"CONCATENATE('Skippers List'!B26,\" \",'Skippers List'!C26)","v":" "},"",null,null,null,null,null,null,null,null,null,null,null,null,null,null,null,"",null,null,null,null,null,null,null,"","","","","","","","","","","","","","",""]
[{"$f":"CONCATENATE('Skippers List'!B27,\" \",'Skippers List'!C27)","v":" "},"",null,null,null,null,null,null,null,null,null,null,null,null,null,null,null,"",null,null,null,null,null,null,null,"","","","","","","","","","","","","","",""]
[{"$f":"CONCATENATE('Skippers List'!B28,\" \",'Skippers List'!C28)","v":" "},"",null,null,null,null,null,null,null,null,null,null,null,null,null,null,null,"",null,null,null,null,null,null,null,"","","","","","","","","","","","","","",""]
[{"$f":"CONCATENATE('Skippers List'!B29,\" \",'Skippers List'!C29)","v":" "},"",null,null,null,null,null,null,null,null,null,null,null,null,null,null,null,"",null,null,null,null,null,null,null,"","","","","","","","","","","","","","",""]
[{"$f":"CONCATENATE('Skippers List'!B30,\" \",'Skippers List'!C30)","v":" "},"",null,null,null,null,null,null,null,null,null,null,null,null,null,null,null,"",null,null,null,null,null,null,null,"","","","","","","","","","","","","","",""]
[{"$f":"CONCATENATE('Skippers List'!B31,\" \",'Skippers List'!C31)","v":" "},"",null,null,null,null,null,null,null,null,null,null,null,null,null,null,null,"",null,null,null,null,null,null,null,"","","","","","","","","","","","","","",""]
[{"$f":"CONCATENATE('Skippers List'!B32,\" \",'Skippers List'!C32)","v":" "},"",null,null,null,null,null,null,null,null,null,null,null,null,null,null,null,"",null,null,null,null,null,null,null,"","","","","","","","","","","","","","",""]
[{"$f":"CONCATENATE('Skippers List'!B33,\" \",'Skippers List'!C33)","v":" "},"",null,null,null,null,null,null,null,null,null,null,null,null,null,null,null,"",null,null,null,null,null,null,null,{"$f":"IF(C22=1,C$3-C22+1+C$3+0.5,IF(C22>1,C$3-C22+1+C$3,IF(C22<1,\"\")))","v":""},"","","","","","","","","","","","","",""]
[{"$f":"CONCATENATE('Skippers List'!B34,\" \",'Skippers List'!C34)","v":" "},"",null,null,null,null,null,null,null,null,null,null,null,null,null,null,null,"",null,null,null,null,null,null,null,"","","","","","","","","","","","","","",""]

{"sheet":"8-29-18","index":18,"n_rows":23,"n_cols":40,"rows_kept":23,"cut":false,"hidden":false,"merged":[]}
["Day Sailer Racing "]
[{"$f":"'8-22-18'!A2+7","v":"2018-08-29"},"Race # ->",{"$f":"IF(COUNT(C4:C23)>0,1,\"\")","v":""},{"$f":"IF(COUNT(D4:D23)>0,1+C2,\"\")","v":""},"","","","","","","","","","","","","","Grand Total",null,null,null,null,null,null,"Race # ->",{"$f":"IF(COUNT(Z4:Z23)>0,1,\"\")","v":""},{"$f":"IF(COUNT(AA4:AA23)>0,1+Z2,\"\")","v":""},"","","","","","","","","","","","",""]
["Skipper/Sail Number"," # of boats -->  Ranking Below",{"$f":"COUNT(C4:C23)","v":0},{"$f":"COUNT(D4:D23)","v":0},0,0,0,0,0,0,0,0,0,0,0,0,0,"Points"]
[{"$f":"CONCATENATE('Skippers List'!B15,\" \",'Skippers List'!C15)","v":"1041 Bryn Hawklove"},{"$f":"IF(R4<>\"\",_xlfn.RANK.EQ(R4,$R$4:$R$23,0),\"\")","v":""},null,null,null,null,null,null,null,null,null,null,null,null,null,null,null,{"$f":"IF(SUM(Z4:AN4)>0,SUM(Z4:AN4),\"\")","v":""},null,null,null,null,null,null,null,{"$f":"IF(C4=1,C$3-C4+1+C$3+0.5,IF(C4>1,C$3-C4+1+C$3,IF(C4<1,\"\")))","v":""},"","","","","","","","","","","","","",""]
[{"$f":"CONCATENATE('Skippers List'!B16,\" \",'Skippers List'!C16)","v":"2753 Gene McNurlen"},{"$f":"IF(R5<>\"\",_xlfn.RANK.EQ(R5,$R$4:$R$23,0),\"\")","v":""},null,null,null,null,null,null,null,null,null,null,null,null,null,null,null,{"$f":"IF(SUM(Z5:AN5)>0,SUM(Z5:AN5),\"\")","v":""},null,null,null,null,null,null,null,"","","","","","","","","","","","","","",""]
[{"$f":"CONCATENATE('Skippers List'!B17,\" \",'Skippers List'!C17)","v":"3011 Karl Maas"},"",null,null,null,null,null,null,null,null,null,null,null,null,null,null,null,"",null,null,null,null,null,null,null,"","","","","","","","","","","","","","",""]
[{"$f":"CONCATENATE('Skippers List'!B18,\" \",'Skippers List'!C18)","v":"3097 Jon Feist"},"",null,null,null,null,null,null,null,null,null,null,null,null,null,null,null,"",null,null,null,null,null,null,null,"","","","","","","","","","","","","","",""]
[{"$f":"CONCATENATE('Skippers List'!B19,\" \",'Skippers List'!C19)","v":"4836 Nate Melby"},"",null,null,null,null,null,null,null,null,null,null,null,null,null,null,null,"",null,null,null,null,null,null,null,"","","","","","","","","","","","","","",""]
[{"$f":"CONCATENATE('Skippers List'!B20,\" \",'Skippers List'!C20)","v":"5251 Jordan Cerney"},"",null,null,null,null,null,null,null,null,null,null,null,null,null,null,null,"",null,null,null,null,null,null,null,"","","","","","","","","","","","","","",""]
[{"$f":"CONCATENATE('Skippers List'!B21,\" \",'Skippers List'!C21)","v":"11062 Dave Vind"},"",null,null,null,null,null,null,null,null,null,null,null,null,null,null,null,"",null,null,null,null,null,null,null,"","","","","","","","","","","","","","",""]
[{"$f":"CONCATENATE('Skippers List'!B22,\" \",'Skippers List'!C22)","v":"11791 Stephen Taylor"},"",null,null,null,null,null,null,null,null,null,null,null,null,null,null,null,"",null,null,null,null,null,null,null,"","","","","","","","","","","","","","",""]
[{"$f":"CONCATENATE('Skippers List'!B23,\" \",'Skippers List'!C23)","v":"13030 Lee Peterson"},"",null,null,null,null,null,null,null,null,null,null,null,null,null,null,null,"",null,null,null,null,null,null,null,"","","","","","","","","","","","","","",""]
[{"$f":"CONCATENATE('Skippers List'!B24,\" \",'Skippers List'!C24)","v":" "},"",null,null,null,null,null,null,null,null,null,null,null,null,null,null,null,"",null,null,null,null,null,null,null,"","","","","","","","","","","","","","",""]
[{"$f":"CONCATENATE('Skippers List'!B25,\" \",'Skippers List'!C25)","v":" "},"",null,null,null,null,null,null,null,null,null,null,null,null,null,null,null,"",null,null,null,null,null,null,null,"","","","","","","","","","","","","","",""]
[{"$f":"CONCATENATE('Skippers List'!B26,\" \",'Skippers List'!C26)","v":" "},"",null,null,null,null,null,null,null,null,null,null,null,null,null,null,null,"",null,null,null,null,null,null,null,"","","","","","","","","","","","","","",""]
[{"$f":"CONCATENATE('Skippers List'!B27,\" \",'Skippers List'!C27)","v":" "},"",null,null,null,null,null,null,null,null,null,null,null,null,null,null,null,"",null,null,null,null,null,null,null,"","","","","","","","","","","","","","",""]
[{"$f":"CONCATENATE('Skippers List'!B28,\" \",'Skippers List'!C28)","v":" "},"",null,null,null,null,null,null,null,null,null,null,null,null,null,null,null,"",null,null,null,null,null,null,null,"","","","","","","","","","","","","","",""]
[{"$f":"CONCATENATE('Skippers List'!B29,\" \",'Skippers List'!C29)","v":" "},"",null,null,null,null,null,null,null,null,null,null,null,null,null,null,null,"",null,null,null,null,null,null,null,"","","","","","","","","","","","","","",""]
[{"$f":"CONCATENATE('Skippers List'!B30,\" \",'Skippers List'!C30)","v":" "},"",null,null,null,null,null,null,null,null,null,null,null,null,null,null,null,"",null,null,null,null,null,null,null,"","","","","","","","","","","","","","",""]
[{"$f":"CONCATENATE('Skippers List'!B31,\" \",'Skippers List'!C31)","v":" "},"",null,null,null,null,null,null,null,null,null,null,null,null,null,null,null,"",null,null,null,null,null,null,null,{"$f":"IF(C20=1,C$3-C20+1+C$3+0.5,IF(C20>1,C$3-C20+1+C$3,IF(C20<1,\"\")))","v":""},"","","","","","","","","","","","","",""]
[{"$f":"CONCATENATE('Skippers List'!B32,\" \",'Skippers List'!C32)","v":" "},"",null,null,null,null,null,null,null,null,null,null,null,null,null,null,null,"",null,null,null,null,null,null,null,"","","","","","","","","","","","","","",""]
[{"$f":"CONCATENATE('Skippers List'!B33,\" \",'Skippers List'!C33)","v":" "},"",null,null,null,null,null,null,null,null,null,null,null,null,null,null,null,"",null,null,null,null,null,null,null,"","","","","","","","","","","","","","",""]
[{"$f":"CONCATENATE('Skippers List'!B34,\" \",'Skippers List'!C34)","v":" "},"",null,null,null,null,null,null,null,null,null,null,null,null,null,null,null,"",null,null,null,null,null,null,null,"","","","","","","","","","","","","","",""]

{"sheet":"9-7-18","index":19,"n_rows":23,"n_cols":40,"rows_kept":23,"cut":false,"hidden":false,"merged":[]}
["Day Sailer Racing "]
[{"$f":"'8-29-18'!A2+7","v":"2018-09-05"},"Race # ->",{"$f":"IF(COUNT(C4:C23)>0,1,\"\")","v":""},{"$f":"IF(COUNT(D4:D23)>0,1+C2,\"\")","v":""},"","","","","","","","","","","","","","Grand Total",null,null,null,null,null,null,"Race # ->",{"$f":"IF(COUNT(Z4:Z23)>0,1,\"\")","v":""},{"$f":"IF(COUNT(AA4:AA23)>0,1+Z2,\"\")","v":""},"","","","","","","","","","","","",""]
["Skipper/Sail Number"," # of boats -->  Ranking Below",{"$f":"COUNT(C4:C23)","v":0},{"$f":"COUNT(D4:D23)","v":0},0,0,0,0,0,0,0,0,0,0,0,0,0,"Points"]
[{"$f":"CONCATENATE('Skippers List'!B15,\" \",'Skippers List'!C15)","v":"1041 Bryn Hawklove"},{"$f":"IF(R4<>\"\",_xlfn.RANK.EQ(R4,$R$4:$R$23,0),\"\")","v":""},null,null,null,null,null,null,null,null,null,null,null,null,null,null,null,{"$f":"IF(SUM(Z4:AN4)>0,SUM(Z4:AN4),\"\")","v":""},null,null,null,null,null,null,null,{"$f":"IF(C4=1,C$3-C4+1+C$3+0.5,IF(C4>1,C$3-C4+1+C$3,IF(C4<1,\"\")))","v":""},"","","","","","","","","","","","","",""]
[{"$f":"CONCATENATE('Skippers List'!B16,\" \",'Skippers List'!C16)","v":"2753 Gene McNurlen"},{"$f":"IF(R5<>\"\",_xlfn.RANK.EQ(R5,$R$4:$R$23,0),\"\")","v":""},null,null,null,null,null,null,null,null,null,null,null,null,null,null,null,{"$f":"IF(SUM(Z5:AN5)>0,SUM(Z5:AN5),\"\")","v":""},null,null,null,null,null,null,null,"","","","","","","","","","","","","","",""]
[{"$f":"CONCATENATE('Skippers List'!B17,\" \",'Skippers List'!C17)","v":"3011 Karl Maas"},"",null,null,null,null,null,null,null,null,null,null,null,null,null,null,null,"",null,null,null,null,null,null,null,"","","","","","","","","","","","","","",""]
[{"$f":"CONCATENATE('Skippers List'!B18,\" \",'Skippers List'!C18)","v":"3097 Jon Feist"},"",null,null,null,null,null,null,null,null,null,null,null,null,null,null,null,"",null,null,null,null,null,null,null,"","","","","","","","","","","","","","",""]
[{"$f":"CONCATENATE('Skippers List'!B19,\" \",'Skippers List'!C19)","v":"4836 Nate Melby"},"",null,null,null,null,null,null,null,null,null,null,null,null,null,null,null,"",null,null,null,null,null,null,null,"","","","","","","","","","","","","","",""]
[{"$f":"CONCATENATE('Skippers List'!B20,\" \",'Skippers List'!C20)","v":"5251 Jordan Cerney"},"",null,null,null,null,null,null,null,null,null,null,null,null,null,null,null,"",null,null,null,null,null,null,null,"","","","","","","","","","","","","","",""]
[{"$f":"CONCATENATE('Skippers List'!B21,\" \",'Skippers List'!C21)","v":"11062 Dave Vind"},"",null,null,null,null,null,null,null,null,null,null,null,null,null,null,null,"",null,null,null,null,null,null,null,"","","","","","","","","","","","","","",""]
[{"$f":"CONCATENATE('Skippers List'!B22,\" \",'Skippers List'!C22)","v":"11791 Stephen Taylor"},"",null,null,null,null,null,null,null,null,null,null,null,null,null,null,null,"",null,null,null,null,null,null,null,"","","","","","","","","","","","","","",""]
[{"$f":"CONCATENATE('Skippers List'!B23,\" \",'Skippers List'!C23)","v":"13030 Lee Peterson"},"",null,null,null,null,null,null,null,null,null,null,null,null,null,null,null,"",null,null,null,null,null,null,null,"","","","","","","","","","","","","","",""]
[{"$f":"CONCATENATE('Skippers List'!B24,\" \",'Skippers List'!C24)","v":" "},"",null,null,null,null,null,null,null,null,null,null,null,null,null,null,null,"",null,null,null,null,null,null,null,"","","","","","","","","","","","","","",""]
[{"$f":"CONCATENATE('Skippers List'!B25,\" \",'Skippers List'!C25)","v":" "},"",null,null,null,null,null,null,null,null,null,null,null,null,null,null,null,"",null,null,null,null,null,null,null,"","","","","","","","","","","","","","",""]
[{"$f":"CONCATENATE('Skippers List'!B26,\" \",'Skippers List'!C26)","v":" "},"",null,null,null,null,null,null,null,null,null,null,null,null,null,null,null,"",null,null,null,null,null,null,null,"","","","","","","","","","","","","","",""]
[{"$f":"CONCATENATE('Skippers List'!B27,\" \",'Skippers List'!C27)","v":" "},"",null,null,null,null,null,null,null,null,null,null,null,null,null,null,null,"",null,null,null,null,null,null,null,"","","","","","","","","","","","","","",""]
[{"$f":"CONCATENATE('Skippers List'!B28,\" \",'Skippers List'!C28)","v":" "},"",null,null,null,null,null,null,null,null,null,null,null,null,null,null,null,"",null,null,null,null,null,null,null,"","","","","","","","","","","","","","",""]
[{"$f":"CONCATENATE('Skippers List'!B29,\" \",'Skippers List'!C29)","v":" "},"",null,null,null,null,null,null,null,null,null,null,null,null,null,null,null,"",null,null,null,null,null,null,null,"","","","","","","","","","","","","","",""]
[{"$f":"CONCATENATE('Skippers List'!B30,\" \",'Skippers List'!C30)","v":" "},"",null,null,null,null,null,null,null,null,null,null,null,null,null,null,null,"",null,null,null,null,null,null,null,"","","","","","","","","","","","","","",""]
[{"$f":"CONCATENATE('Skippers List'!B31,\" \",'Skippers List'!C31)","v":" "},"",null,null,null,null,null,null,null,null,null,null,null,null,null,null,null,"",null,null,null,null,null,null,null,{"$f":"IF(C20=1,C$3-C20+1+C$3+0.5,IF(C20>1,C$3-C20+1+C$3,IF(C20<1,\"\")))","v":""},"","","","","","","","","","","","","",""]
[{"$f":"CONCATENATE('Skippers List'!B32,\" \",'Skippers List'!C32)","v":" "},"",null,null,null,null,null,null,null,null,null,null,null,null,null,null,null,"",null,null,null,null,null,null,null,"","","","","","","","","","","","","","",""]
[{"$f":"CONCATENATE('Skippers List'!B33,\" \",'Skippers List'!C33)","v":" "},"",null,null,null,null,null,null,null,null,null,null,null,null,null,null,null,"",null,null,null,null,null,null,null,"","","","","","","","","","","","","","",""]
[{"$f":"CONCATENATE('Skippers List'!B34,\" \",'Skippers List'!C34)","v":" "},"",null,null,null,null,null,null,null,null,null,null,null,null,null,null,null,"",null,null,null,null,null,null,null,"","","","","","","","","","","","","","",""]

{"sheet":"9-12-18","index":20,"n_rows":23,"n_cols":40,"rows_kept":23,"cut":false,"hidden":false,"merged":[]}
["Day Sailer Racing "]
[{"$f":"'9-7-18'!A2+7","v":"2018-09-12"},"Race # ->",{"$f":"IF(COUNT(C4:C23)>0,1,\"\")","v":""},{"$f":"IF(COUNT(D4:D23)>0,1+C2,\"\")","v":""},"","","","","","","","","","","","","","Grand Total",null,null,null,null,null,null,"Race # ->",{"$f":"IF(COUNT(Z4:Z23)>0,1,\"\")","v":""},{"$f":"IF(COUNT(AA4:AA23)>0,1+Z2,\"\")","v":""},"","","","","","","","","","","","",""]
["Skipper/Sail Number"," # of boats -->  Ranking Below",{"$f":"COUNT(C4:C23)","v":0},{"$f":"COUNT(D4:D23)","v":0},0,0,0,0,0,0,0,0,0,0,0,0,0,"Points"]
[{"$f":"CONCATENATE('Skippers List'!B15,\" \",'Skippers List'!C15)","v":"1041 Bryn Hawklove"},{"$f":"IF(R4<>\"\",_xlfn.RANK.EQ(R4,$R$4:$R$23,0),\"\")","v":""},null,null,null,null,null,null,null,null,null,null,null,null,null,null,null,{"$f":"IF(SUM(Z4:AN4)>0,SUM(Z4:AN4),\"\")","v":""},null,null,null,null,null,null,null,{"$f":"IF(C4=1,C$3-C4+1+C$3+0.5,IF(C4>1,C$3-C4+1+C$3,IF(C4<1,\"\")))","v":""},"","","","","","","","","","","","","",""]
[{"$f":"CONCATENATE('Skippers List'!B16,\" \",'Skippers List'!C16)","v":"2753 Gene McNurlen"},{"$f":"IF(R5<>\"\",_xlfn.RANK.EQ(R5,$R$4:$R$23,0),\"\")","v":""},null,null,null,null,null,null,null,null,null,null,null,null,null,null,null,{"$f":"IF(SUM(Z5:AN5)>0,SUM(Z5:AN5),\"\")","v":""},null,null,null,null,null,null,null,"","","","","","","","","","","","","","",""]
[{"$f":"CONCATENATE('Skippers List'!B17,\" \",'Skippers List'!C17)","v":"3011 Karl Maas"},"",null,null,null,null,null,null,null,null,null,null,null,null,null,null,null,"",null,null,null,null,null,null,null,"","","","","","","","","","","","","","",""]
[{"$f":"CONCATENATE('Skippers List'!B18,\" \",'Skippers List'!C18)","v":"3097 Jon Feist"},"",null,null,null,null,null,null,null,null,null,null,null,null,null,null,null,"",null,null,null,null,null,null,null,"","","","","","","","","","","","","","",""]
[{"$f":"CONCATENATE('Skippers List'!B19,\" \",'Skippers List'!C19)","v":"4836 Nate Melby"},"",null,null,null,null,null,null,null,null,null,null,null,null,null,null,null,"",null,null,null,null,null,null,null,"","","","","","","","","","","","","","",""]
[{"$f":"CONCATENATE('Skippers List'!B20,\" \",'Skippers List'!C20)","v":"5251 Jordan Cerney"},"",null,null,null,null,null,null,null,null,null,null,null,null,null,null,null,"",null,null,null,null,null,null,null,"","","","","","","","","","","","","","",""]
[{"$f":"CONCATENATE('Skippers List'!B21,\" \",'Skippers List'!C21)","v":"11062 Dave Vind"},"",null,null,null,null,null,null,null,null,null,null,null,null,null,null,null,"",null,null,null,null,null,null,null,"","","","","","","","","","","","","","",""]
[{"$f":"CONCATENATE('Skippers List'!B22,\" \",'Skippers List'!C22)","v":"11791 Stephen Taylor"},"",null,null,null,null,null,null,null,null,null,null,null,null,null,null,null,"",null,null,null,null,null,null,null,"","","","","","","","","","","","","","",""]
[{"$f":"CONCATENATE('Skippers List'!B23,\" \",'Skippers List'!C23)","v":"13030 Lee Peterson"},"",null,null,null,null,null,null,null,null,null,null,null,null,null,null,null,"",null,null,null,null,null,null,null,"","","","","","","","","","","","","","",""]
[{"$f":"CONCATENATE('Skippers List'!B24,\" \",'Skippers List'!C24)","v":" "},"",null,null,null,null,null,null,null,null,null,null,null,null,null,null,null,"",null,null,null,null,null,null,null,"","","","","","","","","","","","","","",""]
[{"$f":"CONCATENATE('Skippers List'!B25,\" \",'Skippers List'!C25)","v":" "},"",null,null,null,null,null,null,null,null,null,null,null,null,null,null,null,"",null,null,null,null,null,null,null,"","","","","","","","","","","","","","",""]
[{"$f":"CONCATENATE('Skippers List'!B26,\" \",'Skippers List'!C26)","v":" "},"",null,null,null,null,null,null,null,null,null,null,null,null,null,null,null,"",null,null,null,null,null,null,null,"","","","","","","","","","","","","","",""]
[{"$f":"CONCATENATE('Skippers List'!B27,\" \",'Skippers List'!C27)","v":" "},"",null,null,null,null,null,null,null,null,null,null,null,null,null,null,null,"",null,null,null,null,null,null,null,"","","","","","","","","","","","","","",""]
[{"$f":"CONCATENATE('Skippers List'!B28,\" \",'Skippers List'!C28)","v":" "},"",null,null,null,null,null,null,null,null,null,null,null,null,null,null,null,"",null,null,null,null,null,null,null,"","","","","","","","","","","","","","",""]
[{"$f":"CONCATENATE('Skippers List'!B29,\" \",'Skippers List'!C29)","v":" "},"",null,null,null,null,null,null,null,null,null,null,null,null,null,null,null,"",null,null,null,null,null,null,null,"","","","","","","","","","","","","","",""]
[{"$f":"CONCATENATE('Skippers List'!B30,\" \",'Skippers List'!C30)","v":" "},"",null,null,null,null,null,null,null,null,null,null,null,null,null,null,null,"",null,null,null,null,null,null,null,"","","","","","","","","","","","","","",""]
[{"$f":"CONCATENATE('Skippers List'!B31,\" \",'Skippers List'!C31)","v":" "},"",null,null,null,null,null,null,null,null,null,null,null,null,null,null,null,"",null,null,null,null,null,null,null,{"$f":"IF(C20=1,C$3-C20+1+C$3+0.5,IF(C20>1,C$3-C20+1+C$3,IF(C20<1,\"\")))","v":""},"","","","","","","","","","","","","",""]
[{"$f":"CONCATENATE('Skippers List'!B32,\" \",'Skippers List'!C32)","v":" "},"",null,null,null,null,null,null,null,null,null,null,null,null,null,null,null,"",null,null,null,null,null,null,null,"","","","","","","","","","","","","","",""]
[{"$f":"CONCATENATE('Skippers List'!B33,\" \",'Skippers List'!C33)","v":" "},"",null,null,null,null,null,null,null,null,null,null,null,null,null,null,null,"",null,null,null,null,null,null,null,"","","","","","","","","","","","","","",""]
[{"$f":"CONCATENATE('Skippers List'!B34,\" \",'Skippers List'!C34)","v":" "},"",null,null,null,null,null,null,null,null,null,null,null,null,null,null,null,"",null,null,null,null,null,null,null,"","","","","","","","","","","","","","",""]

{"sheet":"9-19-18","index":21,"n_rows":23,"n_cols":40,"rows_kept":23,"cut":false,"hidden":false,"merged":[]}
["Day Sailer Racing "]
[{"$f":"'9-12-18'!A2+7","v":"2018-09-19"},"Race # ->",{"$f":"IF(COUNT(C4:C23)>0,1,\"\")","v":""},{"$f":"IF(COUNT(D4:D23)>0,1+C2,\"\")","v":""},"","","","","","","","","","","","","","Grand Total",null,null,null,null,null,null,"Race # ->",{"$f":"IF(COUNT(Z4:Z23)>0,1,\"\")","v":""},{"$f":"IF(COUNT(AA4:AA23)>0,1+Z2,\"\")","v":""},"","","","","","","","","","","","",""]
["Skipper/Sail Number"," # of boats -->  Ranking Below",{"$f":"COUNT(C4:C23)","v":0},{"$f":"COUNT(D4:D23)","v":0},0,0,0,0,0,0,0,0,0,0,0,0,0,"Points"]
[{"$f":"CONCATENATE('Skippers List'!B15,\" \",'Skippers List'!C15)","v":"1041 Bryn Hawklove"},{"$f":"IF(R4<>\"\",_xlfn.RANK.EQ(R4,$R$4:$R$23,0),\"\")","v":""},null,null,null,null,null,null,null,null,null,null,null,null,null,null,null,{"$f":"IF(SUM(Z4:AN4)>0,SUM(Z4:AN4),\"\")","v":""},null,null,null,null,null,null,null,{"$f":"IF(C4=1,C$3-C4+1+C$3+0.5,IF(C4>1,C$3-C4+1+C$3,IF(C4<1,\"\")))","v":""},"","","","","","","","","","","","","",""]
[{"$f":"CONCATENATE('Skippers List'!B16,\" \",'Skippers List'!C16)","v":"2753 Gene McNurlen"},{"$f":"IF(R5<>\"\",_xlfn.RANK.EQ(R5,$R$4:$R$23,0),\"\")","v":""},null,null,null,null,null,null,null,null,null,null,null,null,null,null,null,{"$f":"IF(SUM(Z5:AN5)>0,SUM(Z5:AN5),\"\")","v":""},null,null,null,null,null,null,null,"","","","","","","","","","","","","","",""]
[{"$f":"CONCATENATE('Skippers List'!B17,\" \",'Skippers List'!C17)","v":"3011 Karl Maas"},"",null,null,null,null,null,null,null,null,null,null,null,null,null,null,null,"",null,null,null,null,null,null,null,"","","","","","","","","","","","","","",""]
[{"$f":"CONCATENATE('Skippers List'!B18,\" \",'Skippers List'!C18)","v":"3097 Jon Feist"},"",null,null,null,null,null,null,null,null,null,null,null,null,null,null,null,"",null,null,null,null,null,null,null,"","","","","","","","","","","","","","",""]
[{"$f":"CONCATENATE('Skippers List'!B19,\" \",'Skippers List'!C19)","v":"4836 Nate Melby"},"",null,null,null,null,null,null,null,null,null,null,null,null,null,null,null,"",null,null,null,null,null,null,null,"","","","","","","","","","","","","","",""]
[{"$f":"CONCATENATE('Skippers List'!B20,\" \",'Skippers List'!C20)","v":"5251 Jordan Cerney"},"",null,null,null,null,null,null,null,null,null,null,null,null,null,null,null,"",null,null,null,null,null,null,null,"","","","","","","","","","","","","","",""]
[{"$f":"CONCATENATE('Skippers List'!B21,\" \",'Skippers List'!C21)","v":"11062 Dave Vind"},"",null,null,null,null,null,null,null,null,null,null,null,null,null,null,null,"",null,null,null,null,null,null,null,"","","","","","","","","","","","","","",""]
[{"$f":"CONCATENATE('Skippers List'!B22,\" \",'Skippers List'!C22)","v":"11791 Stephen Taylor"},"",null,null,null,null,null,null,null,null,null,null,null,null,null,null,null,"",null,null,null,null,null,null,null,"","","","","","","","","","","","","","",""]
[{"$f":"CONCATENATE('Skippers List'!B23,\" \",'Skippers List'!C23)","v":"13030 Lee Peterson"},"",null,null,null,null,null,null,null,null,null,null,null,null,null,null,null,"",null,null,null,null,null,null,null,"","","","","","","","","","","","","","",""]
[{"$f":"CONCATENATE('Skippers List'!B24,\" \",'Skippers List'!C24)","v":" "},"",null,null,null,null,null,null,null,null,null,null,null,null,null,null,null,"",null,null,null,null,null,null,null,"","","","","","","","","","","","","","",""]
[{"$f":"CONCATENATE('Skippers List'!B25,\" \",'Skippers List'!C25)","v":" "},"",null,null,null,null,null,null,null,null,null,null,null,null,null,null,null,"",null,null,null,null,null,null,null,"","","","","","","","","","","","","","",""]
[{"$f":"CONCATENATE('Skippers List'!B26,\" \",'Skippers List'!C26)","v":" "},"",null,null,null,null,null,null,null,null,null,null,null,null,null,null,null,"",null,null,null,null,null,null,null,"","","","","","","","","","","","","","",""]
[{"$f":"CONCATENATE('Skippers List'!B27,\" \",'Skippers List'!C27)","v":" "},"",null,null,null,null,null,null,null,null,null,null,null,null,null,null,null,"",null,null,null,null,null,null,null,"","","","","","","","","","","","","","",""]
[{"$f":"CONCATENATE('Skippers List'!B28,\" \",'Skippers List'!C28)","v":" "},"",null,null,null,null,null,null,null,null,null,null,null,null,null,null,null,"",null,null,null,null,null,null,null,"","","","","","","","","","","","","","",""]
[{"$f":"CONCATENATE('Skippers List'!B29,\" \",'Skippers List'!C29)","v":" "},"",null,null,null,null,null,null,null,null,null,null,null,null,null,null,null,"",null,null,null,null,null,null,null,"","","","","","","","","","","","","","",""]
[{"$f":"CONCATENATE('Skippers List'!B30,\" \",'Skippers List'!C30)","v":" "},"",null,null,null,null,null,null,null,null,null,null,null,null,null,null,null,"",null,null,null,null,null,null,null,"","","","","","","","","","","","","","",""]
[{"$f":"CONCATENATE('Skippers List'!B31,\" \",'Skippers List'!C31)","v":" "},"",null,null,null,null,null,null,null,null,null,null,null,null,null,null,null,"",null,null,null,null,null,null,null,{"$f":"IF(C20=1,C$3-C20+1+C$3+0.5,IF(C20>1,C$3-C20+1+C$3,IF(C20<1,\"\")))","v":""},"","","","","","","","","","","","","",""]
[{"$f":"CONCATENATE('Skippers List'!B32,\" \",'Skippers List'!C32)","v":" "},"",null,null,null,null,null,null,null,null,null,null,null,null,null,null,null,"",null,null,null,null,null,null,null,"","","","","","","","","","","","","","",""]
[{"$f":"CONCATENATE('Skippers List'!B33,\" \",'Skippers List'!C33)","v":" "},"",null,null,null,null,null,null,null,null,null,null,null,null,null,null,null,"",null,null,null,null,null,null,null,"","","","","","","","","","","","","","",""]
[{"$f":"CONCATENATE('Skippers List'!B34,\" \",'Skippers List'!C34)","v":" "},"",null,null,null,null,null,null,null,null,null,null,null,null,null,null,null,"",null,null,null,null,null,null,null,"","","","","","","","","","","","","","",""]

{"sheet":"9-26-18","index":22,"n_rows":23,"n_cols":40,"rows_kept":23,"cut":false,"hidden":false,"merged":[]}
["Day Sailer Racing "]
[{"$f":"'9-19-18'!A2+7","v":"2018-09-26"},"Race # ->",{"$f":"IF(COUNT(C4:C23)>0,1,\"\")","v":""},{"$f":"IF(COUNT(D4:D23)>0,1+C2,\"\")","v":""},"","","","","","","","","","","","","","Grand Total",null,null,null,null,null,null,"Race # ->",{"$f":"IF(COUNT(Z4:Z23)>0,1,\"\")","v":""},{"$f":"IF(COUNT(AA4:AA23)>0,1+Z2,\"\")","v":""},"","","","","","","","","","","","",""]
["Skipper/Sail Number"," # of boats -->  Ranking Below",{"$f":"COUNT(C4:C23)","v":0},{"$f":"COUNT(D4:D23)","v":0},0,0,0,0,0,0,0,0,0,0,0,0,0,"Points"]
[{"$f":"CONCATENATE('Skippers List'!B15,\" \",'Skippers List'!C15)","v":"1041 Bryn Hawklove"},{"$f":"IF(R4<>\"\",_xlfn.RANK.EQ(R4,$R$4:$R$23,0),\"\")","v":""},null,null,null,null,null,null,null,null,null,null,null,null,null,null,null,{"$f":"IF(SUM(Z4:AN4)>0,SUM(Z4:AN4),\"\")","v":""},null,null,null,null,null,null,null,{"$f":"IF(C4=1,C$3-C4+1+C$3+0.5,IF(C4>1,C$3-C4+1+C$3,IF(C4<1,\"\")))","v":""},"","","","","","","","","","","","","",""]
[{"$f":"CONCATENATE('Skippers List'!B16,\" \",'Skippers List'!C16)","v":"2753 Gene McNurlen"},{"$f":"IF(R5<>\"\",_xlfn.RANK.EQ(R5,$R$4:$R$23,0),\"\")","v":""},null,null,null,null,null,null,null,null,null,null,null,null,null,null,null,{"$f":"IF(SUM(Z5:AN5)>0,SUM(Z5:AN5),\"\")","v":""},null,null,null,null,null,null,null,"","","","","","","","","","","","","","",""]
[{"$f":"CONCATENATE('Skippers List'!B17,\" \",'Skippers List'!C17)","v":"3011 Karl Maas"},"",null,null,null,null,null,null,null,null,null,null,null,null,null,null,null,"",null,null,null,null,null,null,null,"","","","","","","","","","","","","","",""]
[{"$f":"CONCATENATE('Skippers List'!B18,\" \",'Skippers List'!C18)","v":"3097 Jon Feist"},"",null,null,null,null,null,null,null,null,null,null,null,null,null,null,null,"",null,null,null,null,null,null,null,"","","","","","","","","","","","","","",""]
[{"$f":"CONCATENATE('Skippers List'!B19,\" \",'Skippers List'!C19)","v":"4836 Nate Melby"},"",null,null,null,null,null,null,null,null,null,null,null,null,null,null,null,"",null,null,null,null,null,null,null,"","","","","","","","","","","","","","",""]
[{"$f":"CONCATENATE('Skippers List'!B20,\" \",'Skippers List'!C20)","v":"5251 Jordan Cerney"},"",null,null,null,null,null,null,null,null,null,null,null,null,null,null,null,"",null,null,null,null,null,null,null,"","","","","","","","","","","","","","",""]
[{"$f":"CONCATENATE('Skippers List'!B21,\" \",'Skippers List'!C21)","v":"11062 Dave Vind"},"",null,null,null,null,null,null,null,null,null,null,null,null,null,null,null,"",null,null,null,null,null,null,null,"","","","","","","","","","","","","","",""]
[{"$f":"CONCATENATE('Skippers List'!B22,\" \",'Skippers List'!C22)","v":"11791 Stephen Taylor"},"",null,null,null,null,null,null,null,null,null,null,null,null,null,null,null,"",null,null,null,null,null,null,null,"","","","","","","","","","","","","","",""]
[{"$f":"CONCATENATE('Skippers List'!B23,\" \",'Skippers List'!C23)","v":"13030 Lee Peterson"},"",null,null,null,null,null,null,null,null,null,null,null,null,null,null,null,"",null,null,null,null,null,null,null,"","","","","","","","","","","","","","",""]
[{"$f":"CONCATENATE('Skippers List'!B24,\" \",'Skippers List'!C24)","v":" "},"",null,null,null,null,null,null,null,null,null,null,null,null,null,null,null,"",null,null,null,null,null,null,null,"","","","","","","","","","","","","","",""]
[{"$f":"CONCATENATE('Skippers List'!B25,\" \",'Skippers List'!C25)","v":" "},"",null,null,null,null,null,null,null,null,null,null,null,null,null,null,null,"",null,null,null,null,null,null,null,"","","","","","","","","","","","","","",""]
[{"$f":"CONCATENATE('Skippers List'!B26,\" \",'Skippers List'!C26)","v":" "},"",null,null,null,null,null,null,null,null,null,null,null,null,null,null,null,"",null,null,null,null,null,null,null,"","","","","","","","","","","","","","",""]
[{"$f":"CONCATENATE('Skippers List'!B27,\" \",'Skippers List'!C27)","v":" "},"",null,null,null,null,null,null,null,null,null,null,null,null,null,null,null,"",null,null,null,null,null,null,null,"","","","","","","","","","","","","","",""]
[{"$f":"CONCATENATE('Skippers List'!B28,\" \",'Skippers List'!C28)","v":" "},"",null,null,null,null,null,null,null,null,null,null,null,null,null,null,null,"",null,null,null,null,null,null,null,"","","","","","","","","","","","","","",""]
[{"$f":"CONCATENATE('Skippers List'!B29,\" \",'Skippers List'!C29)","v":" "},"",null,null,null,null,null,null,null,null,null,null,null,null,null,null,null,"",null,null,null,null,null,null,null,"","","","","","","","","","","","","","",""]
[{"$f":"CONCATENATE('Skippers List'!B30,\" \",'Skippers List'!C30)","v":" "},"",null,null,null,null,null,null,null,null,null,null,null,null,null,null,null,"",null,null,null,null,null,null,null,"","","","","","","","","","","","","","",""]
[{"$f":"CONCATENATE('Skippers List'!B31,\" \",'Skippers List'!C31)","v":" "},"",null,null,null,null,null,null,null,null,null,null,null,null,null,null,null,"",null,null,null,null,null,null,null,{"$f":"IF(C20=1,C$3-C20+1+C$3+0.5,IF(C20>1,C$3-C20+1+C$3,IF(C20<1,\"\")))","v":""},"","","","","","","","","","","","","",""]
[{"$f":"CONCATENATE('Skippers List'!B32,\" \",'Skippers List'!C32)","v":" "},"",null,null,null,null,null,null,null,null,null,null,null,null,null,null,null,"",null,null,null,null,null,null,null,"","","","","","","","","","","","","","",""]
[{"$f":"CONCATENATE('Skippers List'!B33,\" \",'Skippers List'!C33)","v":" "},"",null,null,null,null,null,null,null,null,null,null,null,null,null,null,null,"",null,null,null,null,null,null,null,"","","","","","","","","","","","","","",""]
[{"$f":"CONCATENATE('Skippers List'!B34,\" \",'Skippers List'!C34)","v":" "},"",null,null,null,null,null,null,null,null,null,null,null,null,null,null,null,"",null,null,null,null,null,null,null,"","","","","","","","","","","","","","",""]

{"sheet":"10-3-18","index":23,"n_rows":23,"n_cols":40,"rows_kept":23,"cut":false,"hidden":false,"merged":[]}
["Day Sailer Racing "]
[{"$f":"'9-26-18'!A2+7","v":"2018-10-03"},"Race # ->",{"$f":"IF(COUNT(C4:C23)>0,1,\"\")","v":""},{"$f":"IF(COUNT(D4:D23)>0,1+C2,\"\")","v":""},"","","","","","","","","","","","","","Grand Total",null,null,null,null,null,null,"Race # ->",{"$f":"IF(COUNT(Z4:Z23)>0,1,\"\")","v":""},{"$f":"IF(COUNT(AA4:AA23)>0,1+Z2,\"\")","v":""},"","","","","","","","","","","","",""]
["Skipper/Sail Number"," # of boats -->  Ranking Below",{"$f":"COUNT(C4:C23)","v":0},{"$f":"COUNT(D4:D23)","v":0},0,0,0,0,0,0,0,0,0,0,0,0,0,"Points"]
[{"$f":"CONCATENATE('Skippers List'!B15,\" \",'Skippers List'!C15)","v":"1041 Bryn Hawklove"},{"$f":"IF(R4<>\"\",_xlfn.RANK.EQ(R4,$R$4:$R$23,0),\"\")","v":""},null,null,null,null,null,null,null,null,null,null,null,null,null,null,null,{"$f":"IF(SUM(Z4:AN4)>0,SUM(Z4:AN4),\"\")","v":""},null,null,null,null,null,null,null,{"$f":"IF(C4=1,C$3-C4+1+C$3+0.5,IF(C4>1,C$3-C4+1+C$3,IF(C4<1,\"\")))","v":""},"","","","","","","","","","","","","",""]
[{"$f":"CONCATENATE('Skippers List'!B16,\" \",'Skippers List'!C16)","v":"2753 Gene McNurlen"},{"$f":"IF(R5<>\"\",_xlfn.RANK.EQ(R5,$R$4:$R$23,0),\"\")","v":""},null,null,null,null,null,null,null,null,null,null,null,null,null,null,null,{"$f":"IF(SUM(Z5:AN5)>0,SUM(Z5:AN5),\"\")","v":""},null,null,null,null,null,null,null,"","","","","","","","","","","","","","",""]
[{"$f":"CONCATENATE('Skippers List'!B17,\" \",'Skippers List'!C17)","v":"3011 Karl Maas"},"",null,null,null,null,null,null,null,null,null,null,null,null,null,null,null,"",null,null,null,null,null,null,null,"","","","","","","","","","","","","","",""]
[{"$f":"CONCATENATE('Skippers List'!B18,\" \",'Skippers List'!C18)","v":"3097 Jon Feist"},"",null,null,null,null,null,null,null,null,null,null,null,null,null,null,null,"",null,null,null,null,null,null,null,"","","","","","","","","","","","","","",""]
[{"$f":"CONCATENATE('Skippers List'!B19,\" \",'Skippers List'!C19)","v":"4836 Nate Melby"},"",null,null,null,null,null,null,null,null,null,null,null,null,null,null,null,"",null,null,null,null,null,null,null,"","","","","","","","","","","","","","",""]
[{"$f":"CONCATENATE('Skippers List'!B20,\" \",'Skippers List'!C20)","v":"5251 Jordan Cerney"},"",null,null,null,null,null,null,null,null,null,null,null,null,null,null,null,"",null,null,null,null,null,null,null,"","","","","","","","","","","","","","",""]
[{"$f":"CONCATENATE('Skippers List'!B21,\" \",'Skippers List'!C21)","v":"11062 Dave Vind"},"",null,null,null,null,null,null,null,null,null,null,null,null,null,null,null,"",null,null,null,null,null,null,null,"","","","","","","","","","","","","","",""]
[{"$f":"CONCATENATE('Skippers List'!B22,\" \",'Skippers List'!C22)","v":"11791 Stephen Taylor"},"",null,null,null,null,null,null,null,null,null,null,null,null,null,null,null,"",null,null,null,null,null,null,null,"","","","","","","","","","","","","","",""]
[{"$f":"CONCATENATE('Skippers List'!B23,\" \",'Skippers List'!C23)","v":"13030 Lee Peterson"},"",null,null,null,null,null,null,null,null,null,null,null,null,null,null,null,"",null,null,null,null,null,null,null,"","","","","","","","","","","","","","",""]
[{"$f":"CONCATENATE('Skippers List'!B24,\" \",'Skippers List'!C24)","v":" "},"",null,null,null,null,null,null,null,null,null,null,null,null,null,null,null,"",null,null,null,null,null,null,null,"","","","","","","","","","","","","","",""]
[{"$f":"CONCATENATE('Skippers List'!B25,\" \",'Skippers List'!C25)","v":" "},"",null,null,null,null,null,null,null,null,null,null,null,null,null,null,null,"",null,null,null,null,null,null,null,"","","","","","","","","","","","","","",""]
[{"$f":"CONCATENATE('Skippers List'!B26,\" \",'Skippers List'!C26)","v":" "},"",null,null,null,null,null,null,null,null,null,null,null,null,null,null,null,"",null,null,null,null,null,null,null,"","","","","","","","","","","","","","",""]
[{"$f":"CONCATENATE('Skippers List'!B27,\" \",'Skippers List'!C27)","v":" "},"",null,null,null,null,null,null,null,null,null,null,null,null,null,null,null,"",null,null,null,null,null,null,null,"","","","","","","","","","","","","","",""]
[{"$f":"CONCATENATE('Skippers List'!B28,\" \",'Skippers List'!C28)","v":" "},"",null,null,null,null,null,null,null,null,null,null,null,null,null,null,null,"",null,null,null,null,null,null,null,"","","","","","","","","","","","","","",""]
[{"$f":"CONCATENATE('Skippers List'!B29,\" \",'Skippers List'!C29)","v":" "},"",null,null,null,null,null,null,null,null,null,null,null,null,null,null,null,"",null,null,null,null,null,null,null,"","","","","","","","","","","","","","",""]
[{"$f":"CONCATENATE('Skippers List'!B30,\" \",'Skippers List'!C30)","v":" "},"",null,null,null,null,null,null,null,null,null,null,null,null,null,null,null,"",null,null,null,null,null,null,null,"","","","","","","","","","","","","","",""]
[{"$f":"CONCATENATE('Skippers List'!B31,\" \",'Skippers List'!C31)","v":" "},"",null,null,null,null,null,null,null,null,null,null,null,null,null,null,null,"",null,null,null,null,null,null,null,{"$f":"IF(C20=1,C$3-C20+1+C$3+0.5,IF(C20>1,C$3-C20+1+C$3,IF(C20<1,\"\")))","v":""},"","","","","","","","","","","","","",""]
[{"$f":"CONCATENATE('Skippers List'!B32,\" \",'Skippers List'!C32)","v":" "},"",null,null,null,null,null,null,null,null,null,null,null,null,null,null,null,"",null,null,null,null,null,null,null,"","","","","","","","","","","","","","",""]
[{"$f":"CONCATENATE('Skippers List'!B33,\" \",'Skippers List'!C33)","v":" "},"",null,null,null,null,null,null,null,null,null,null,null,null,null,null,null,"",null,null,null,null,null,null,null,"","","","","","","","","","","","","","",""]
[{"$f":"CONCATENATE('Skippers List'!B34,\" \",'Skippers List'!C34)","v":" "},"",null,null,null,null,null,null,null,null,null,null,null,null,null,null,null,"",null,null,null,null,null,null,null,"","","","","","","","","","","","","","",""]

{"sheet":"10-10-18","index":24,"n_rows":23,"n_cols":40,"rows_kept":23,"cut":false,"hidden":false,"merged":[]}
["Day Sailer Racing "]
[{"$f":"'10-3-18'!A2+7","v":"2018-10-10"},"Race # ->",{"$f":"IF(COUNT(C4:C23)>0,1,\"\")","v":""},{"$f":"IF(COUNT(D4:D23)>0,1+C2,\"\")","v":""},"","","","","","","","","","","","","","Grand Total",null,null,null,null,null,null,"Race # ->",{"$f":"IF(COUNT(Z4:Z23)>0,1,\"\")","v":""},{"$f":"IF(COUNT(AA4:AA23)>0,1+Z2,\"\")","v":""},"","","","","","","","","","","","",""]
["Skipper/Sail Number"," # of boats -->  Ranking Below",{"$f":"COUNT(C4:C23)","v":0},{"$f":"COUNT(D4:D23)","v":0},0,0,0,0,0,0,0,0,0,0,0,0,0,"Points"]
[{"$f":"CONCATENATE('Skippers List'!B15,\" \",'Skippers List'!C15)","v":"1041 Bryn Hawklove"},{"$f":"IF(R4<>\"\",_xlfn.RANK.EQ(R4,$R$4:$R$23,0),\"\")","v":""},null,null,null,null,null,null,null,null,null,null,null,null,null,null,null,{"$f":"IF(SUM(Z4:AN4)>0,SUM(Z4:AN4),\"\")","v":""},null,null,null,null,null,null,null,{"$f":"IF(C4=1,C$3-C4+1+C$3+0.5,IF(C4>1,C$3-C4+1+C$3,IF(C4<1,\"\")))","v":""},"","","","","","","","","","","","","",""]
[{"$f":"CONCATENATE('Skippers List'!B16,\" \",'Skippers List'!C16)","v":"2753 Gene McNurlen"},{"$f":"IF(R5<>\"\",_xlfn.RANK.EQ(R5,$R$4:$R$23,0),\"\")","v":""},null,null,null,null,null,null,null,null,null,null,null,null,null,null,null,{"$f":"IF(SUM(Z5:AN5)>0,SUM(Z5:AN5),\"\")","v":""},null,null,null,null,null,null,null,"","","","","","","","","","","","","","",""]
[{"$f":"CONCATENATE('Skippers List'!B17,\" \",'Skippers List'!C17)","v":"3011 Karl Maas"},"",null,null,null,null,null,null,null,null,null,null,null,null,null,null,null,"",null,null,null,null,null,null,null,"","","","","","","","","","","","","","",""]
[{"$f":"CONCATENATE('Skippers List'!B18,\" \",'Skippers List'!C18)","v":"3097 Jon Feist"},"",null,null,null,null,null,null,null,null,null,null,null,null,null,null,null,"",null,null,null,null,null,null,null,"","","","","","","","","","","","","","",""]
[{"$f":"CONCATENATE('Skippers List'!B19,\" \",'Skippers List'!C19)","v":"4836 Nate Melby"},"",null,null,null,null,null,null,null,null,null,null,null,null,null,null,null,"",null,null,null,null,null,null,null,"","","","","","","","","","","","","","",""]
[{"$f":"CONCATENATE('Skippers List'!B20,\" \",'Skippers List'!C20)","v":"5251 Jordan Cerney"},"",null,null,null,null,null,null,null,null,null,null,null,null,null,null,null,"",null,null,null,null,null,null,null,"","","","","","","","","","","","","","",""]
[{"$f":"CONCATENATE('Skippers List'!B21,\" \",'Skippers List'!C21)","v":"11062 Dave Vind"},"",null,null,null,null,null,null,null,null,null,null,null,null,null,null,null,"",null,null,null,null,null,null,null,"","","","","","","","","","","","","","",""]
[{"$f":"CONCATENATE('Skippers List'!B22,\" \",'Skippers List'!C22)","v":"11791 Stephen Taylor"},"",null,null,null,null,null,null,null,null,null,null,null,null,null,null,null,"",null,null,null,null,null,null,null,"","","","","","","","","","","","","","",""]
[{"$f":"CONCATENATE('Skippers List'!B23,\" \",'Skippers List'!C23)","v":"13030 Lee Peterson"},"",null,null,null,null,null,null,null,null,null,null,null,null,null,null,null,"",null,null,null,null,null,null,null,"","","","","","","","","","","","","","",""]
[{"$f":"CONCATENATE('Skippers List'!B24,\" \",'Skippers List'!C24)","v":" "},"",null,null,null,null,null,null,null,null,null,null,null,null,null,null,null,"",null,null,null,null,null,null,null,"","","","","","","","","","","","","","",""]
[{"$f":"CONCATENATE('Skippers List'!B25,\" \",'Skippers List'!C25)","v":" "},"",null,null,null,null,null,null,null,null,null,null,null,null,null,null,null,"",null,null,null,null,null,null,null,"","","","","","","","","","","","","","",""]
[{"$f":"CONCATENATE('Skippers List'!B26,\" \",'Skippers List'!C26)","v":" "},"",null,null,null,null,null,null,null,null,null,null,null,null,null,null,null,"",null,null,null,null,null,null,null,"","","","","","","","","","","","","","",""]
[{"$f":"CONCATENATE('Skippers List'!B27,\" \",'Skippers List'!C27)","v":" "},"",null,null,null,null,null,null,null,null,null,null,null,null,null,null,null,"",null,null,null,null,null,null,null,"","","","","","","","","","","","","","",""]
[{"$f":"CONCATENATE('Skippers List'!B28,\" \",'Skippers List'!C28)","v":" "},"",null,null,null,null,null,null,null,null,null,null,null,null,null,null,null,"",null,null,null,null,null,null,null,"","","","","","","","","","","","","","",""]
[{"$f":"CONCATENATE('Skippers List'!B29,\" \",'Skippers List'!C29)","v":" "},"",null,null,null,null,null,null,null,null,null,null,null,null,null,null,null,"",null,null,null,null,null,null,null,"","","","","","","","","","","","","","",""]
[{"$f":"CONCATENATE('Skippers List'!B30,\" \",'Skippers List'!C30)","v":" "},"",null,null,null,null,null,null,null,null,null,null,null,null,null,null,null,"",null,null,null,null,null,null,null,"","","","","","","","","","","","","","",""]
[{"$f":"CONCATENATE('Skippers List'!B31,\" \",'Skippers List'!C31)","v":" "},"",null,null,null,null,null,null,null,null,null,null,null,null,null,null,null,"",null,null,null,null,null,null,null,{"$f":"IF(C20=1,C$3-C20+1+C$3+0.5,IF(C20>1,C$3-C20+1+C$3,IF(C20<1,\"\")))","v":""},"","","","","","","","","","","","","",""]
[{"$f":"CONCATENATE('Skippers List'!B32,\" \",'Skippers List'!C32)","v":" "},"",null,null,null,null,null,null,null,null,null,null,null,null,null,null,null,"",null,null,null,null,null,null,null,"","","","","","","","","","","","","","",""]
[{"$f":"CONCATENATE('Skippers List'!B33,\" \",'Skippers List'!C33)","v":" "},"",null,null,null,null,null,null,null,null,null,null,null,null,null,null,null,"",null,null,null,null,null,null,null,"","","","","","","","","","","","","","",""]
[{"$f":"CONCATENATE('Skippers List'!B34,\" \",'Skippers List'!C34)","v":" "},"",null,null,null,null,null,null,null,null,null,null,null,null,null,null,null,"",null,null,null,null,null,null,null,"","","","","","","","","","","","","","",""]

{"sheet":"Summary","index":25,"n_rows":23,"n_cols":26,"rows_kept":23,"cut":false,"hidden":false,"merged":[]}
["LaCrosse Day Sailer Racing ","Season Standings"]
[2018,"Race # ->",{"$f":"Sheet1!A2","v":"2018-05-09"},{"$f":"C2+7","v":"2018-05-16"},{"$f":"D2+7","v":"2018-05-23"},"2018-05-30","2018-06-06","2018-06-13","2018-06-20","2018-06-27","2018-07-04","2018-07-11","2018-07-18","2018-07-25","2018-08-01","2018-08-08","2018-08-15","2018-08-22","2018-08-29","2018-09-05","2018-09-12","2018-09-19","2018-09-26","2018-10-03","2018-10-10","Grand Total"]
["Skipper/Sail Number","Ranking",1,2,3,4,5,6,7,8,9,10,11,12,13,14,15,16,17,18,19,20,21,22,23]
[{"$f":"CONCATENATE('Skippers List'!B15,\" \",'Skippers List'!C15)","v":"1041 Bryn Hawklove"},{"$f":"IF(Z4>0,RANK(Z4,$Z$4:$Z$23,0),\"\")","v":3},{"$f":"IF(VLOOKUP($A4,'5-9-18'!$A$4:$R$23,18,FALSE)<>\"\",VLOOKUP($A4,'5-9-18'!$A$4:$R$23,18,FALSE),0)","v":0},{"$f":"IF(VLOOKUP($A4,'5-16-18'!$A$4:$R$23,18,FALSE)<>\"\",VLOOKUP($A4,'5-16-18'!$A$4:$R$23,18,FALSE),0)","v":0},{"$f":"IF(VLOOKUP($A4,'5-23-18'!$A$4:$R$23,18,FALSE)<>\"\",VLOOKUP($A4,'5-23-18'!$A$4:$R$23,18,FALSE),0)","v":24},{"$f":"IF(VLOOKUP($A4,'5-30-18'!$A$4:$R$23,18,FALSE)<>\"\",VLOOKUP($A4,'5-30-18'!$A$4:$R$23,18,FALSE),0)","v":0},{"$f":"IF(VLOOKUP($A4,'6-6-18'!$A$4:$R$23,18,FALSE)<>\"\",VLOOKUP($A4,'6-6-18'!$A$4:$R$23,18,FALSE),0)","v":0},{"$f":"IF(VLOOKUP($A4,'6-13-18'!$A$4:$R$23,18,FALSE)<>\"\",VLOOKUP($A4,'6-13-18'!$A$4:$R$23,18,FALSE),0)","v":29},{"$f":"IF(VLOOKUP($A4,'6-20-18'!$A$4:$R$23,18,FALSE)<>\"\",VLOOKUP($A4,'6-20-18'!$A$4:$R$23,18,FALSE),0)","v":0},{"$f":"IF(VLOOKUP($A4,'6-27-18'!$A$4:$R$23,18,FALSE)<>\"\",VLOOKUP($A4,'6-27-18'!$A$4:$R$23,18,FALSE),0)","v":0},{"$f":"IF(VLOOKUP($A4,'7-4-18'!$A$4:$R$23,18,FALSE)<>\"\",VLOOKUP($A4,'7-4-18'!$A$4:$R$23,18,FALSE),0)","v":0},{"$f":"IF(VLOOKUP($A4,'7-11-18'!$A$4:$R$23,18,FALSE)<>\"\",VLOOKUP($A4,'7-11-18'!$A$4:$R$23,18,FALSE),0)","v":0},{"$f":"IF(VLOOKUP($A4,'7-18-18'!$A$4:$R$23,18,FALSE)<>\"\",VLOOKUP($A4,'7-18-18'!$A$4:$R$23,18,FALSE),0)","v":0},{"$f":"IF(VLOOKUP($A4,'7-25-18'!$A$4:$R$23,18,FALSE)<>\"\",VLOOKUP($A4,'7-25-18'!$A$4:$R$23,18,FALSE),0)","v":0},{"$f":"IF(VLOOKUP($A4,'8-1-18'!$A$4:$R$23,18,FALSE)<>\"\",VLOOKUP($A4,'8-1-18'!$A$4:$R$23,18,FALSE),0)","v":0},{"$f":"IF(VLOOKUP($A4,'8-8-18'!$A$4:$R$23,18,FALSE)<>\"\",VLOOKUP($A4,'8-8-18'!$A$4:$R$23,18,FALSE),0)","v":0},{"$f":"IF(VLOOKUP($A4,'8-15-18'!$A$4:$R$23,18,FALSE)<>\"\",VLOOKUP($A4,'8-15-18'!$A$4:$R$23,18,FALSE),0)","v":0},{"$f":"IF(VLOOKUP($A4,'8-22-18'!$A$4:$R$23,18,FALSE)<>\"\",VLOOKUP($A4,'8-22-18'!$A$4:$R$23,18,FALSE),0)","v":0},{"$f":"IF(VLOOKUP($A4,'8-29-18'!$A$4:$R$23,18,FALSE)<>\"\",VLOOKUP($A4,'8-29-18'!$A$4:$R$23,18,FALSE),0)","v":0},{"$f":"IF(VLOOKUP($A4,'9-7-18'!$A$4:$R$23,18,FALSE)<>\"\",VLOOKUP($A4,'9-7-18'!$A$4:$R$23,18,FALSE),0)","v":0},{"$f":"IF(VLOOKUP($A4,'9-12-18'!$A$4:$R$23,18,FALSE)<>\"\",VLOOKUP($A4,'9-12-18'!$A$4:$R$23,18,FALSE),0)","v":0},{"$f":"IF(VLOOKUP($A4,'9-19-18'!$A$4:$R$23,18,FALSE)<>\"\",VLOOKUP($A4,'9-19-18'!$A$4:$R$23,18,FALSE),0)","v":0},{"$f":"IF(VLOOKUP($A4,'9-26-18'!$A$4:$R$23,18,FALSE)<>\"\",VLOOKUP($A4,'9-26-18'!$A$4:$R$23,18,FALSE),0)","v":0},{"$f":"IF(VLOOKUP($A4,'10-10-18'!$A$4:$R$23,18,FALSE)<>\"\",VLOOKUP($A4,'10-10-18'!$A$4:$R$23,18,FALSE),0)","v":0},{"$f":"IF(VLOOKUP($A4,'10-3-18'!$A$4:$R$23,18,FALSE)<>\"\",VLOOKUP($A4,'10-3-18'!$A$4:$R$23,18,FALSE),0)","v":0},{"$f":"IF(SUM(C4:Y4)>0,SUM(C4:Y4),0)","v":53}]
[{"$f":"CONCATENATE('Skippers List'!B16,\" \",'Skippers List'!C16)","v":"2753 Gene McNurlen"},{"$f":"IF(Z5>0,RANK(Z5,$Z$4:$Z$23,0),\"\")","v":6},{"$f":"IF(VLOOKUP($A5,'5-9-18'!$A$4:$R$23,18,FALSE)<>\"\",VLOOKUP($A5,'5-9-18'!$A$4:$R$23,18,FALSE),0)","v":0},{"$f":"IF(VLOOKUP($A5,'5-16-18'!$A$4:$R$23,18,FALSE)<>\"\",VLOOKUP($A5,'5-16-18'!$A$4:$R$23,18,FALSE),0)","v":0},{"$f":"IF(VLOOKUP($A5,'5-23-18'!$A$4:$R$23,18,FALSE)<>\"\",VLOOKUP($A5,'5-23-18'!$A$4:$R$23,18,FALSE),0)","v":30.5},{"$f":"IF(VLOOKUP($A5,'5-30-18'!$A$4:$R$23,18,FALSE)<>\"\",VLOOKUP($A5,'5-30-18'!$A$4:$R$23,18,FALSE),0)","v":0},{"$f":"IF(VLOOKUP($A5,'6-6-18'!$A$4:$R$23,18,FALSE)<>\"\",VLOOKUP($A5,'6-6-18'!$A$4:$R$23,18,FALSE),0)","v":0},{"$f":"IF(VLOOKUP($A5,'6-13-18'!$A$4:$R$23,18,FALSE)<>\"\",VLOOKUP($A5,'6-13-18'!$A$4:$R$23,18,FALSE),0)","v":0},{"$f":"IF(VLOOKUP($A5,'6-20-18'!$A$4:$R$23,18,FALSE)<>\"\",VLOOKUP($A5,'6-20-18'!$A$4:$R$23,18,FALSE),0)","v":0},{"$f":"IF(VLOOKUP($A5,'6-27-18'!$A$4:$R$23,18,FALSE)<>\"\",VLOOKUP($A5,'6-27-18'!$A$4:$R$23,18,FALSE),0)","v":0},{"$f":"IF(VLOOKUP($A5,'7-4-18'!$A$4:$R$23,18,FALSE)<>\"\",VLOOKUP($A5,'7-4-18'!$A$4:$R$23,18,FALSE),0)","v":0},{"$f":"IF(VLOOKUP($A5,'7-11-18'!$A$4:$R$23,18,FALSE)<>\"\",VLOOKUP($A5,'7-11-18'!$A$4:$R$23,18,FALSE),0)","v":0},{"$f":"IF(VLOOKUP($A5,'7-18-18'!$A$4:$R$23,18,FALSE)<>\"\",VLOOKUP($A5,'7-18-18'!$A$4:$R$23,18,FALSE),0)","v":0},{"$f":"IF(VLOOKUP($A5,'7-25-18'!$A$4:$R$23,18,FALSE)<>\"\",VLOOKUP($A5,'7-25-18'!$A$4:$R$23,18,FALSE),0)","v":0},{"$f":"IF(VLOOKUP($A5,'8-1-18'!$A$4:$R$23,18,FALSE)<>\"\",VLOOKUP($A5,'8-1-18'!$A$4:$R$23,18,FALSE),0)","v":0},{"$f":"IF(VLOOKUP($A5,'8-8-18'!$A$4:$R$23,18,FALSE)<>\"\",VLOOKUP($A5,'8-8-18'!$A$4:$R$23,18,FALSE),0)","v":0},{"$f":"IF(VLOOKUP($A5,'8-15-18'!$A$4:$R$23,18,FALSE)<>\"\",VLOOKUP($A5,'8-15-18'!$A$4:$R$23,18,FALSE),0)","v":0},{"$f":"IF(VLOOKUP($A5,'8-22-18'!$A$4:$R$23,18,FALSE)<>\"\",VLOOKUP($A5,'8-22-18'!$A$4:$R$23,18,FALSE),0)","v":0},{"$f":"IF(VLOOKUP($A5,'8-29-18'!$A$4:$R$23,18,FALSE)<>\"\",VLOOKUP($A5,'8-29-18'!$A$4:$R$23,18,FALSE),0)","v":0},{"$f":"IF(VLOOKUP($A5,'9-7-18'!$A$4:$R$23,18,FALSE)<>\"\",VLOOKUP($A5,'9-7-18'!$A$4:$R$23,18,FALSE),0)","v":0},{"$f":"IF(VLOOKUP($A5,'9-12-18'!$A$4:$R$23,18,FALSE)<>\"\",VLOOKUP($A5,'9-12-18'!$A$4:$R$23,18,FALSE),0)","v":0},{"$f":"IF(VLOOKUP($A5,'9-19-18'!$A$4:$R$23,18,FALSE)<>\"\",VLOOKUP($A5,'9-19-18'!$A$4:$R$23,18,FALSE),0)","v":0},{"$f":"IF(VLOOKUP($A5,'9-26-18'!$A$4:$R$23,18,FALSE)<>\"\",VLOOKUP($A5,'9-26-18'!$A$4:$R$23,18,FALSE),0)","v":0},{"$f":"IF(VLOOKUP($A5,'10-10-18'!$A$4:$R$23,18,FALSE)<>\"\",VLOOKUP($A5,'10-10-18'!$A$4:$R$23,18,FALSE),0)","v":0},{"$f":"IF(VLOOKUP($A5,'10-3-18'!$A$4:$R$23,18,FALSE)<>\"\",VLOOKUP($A5,'10-3-18'!$A$4:$R$23,18,FALSE),0)","v":0},{"$f":"IF(SUM(C5:Y5)>0,SUM(C5:Y5),0)","v":30.5}]
[{"$f":"CONCATENATE('Skippers List'!B17,\" \",'Skippers List'!C17)","v":"3011 Karl Maas"},1,{"$f":"IF(VLOOKUP($A6,'5-9-18'!$A$4:$R$23,18,FALSE)<>\"\",VLOOKUP($A6,'5-9-18'!$A$4:$R$23,18,FALSE),0)","v":0},{"$f":"IF(VLOOKUP($A6,'5-16-18'!$A$4:$R$23,18,FALSE)<>\"\",VLOOKUP($A6,'5-16-18'!$A$4:$R$23,18,FALSE),0)","v":0},{"$f":"IF(VLOOKUP($A6,'5-23-18'!$A$4:$R$23,18,FALSE)<>\"\",VLOOKUP($A6,'5-23-18'!$A$4:$R$23,18,FALSE),0)","v":25.5},{"$f":"IF(VLOOKUP($A6,'5-30-18'!$A$4:$R$23,18,FALSE)<>\"\",VLOOKUP($A6,'5-30-18'!$A$4:$R$23,18,FALSE),0)","v":0},{"$f":"IF(VLOOKUP($A6,'6-6-18'!$A$4:$R$23,18,FALSE)<>\"\",VLOOKUP($A6,'6-6-18'!$A$4:$R$23,18,FALSE),0)","v":16.5},{"$f":"IF(VLOOKUP($A6,'6-13-18'!$A$4:$R$23,18,FALSE)<>\"\",VLOOKUP($A6,'6-13-18'!$A$4:$R$23,18,FALSE),0)","v":22},{"$f":"IF(VLOOKUP($A6,'6-20-18'!$A$4:$R$23,18,FALSE)<>\"\",VLOOKUP($A6,'6-20-18'!$A$4:$R$23,18,FALSE),0)","v":0},{"$f":"IF(VLOOKUP($A6,'6-27-18'!$A$4:$R$23,18,FALSE)<>\"\",VLOOKUP($A6,'6-27-18'!$A$4:$R$23,18,FALSE),0)","v":0},{"$f":"IF(VLOOKUP($A6,'7-4-18'!$A$4:$R$23,18,FALSE)<>\"\",VLOOKUP($A6,'7-4-18'!$A$4:$R$23,18,FALSE),0)","v":0},{"$f":"IF(VLOOKUP($A6,'7-11-18'!$A$4:$R$23,18,FALSE)<>\"\",VLOOKUP($A6,'7-11-18'!$A$4:$R$23,18,FALSE),0)","v":0},{"$f":"IF(VLOOKUP($A6,'7-18-18'!$A$4:$R$23,18,FALSE)<>\"\",VLOOKUP($A6,'7-18-18'!$A$4:$R$23,18,FALSE),0)","v":0},{"$f":"IF(VLOOKUP($A6,'7-25-18'!$A$4:$R$23,18,FALSE)<>\"\",VLOOKUP($A6,'7-25-18'!$A$4:$R$23,18,FALSE),0)","v":0},{"$f":"IF(VLOOKUP($A6,'8-1-18'!$A$4:$R$23,18,FALSE)<>\"\",VLOOKUP($A6,'8-1-18'!$A$4:$R$23,18,FALSE),0)","v":0},{"$f":"IF(VLOOKUP($A6,'8-8-18'!$A$4:$R$23,18,FALSE)<>\"\",VLOOKUP($A6,'8-8-18'!$A$4:$R$23,18,FALSE),0)","v":0},{"$f":"IF(VLOOKUP($A6,'8-15-18'!$A$4:$R$23,18,FALSE)<>\"\",VLOOKUP($A6,'8-15-18'!$A$4:$R$23,18,FALSE),0)","v":0},{"$f":"IF(VLOOKUP($A6,'8-22-18'!$A$4:$R$23,18,FALSE)<>\"\",VLOOKUP($A6,'8-22-18'!$A$4:$R$23,18,FALSE),0)","v":0},{"$f":"IF(VLOOKUP($A6,'8-29-18'!$A$4:$R$23,18,FALSE)<>\"\",VLOOKUP($A6,'8-29-18'!$A$4:$R$23,18,FALSE),0)","v":0},{"$f":"IF(VLOOKUP($A6,'9-7-18'!$A$4:$R$23,18,FALSE)<>\"\",VLOOKUP($A6,'9-7-18'!$A$4:$R$23,18,FALSE),0)","v":0},{"$f":"IF(VLOOKUP($A6,'9-12-18'!$A$4:$R$23,18,FALSE)<>\"\",VLOOKUP($A6,'9-12-18'!$A$4:$R$23,18,FALSE),0)","v":0},{"$f":"IF(VLOOKUP($A6,'9-19-18'!$A$4:$R$23,18,FALSE)<>\"\",VLOOKUP($A6,'9-19-18'!$A$4:$R$23,18,FALSE),0)","v":0},{"$f":"IF(VLOOKUP($A6,'9-26-18'!$A$4:$R$23,18,FALSE)<>\"\",VLOOKUP($A6,'9-26-18'!$A$4:$R$23,18,FALSE),0)","v":0},{"$f":"IF(VLOOKUP($A6,'10-10-18'!$A$4:$R$23,18,FALSE)<>\"\",VLOOKUP($A6,'10-10-18'!$A$4:$R$23,18,FALSE),0)","v":0},{"$f":"IF(VLOOKUP($A6,'10-3-18'!$A$4:$R$23,18,FALSE)<>\"\",VLOOKUP($A6,'10-3-18'!$A$4:$R$23,18,FALSE),0)","v":0},64]
[{"$f":"CONCATENATE('Skippers List'!B18,\" \",'Skippers List'!C18)","v":"3097 Jon Feist"},5,{"$f":"IF(VLOOKUP($A7,'5-9-18'!$A$4:$R$23,18,FALSE)<>\"\",VLOOKUP($A7,'5-9-18'!$A$4:$R$23,18,FALSE),0)","v":0},{"$f":"IF(VLOOKUP($A7,'5-16-18'!$A$4:$R$23,18,FALSE)<>\"\",VLOOKUP($A7,'5-16-18'!$A$4:$R$23,18,FALSE),0)","v":0},{"$f":"IF(VLOOKUP($A7,'5-23-18'!$A$4:$R$23,18,FALSE)<>\"\",VLOOKUP($A7,'5-23-18'!$A$4:$R$23,18,FALSE),0)","v":0},{"$f":"IF(VLOOKUP($A7,'5-30-18'!$A$4:$R$23,18,FALSE)<>\"\",VLOOKUP($A7,'5-30-18'!$A$4:$R$23,18,FALSE),0)","v":0},{"$f":"IF(VLOOKUP($A7,'6-6-18'!$A$4:$R$23,18,FALSE)<>\"\",VLOOKUP($A7,'6-6-18'!$A$4:$R$23,18,FALSE),0)","v":0},{"$f":"IF(VLOOKUP($A7,'6-13-18'!$A$4:$R$23,18,FALSE)<>\"\",VLOOKUP($A7,'6-13-18'!$A$4:$R$23,18,FALSE),0)","v":39.5},{"$f":"IF(VLOOKUP($A7,'6-20-18'!$A$4:$R$23,18,FALSE)<>\"\",VLOOKUP($A7,'6-20-18'!$A$4:$R$23,18,FALSE),0)","v":0},{"$f":"IF(VLOOKUP($A7,'6-27-18'!$A$4:$R$23,18,FALSE)<>\"\",VLOOKUP($A7,'6-27-18'!$A$4:$R$23,18,FALSE),0)","v":0},{"$f":"IF(VLOOKUP($A7,'7-4-18'!$A$4:$R$23,18,FALSE)<>\"\",VLOOKUP($A7,'7-4-18'!$A$4:$R$23,18,FALSE),0)","v":0},{"$f":"IF(VLOOKUP($A7,'7-11-18'!$A$4:$R$23,18,FALSE)<>\"\",VLOOKUP($A7,'7-11-18'!$A$4:$R$23,18,FALSE),0)","v":0},{"$f":"IF(VLOOKUP($A7,'7-18-18'!$A$4:$R$23,18,FALSE)<>\"\",VLOOKUP($A7,'7-18-18'!$A$4:$R$23,18,FALSE),0)","v":0},{"$f":"IF(VLOOKUP($A7,'7-25-18'!$A$4:$R$23,18,FALSE)<>\"\",VLOOKUP($A7,'7-25-18'!$A$4:$R$23,18,FALSE),0)","v":0},{"$f":"IF(VLOOKUP($A7,'8-1-18'!$A$4:$R$23,18,FALSE)<>\"\",VLOOKUP($A7,'8-1-18'!$A$4:$R$23,18,FALSE),0)","v":0},{"$f":"IF(VLOOKUP($A7,'8-8-18'!$A$4:$R$23,18,FALSE)<>\"\",VLOOKUP($A7,'8-8-18'!$A$4:$R$23,18,FALSE),0)","v":0},{"$f":"IF(VLOOKUP($A7,'8-15-18'!$A$4:$R$23,18,FALSE)<>\"\",VLOOKUP($A7,'8-15-18'!$A$4:$R$23,18,FALSE),0)","v":0},{"$f":"IF(VLOOKUP($A7,'8-22-18'!$A$4:$R$23,18,FALSE)<>\"\",VLOOKUP($A7,'8-22-18'!$A$4:$R$23,18,FALSE),0)","v":0},{"$f":"IF(VLOOKUP($A7,'8-29-18'!$A$4:$R$23,18,FALSE)<>\"\",VLOOKUP($A7,'8-29-18'!$A$4:$R$23,18,FALSE),0)","v":0},{"$f":"IF(VLOOKUP($A7,'9-7-18'!$A$4:$R$23,18,FALSE)<>\"\",VLOOKUP($A7,'9-7-18'!$A$4:$R$23,18,FALSE),0)","v":0},{"$f":"IF(VLOOKUP($A7,'9-12-18'!$A$4:$R$23,18,FALSE)<>\"\",VLOOKUP($A7,'9-12-18'!$A$4:$R$23,18,FALSE),0)","v":0},{"$f":"IF(VLOOKUP($A7,'9-19-18'!$A$4:$R$23,18,FALSE)<>\"\",VLOOKUP($A7,'9-19-18'!$A$4:$R$23,18,FALSE),0)","v":0},{"$f":"IF(VLOOKUP($A7,'9-26-18'!$A$4:$R$23,18,FALSE)<>\"\",VLOOKUP($A7,'9-26-18'!$A$4:$R$23,18,FALSE),0)","v":0},{"$f":"IF(VLOOKUP($A7,'10-10-18'!$A$4:$R$23,18,FALSE)<>\"\",VLOOKUP($A7,'10-10-18'!$A$4:$R$23,18,FALSE),0)","v":0},{"$f":"IF(VLOOKUP($A7,'10-3-18'!$A$4:$R$23,18,FALSE)<>\"\",VLOOKUP($A7,'10-3-18'!$A$4:$R$23,18,FALSE),0)","v":0},39.5]
[{"$f":"CONCATENATE('Skippers List'!B19,\" \",'Skippers List'!C19)","v":"4836 Nate Melby"},"",{"$f":"IF(VLOOKUP($A8,'5-9-18'!$A$4:$R$23,18,FALSE)<>\"\",VLOOKUP($A8,'5-9-18'!$A$4:$R$23,18,FALSE),0)","v":0},{"$f":"IF(VLOOKUP($A8,'5-16-18'!$A$4:$R$23,18,FALSE)<>\"\",VLOOKUP($A8,'5-16-18'!$A$4:$R$23,18,FALSE),0)","v":0},{"$f":"IF(VLOOKUP($A8,'5-23-18'!$A$4:$R$23,18,FALSE)<>\"\",VLOOKUP($A8,'5-23-18'!$A$4:$R$23,18,FALSE),0)","v":0},{"$f":"IF(VLOOKUP($A8,'5-30-18'!$A$4:$R$23,18,FALSE)<>\"\",VLOOKUP($A8,'5-30-18'!$A$4:$R$23,18,FALSE),0)","v":0},{"$f":"IF(VLOOKUP($A8,'6-6-18'!$A$4:$R$23,18,FALSE)<>\"\",VLOOKUP($A8,'6-6-18'!$A$4:$R$23,18,FALSE),0)","v":0},{"$f":"IF(VLOOKUP($A8,'6-13-18'!$A$4:$R$23,18,FALSE)<>\"\",VLOOKUP($A8,'6-13-18'!$A$4:$R$23,18,FALSE),0)","v":0},{"$f":"IF(VLOOKUP($A8,'6-20-18'!$A$4:$R$23,18,FALSE)<>\"\",VLOOKUP($A8,'6-20-18'!$A$4:$R$23,18,FALSE),0)","v":0},{"$f":"IF(VLOOKUP($A8,'6-27-18'!$A$4:$R$23,18,FALSE)<>\"\",VLOOKUP($A8,'6-27-18'!$A$4:$R$23,18,FALSE),0)","v":0},{"$f":"IF(VLOOKUP($A8,'7-4-18'!$A$4:$R$23,18,FALSE)<>\"\",VLOOKUP($A8,'7-4-18'!$A$4:$R$23,18,FALSE),0)","v":0},{"$f":"IF(VLOOKUP($A8,'7-11-18'!$A$4:$R$23,18,FALSE)<>\"\",VLOOKUP($A8,'7-11-18'!$A$4:$R$23,18,FALSE),0)","v":0},{"$f":"IF(VLOOKUP($A8,'7-18-18'!$A$4:$R$23,18,FALSE)<>\"\",VLOOKUP($A8,'7-18-18'!$A$4:$R$23,18,FALSE),0)","v":0},{"$f":"IF(VLOOKUP($A8,'7-25-18'!$A$4:$R$23,18,FALSE)<>\"\",VLOOKUP($A8,'7-25-18'!$A$4:$R$23,18,FALSE),0)","v":0},{"$f":"IF(VLOOKUP($A8,'8-1-18'!$A$4:$R$23,18,FALSE)<>\"\",VLOOKUP($A8,'8-1-18'!$A$4:$R$23,18,FALSE),0)","v":0},{"$f":"IF(VLOOKUP($A8,'8-8-18'!$A$4:$R$23,18,FALSE)<>\"\",VLOOKUP($A8,'8-8-18'!$A$4:$R$23,18,FALSE),0)","v":0},{"$f":"IF(VLOOKUP($A8,'8-15-18'!$A$4:$R$23,18,FALSE)<>\"\",VLOOKUP($A8,'8-15-18'!$A$4:$R$23,18,FALSE),0)","v":0},{"$f":"IF(VLOOKUP($A8,'8-22-18'!$A$4:$R$23,18,FALSE)<>\"\",VLOOKUP($A8,'8-22-18'!$A$4:$R$23,18,FALSE),0)","v":0},{"$f":"IF(VLOOKUP($A8,'8-29-18'!$A$4:$R$23,18,FALSE)<>\"\",VLOOKUP($A8,'8-29-18'!$A$4:$R$23,18,FALSE),0)","v":0},{"$f":"IF(VLOOKUP($A8,'9-7-18'!$A$4:$R$23,18,FALSE)<>\"\",VLOOKUP($A8,'9-7-18'!$A$4:$R$23,18,FALSE),0)","v":0},{"$f":"IF(VLOOKUP($A8,'9-12-18'!$A$4:$R$23,18,FALSE)<>\"\",VLOOKUP($A8,'9-12-18'!$A$4:$R$23,18,FALSE),0)","v":0},{"$f":"IF(VLOOKUP($A8,'9-19-18'!$A$4:$R$23,18,FALSE)<>\"\",VLOOKUP($A8,'9-19-18'!$A$4:$R$23,18,FALSE),0)","v":0},{"$f":"IF(VLOOKUP($A8,'9-26-18'!$A$4:$R$23,18,FALSE)<>\"\",VLOOKUP($A8,'9-26-18'!$A$4:$R$23,18,FALSE),0)","v":0},{"$f":"IF(VLOOKUP($A8,'10-10-18'!$A$4:$R$23,18,FALSE)<>\"\",VLOOKUP($A8,'10-10-18'!$A$4:$R$23,18,FALSE),0)","v":0},{"$f":"IF(VLOOKUP($A8,'10-3-18'!$A$4:$R$23,18,FALSE)<>\"\",VLOOKUP($A8,'10-3-18'!$A$4:$R$23,18,FALSE),0)","v":0},0]
[{"$f":"CONCATENATE('Skippers List'!B20,\" \",'Skippers List'!C20)","v":"5251 Jordan Cerney"},"",{"$f":"IF(VLOOKUP($A9,'5-9-18'!$A$4:$R$23,18,FALSE)<>\"\",VLOOKUP($A9,'5-9-18'!$A$4:$R$23,18,FALSE),0)","v":0},{"$f":"IF(VLOOKUP($A9,'5-16-18'!$A$4:$R$23,18,FALSE)<>\"\",VLOOKUP($A9,'5-16-18'!$A$4:$R$23,18,FALSE),0)","v":0},{"$f":"IF(VLOOKUP($A9,'5-23-18'!$A$4:$R$23,18,FALSE)<>\"\",VLOOKUP($A9,'5-23-18'!$A$4:$R$23,18,FALSE),0)","v":0},{"$f":"IF(VLOOKUP($A9,'5-30-18'!$A$4:$R$23,18,FALSE)<>\"\",VLOOKUP($A9,'5-30-18'!$A$4:$R$23,18,FALSE),0)","v":0},{"$f":"IF(VLOOKUP($A9,'6-6-18'!$A$4:$R$23,18,FALSE)<>\"\",VLOOKUP($A9,'6-6-18'!$A$4:$R$23,18,FALSE),0)","v":0},{"$f":"IF(VLOOKUP($A9,'6-13-18'!$A$4:$R$23,18,FALSE)<>\"\",VLOOKUP($A9,'6-13-18'!$A$4:$R$23,18,FALSE),0)","v":0},{"$f":"IF(VLOOKUP($A9,'6-20-18'!$A$4:$R$23,18,FALSE)<>\"\",VLOOKUP($A9,'6-20-18'!$A$4:$R$23,18,FALSE),0)","v":0},{"$f":"IF(VLOOKUP($A9,'6-27-18'!$A$4:$R$23,18,FALSE)<>\"\",VLOOKUP($A9,'6-27-18'!$A$4:$R$23,18,FALSE),0)","v":0},{"$f":"IF(VLOOKUP($A9,'7-4-18'!$A$4:$R$23,18,FALSE)<>\"\",VLOOKUP($A9,'7-4-18'!$A$4:$R$23,18,FALSE),0)","v":0},{"$f":"IF(VLOOKUP($A9,'7-11-18'!$A$4:$R$23,18,FALSE)<>\"\",VLOOKUP($A9,'7-11-18'!$A$4:$R$23,18,FALSE),0)","v":0},{"$f":"IF(VLOOKUP($A9,'7-18-18'!$A$4:$R$23,18,FALSE)<>\"\",VLOOKUP($A9,'7-18-18'!$A$4:$R$23,18,FALSE),0)","v":0},{"$f":"IF(VLOOKUP($A9,'7-25-18'!$A$4:$R$23,18,FALSE)<>\"\",VLOOKUP($A9,'7-25-18'!$A$4:$R$23,18,FALSE),0)","v":0},{"$f":"IF(VLOOKUP($A9,'8-1-18'!$A$4:$R$23,18,FALSE)<>\"\",VLOOKUP($A9,'8-1-18'!$A$4:$R$23,18,FALSE),0)","v":0},{"$f":"IF(VLOOKUP($A9,'8-8-18'!$A$4:$R$23,18,FALSE)<>\"\",VLOOKUP($A9,'8-8-18'!$A$4:$R$23,18,FALSE),0)","v":0},{"$f":"IF(VLOOKUP($A9,'8-15-18'!$A$4:$R$23,18,FALSE)<>\"\",VLOOKUP($A9,'8-15-18'!$A$4:$R$23,18,FALSE),0)","v":0},{"$f":"IF(VLOOKUP($A9,'8-22-18'!$A$4:$R$23,18,FALSE)<>\"\",VLOOKUP($A9,'8-22-18'!$A$4:$R$23,18,FALSE),0)","v":0},{"$f":"IF(VLOOKUP($A9,'8-29-18'!$A$4:$R$23,18,FALSE)<>\"\",VLOOKUP($A9,'8-29-18'!$A$4:$R$23,18,FALSE),0)","v":0},{"$f":"IF(VLOOKUP($A9,'9-7-18'!$A$4:$R$23,18,FALSE)<>\"\",VLOOKUP($A9,'9-7-18'!$A$4:$R$23,18,FALSE),0)","v":0},{"$f":"IF(VLOOKUP($A9,'9-12-18'!$A$4:$R$23,18,FALSE)<>\"\",VLOOKUP($A9,'9-12-18'!$A$4:$R$23,18,FALSE),0)","v":0},{"$f":"IF(VLOOKUP($A9,'9-19-18'!$A$4:$R$23,18,FALSE)<>\"\",VLOOKUP($A9,'9-19-18'!$A$4:$R$23,18,FALSE),0)","v":0},{"$f":"IF(VLOOKUP($A9,'9-26-18'!$A$4:$R$23,18,FALSE)<>\"\",VLOOKUP($A9,'9-26-18'!$A$4:$R$23,18,FALSE),0)","v":0},{"$f":"IF(VLOOKUP($A9,'10-10-18'!$A$4:$R$23,18,FALSE)<>\"\",VLOOKUP($A9,'10-10-18'!$A$4:$R$23,18,FALSE),0)","v":0},{"$f":"IF(VLOOKUP($A9,'10-3-18'!$A$4:$R$23,18,FALSE)<>\"\",VLOOKUP($A9,'10-3-18'!$A$4:$R$23,18,FALSE),0)","v":0},0]
[{"$f":"CONCATENATE('Skippers List'!B21,\" \",'Skippers List'!C21)","v":"11062 Dave Vind"},4,{"$f":"IF(VLOOKUP($A10,'5-9-18'!$A$4:$R$23,18,FALSE)<>\"\",VLOOKUP($A10,'5-9-18'!$A$4:$R$23,18,FALSE),0)","v":0},{"$f":"IF(VLOOKUP($A10,'5-16-18'!$A$4:$R$23,18,FALSE)<>\"\",VLOOKUP($A10,'5-16-18'!$A$4:$R$23,18,FALSE),0)","v":0},{"$f":"IF(VLOOKUP($A10,'5-23-18'!$A$4:$R$23,18,FALSE)<>\"\",VLOOKUP($A10,'5-23-18'!$A$4:$R$23,18,FALSE),0)","v":15},{"$f":"IF(VLOOKUP($A10,'5-30-18'!$A$4:$R$23,18,FALSE)<>\"\",VLOOKUP($A10,'5-30-18'!$A$4:$R$23,18,FALSE),0)","v":0},{"$f":"IF(VLOOKUP($A10,'6-6-18'!$A$4:$R$23,18,FALSE)<>\"\",VLOOKUP($A10,'6-6-18'!$A$4:$R$23,18,FALSE),0)","v":12},{"$f":"IF(VLOOKUP($A10,'6-13-18'!$A$4:$R$23,18,FALSE)<>\"\",VLOOKUP($A10,'6-13-18'!$A$4:$R$23,18,FALSE),0)","v":22},{"$f":"IF(VLOOKUP($A10,'6-20-18'!$A$4:$R$23,18,FALSE)<>\"\",VLOOKUP($A10,'6-20-18'!$A$4:$R$23,18,FALSE),0)","v":0},{"$f":"IF(VLOOKUP($A10,'6-27-18'!$A$4:$R$23,18,FALSE)<>\"\",VLOOKUP($A10,'6-27-18'!$A$4:$R$23,18,FALSE),0)","v":0},{"$f":"IF(VLOOKUP($A10,'7-4-18'!$A$4:$R$23,18,FALSE)<>\"\",VLOOKUP($A10,'7-4-18'!$A$4:$R$23,18,FALSE),0)","v":0},{"$f":"IF(VLOOKUP($A10,'7-11-18'!$A$4:$R$23,18,FALSE)<>\"\",VLOOKUP($A10,'7-11-18'!$A$4:$R$23,18,FALSE),0)","v":0},{"$f":"IF(VLOOKUP($A10,'7-18-18'!$A$4:$R$23,18,FALSE)<>\"\",VLOOKUP($A10,'7-18-18'!$A$4:$R$23,18,FALSE),0)","v":0},{"$f":"IF(VLOOKUP($A10,'7-25-18'!$A$4:$R$23,18,FALSE)<>\"\",VLOOKUP($A10,'7-25-18'!$A$4:$R$23,18,FALSE),0)","v":0},{"$f":"IF(VLOOKUP($A10,'8-1-18'!$A$4:$R$23,18,FALSE)<>\"\",VLOOKUP($A10,'8-1-18'!$A$4:$R$23,18,FALSE),0)","v":0},{"$f":"IF(VLOOKUP($A10,'8-8-18'!$A$4:$R$23,18,FALSE)<>\"\",VLOOKUP($A10,'8-8-18'!$A$4:$R$23,18,FALSE),0)","v":0},{"$f":"IF(VLOOKUP($A10,'8-15-18'!$A$4:$R$23,18,FALSE)<>\"\",VLOOKUP($A10,'8-15-18'!$A$4:$R$23,18,FALSE),0)","v":0},{"$f":"IF(VLOOKUP($A10,'8-22-18'!$A$4:$R$23,18,FALSE)<>\"\",VLOOKUP($A10,'8-22-18'!$A$4:$R$23,18,FALSE),0)","v":0},{"$f":"IF(VLOOKUP($A10,'8-29-18'!$A$4:$R$23,18,FALSE)<>\"\",VLOOKUP($A10,'8-29-18'!$A$4:$R$23,18,FALSE),0)","v":0},{"$f":"IF(VLOOKUP($A10,'9-7-18'!$A$4:$R$23,18,FALSE)<>\"\",VLOOKUP($A10,'9-7-18'!$A$4:$R$23,18,FALSE),0)","v":0},{"$f":"IF(VLOOKUP($A10,'9-12-18'!$A$4:$R$23,18,FALSE)<>\"\",VLOOKUP($A10,'9-12-18'!$A$4:$R$23,18,FALSE),0)","v":0},{"$f":"IF(VLOOKUP($A10,'9-19-18'!$A$4:$R$23,18,FALSE)<>\"\",VLOOKUP($A10,'9-19-18'!$A$4:$R$23,18,FALSE),0)","v":0},{"$f":"IF(VLOOKUP($A10,'9-26-18'!$A$4:$R$23,18,FALSE)<>\"\",VLOOKUP($A10,'9-26-18'!$A$4:$R$23,18,FALSE),0)","v":0},{"$f":"IF(VLOOKUP($A10,'10-10-18'!$A$4:$R$23,18,FALSE)<>\"\",VLOOKUP($A10,'10-10-18'!$A$4:$R$23,18,FALSE),0)","v":0},{"$f":"IF(VLOOKUP($A10,'10-3-18'!$A$4:$R$23,18,FALSE)<>\"\",VLOOKUP($A10,'10-3-18'!$A$4:$R$23,18,FALSE),0)","v":0},49]
[{"$f":"CONCATENATE('Skippers List'!B22,\" \",'Skippers List'!C22)","v":"11791 Stephen Taylor"},7,{"$f":"IF(VLOOKUP($A11,'5-9-18'!$A$4:$R$23,18,FALSE)<>\"\",VLOOKUP($A11,'5-9-18'!$A$4:$R$23,18,FALSE),0)","v":0},{"$f":"IF(VLOOKUP($A11,'5-16-18'!$A$4:$R$23,18,FALSE)<>\"\",VLOOKUP($A11,'5-16-18'!$A$4:$R$23,18,FALSE),0)","v":0},{"$f":"IF(VLOOKUP($A11,'5-23-18'!$A$4:$R$23,18,FALSE)<>\"\",VLOOKUP($A11,'5-23-18'!$A$4:$R$23,18,FALSE),0)","v":0},{"$f":"IF(VLOOKUP($A11,'5-30-18'!$A$4:$R$23,18,FALSE)<>\"\",VLOOKUP($A11,'5-30-18'!$A$4:$R$23,18,FALSE),0)","v":0},{"$f":"IF(VLOOKUP($A11,'6-6-18'!$A$4:$R$23,18,FALSE)<>\"\",VLOOKUP($A11,'6-6-18'!$A$4:$R$23,18,FALSE),0)","v":0},{"$f":"IF(VLOOKUP($A11,'6-13-18'!$A$4:$R$23,18,FALSE)<>\"\",VLOOKUP($A11,'6-13-18'!$A$4:$R$23,18,FALSE),0)","v":27},{"$f":"IF(VLOOKUP($A11,'6-20-18'!$A$4:$R$23,18,FALSE)<>\"\",VLOOKUP($A11,'6-20-18'!$A$4:$R$23,18,FALSE),0)","v":0},{"$f":"IF(VLOOKUP($A11,'6-27-18'!$A$4:$R$23,18,FALSE)<>\"\",VLOOKUP($A11,'6-27-18'!$A$4:$R$23,18,FALSE),0)","v":0},{"$f":"IF(VLOOKUP($A11,'7-4-18'!$A$4:$R$23,18,FALSE)<>\"\",VLOOKUP($A11,'7-4-18'!$A$4:$R$23,18,FALSE),0)","v":0},{"$f":"IF(VLOOKUP($A11,'7-11-18'!$A$4:$R$23,18,FALSE)<>\"\",VLOOKUP($A11,'7-11-18'!$A$4:$R$23,18,FALSE),0)","v":0},{"$f":"IF(VLOOKUP($A11,'7-18-18'!$A$4:$R$23,18,FALSE)<>\"\",VLOOKUP($A11,'7-18-18'!$A$4:$R$23,18,FALSE),0)","v":0},{"$f":"IF(VLOOKUP($A11,'7-25-18'!$A$4:$R$23,18,FALSE)<>\"\",VLOOKUP($A11,'7-25-18'!$A$4:$R$23,18,FALSE),0)","v":0},{"$f":"IF(VLOOKUP($A11,'8-1-18'!$A$4:$R$23,18,FALSE)<>\"\",VLOOKUP($A11,'8-1-18'!$A$4:$R$23,18,FALSE),0)","v":0},{"$f":"IF(VLOOKUP($A11,'8-8-18'!$A$4:$R$23,18,FALSE)<>\"\",VLOOKUP($A11,'8-8-18'!$A$4:$R$23,18,FALSE),0)","v":0},{"$f":"IF(VLOOKUP($A11,'8-15-18'!$A$4:$R$23,18,FALSE)<>\"\",VLOOKUP($A11,'8-15-18'!$A$4:$R$23,18,FALSE),0)","v":0},{"$f":"IF(VLOOKUP($A11,'8-22-18'!$A$4:$R$23,18,FALSE)<>\"\",VLOOKUP($A11,'8-22-18'!$A$4:$R$23,18,FALSE),0)","v":0},{"$f":"IF(VLOOKUP($A11,'8-29-18'!$A$4:$R$23,18,FALSE)<>\"\",VLOOKUP($A11,'8-29-18'!$A$4:$R$23,18,FALSE),0)","v":0},{"$f":"IF(VLOOKUP($A11,'9-7-18'!$A$4:$R$23,18,FALSE)<>\"\",VLOOKUP($A11,'9-7-18'!$A$4:$R$23,18,FALSE),0)","v":0},{"$f":"IF(VLOOKUP($A11,'9-12-18'!$A$4:$R$23,18,FALSE)<>\"\",VLOOKUP($A11,'9-12-18'!$A$4:$R$23,18,FALSE),0)","v":0},{"$f":"IF(VLOOKUP($A11,'9-19-18'!$A$4:$R$23,18,FALSE)<>\"\",VLOOKUP($A11,'9-19-18'!$A$4:$R$23,18,FALSE),0)","v":0},{"$f":"IF(VLOOKUP($A11,'9-26-18'!$A$4:$R$23,18,FALSE)<>\"\",VLOOKUP($A11,'9-26-18'!$A$4:$R$23,18,FALSE),0)","v":0},{"$f":"IF(VLOOKUP($A11,'10-10-18'!$A$4:$R$23,18,FALSE)<>\"\",VLOOKUP($A11,'10-10-18'!$A$4:$R$23,18,FALSE),0)","v":0},{"$f":"IF(VLOOKUP($A11,'10-3-18'!$A$4:$R$23,18,FALSE)<>\"\",VLOOKUP($A11,'10-3-18'!$A$4:$R$23,18,FALSE),0)","v":0},27]
[{"$f":"CONCATENATE('Skippers List'!B23,\" \",'Skippers List'!C23)","v":"13030 Lee Peterson"},2,{"$f":"IF(VLOOKUP($A12,'5-9-18'!$A$4:$R$23,18,FALSE)<>\"\",VLOOKUP($A12,'5-9-18'!$A$4:$R$23,18,FALSE),0)","v":0},{"$f":"IF(VLOOKUP($A12,'5-16-18'!$A$4:$R$23,18,FALSE)<>\"\",VLOOKUP($A12,'5-16-18'!$A$4:$R$23,18,FALSE),0)","v":0},{"$f":"IF(VLOOKUP($A12,'5-23-18'!$A$4:$R$23,18,FALSE)<>\"\",VLOOKUP($A12,'5-23-18'!$A$4:$R$23,18,FALSE),0)","v":0},{"$f":"IF(VLOOKUP($A12,'5-30-18'!$A$4:$R$23,18,FALSE)<>\"\",VLOOKUP($A12,'5-30-18'!$A$4:$R$23,18,FALSE),0)","v":0},{"$f":"IF(VLOOKUP($A12,'6-6-18'!$A$4:$R$23,18,FALSE)<>\"\",VLOOKUP($A12,'6-6-18'!$A$4:$R$23,18,FALSE),0)","v":18},{"$f":"IF(VLOOKUP($A12,'6-13-18'!$A$4:$R$23,18,FALSE)<>\"\",VLOOKUP($A12,'6-13-18'!$A$4:$R$23,18,FALSE),0)","v":42.5},{"$f":"IF(VLOOKUP($A12,'6-20-18'!$A$4:$R$23,18,FALSE)<>\"\",VLOOKUP($A12,'6-20-18'!$A$4:$R$23,18,FALSE),0)","v":0},{"$f":"IF(VLOOKUP($A12,'6-27-18'!$A$4:$R$23,18,FALSE)<>\"\",VLOOKUP($A12,'6-27-18'!$A$4:$R$23,18,FALSE),0)","v":0},{"$f":"IF(VLOOKUP($A12,'7-4-18'!$A$4:$R$23,18,FALSE)<>\"\",VLOOKUP($A12,'7-4-18'!$A$4:$R$23,18,FALSE),0)","v":0},{"$f":"IF(VLOOKUP($A12,'7-11-18'!$A$4:$R$23,18,FALSE)<>\"\",VLOOKUP($A12,'7-11-18'!$A$4:$R$23,18,FALSE),0)","v":0},{"$f":"IF(VLOOKUP($A12,'7-18-18'!$A$4:$R$23,18,FALSE)<>\"\",VLOOKUP($A12,'7-18-18'!$A$4:$R$23,18,FALSE),0)","v":0},{"$f":"IF(VLOOKUP($A12,'7-25-18'!$A$4:$R$23,18,FALSE)<>\"\",VLOOKUP($A12,'7-25-18'!$A$4:$R$23,18,FALSE),0)","v":0},{"$f":"IF(VLOOKUP($A12,'8-1-18'!$A$4:$R$23,18,FALSE)<>\"\",VLOOKUP($A12,'8-1-18'!$A$4:$R$23,18,FALSE),0)","v":0},{"$f":"IF(VLOOKUP($A12,'8-8-18'!$A$4:$R$23,18,FALSE)<>\"\",VLOOKUP($A12,'8-8-18'!$A$4:$R$23,18,FALSE),0)","v":0},{"$f":"IF(VLOOKUP($A12,'8-15-18'!$A$4:$R$23,18,FALSE)<>\"\",VLOOKUP($A12,'8-15-18'!$A$4:$R$23,18,FALSE),0)","v":0},{"$f":"IF(VLOOKUP($A12,'8-22-18'!$A$4:$R$23,18,FALSE)<>\"\",VLOOKUP($A12,'8-22-18'!$A$4:$R$23,18,FALSE),0)","v":0},{"$f":"IF(VLOOKUP($A12,'8-29-18'!$A$4:$R$23,18,FALSE)<>\"\",VLOOKUP($A12,'8-29-18'!$A$4:$R$23,18,FALSE),0)","v":0},{"$f":"IF(VLOOKUP($A12,'9-7-18'!$A$4:$R$23,18,FALSE)<>\"\",VLOOKUP($A12,'9-7-18'!$A$4:$R$23,18,FALSE),0)","v":0},{"$f":"IF(VLOOKUP($A12,'9-12-18'!$A$4:$R$23,18,FALSE)<>\"\",VLOOKUP($A12,'9-12-18'!$A$4:$R$23,18,FALSE),0)","v":0},{"$f":"IF(VLOOKUP($A12,'9-19-18'!$A$4:$R$23,18,FALSE)<>\"\",VLOOKUP($A12,'9-19-18'!$A$4:$R$23,18,FALSE),0)","v":0},{"$f":"IF(VLOOKUP($A12,'9-26-18'!$A$4:$R$23,18,FALSE)<>\"\",VLOOKUP($A12,'9-26-18'!$A$4:$R$23,18,FALSE),0)","v":0},{"$f":"IF(VLOOKUP($A12,'10-10-18'!$A$4:$R$23,18,FALSE)<>\"\",VLOOKUP($A12,'10-10-18'!$A$4:$R$23,18,FALSE),0)","v":0},{"$f":"IF(VLOOKUP($A12,'10-3-18'!$A$4:$R$23,18,FALSE)<>\"\",VLOOKUP($A12,'10-3-18'!$A$4:$R$23,18,FALSE),0)","v":0},60.5]
[{"$f":"CONCATENATE('Skippers List'!B24,\" \",'Skippers List'!C24)","v":" "},"",{"$f":"IF(VLOOKUP($A13,'5-9-18'!$A$4:$R$23,18,FALSE)<>\"\",VLOOKUP($A13,'5-9-18'!$A$4:$R$23,18,FALSE),0)","v":0},{"$f":"IF(VLOOKUP($A13,'5-16-18'!$A$4:$R$23,18,FALSE)<>\"\",VLOOKUP($A13,'5-16-18'!$A$4:$R$23,18,FALSE),0)","v":0},{"$f":"IF(VLOOKUP($A13,'5-23-18'!$A$4:$R$23,18,FALSE)<>\"\",VLOOKUP($A13,'5-23-18'!$A$4:$R$23,18,FALSE),0)","v":0},{"$f":"IF(VLOOKUP($A13,'5-30-18'!$A$4:$R$23,18,FALSE)<>\"\",VLOOKUP($A13,'5-30-18'!$A$4:$R$23,18,FALSE),0)","v":0},{"$f":"IF(VLOOKUP($A13,'6-6-18'!$A$4:$R$23,18,FALSE)<>\"\",VLOOKUP($A13,'6-6-18'!$A$4:$R$23,18,FALSE),0)","v":0},{"$f":"IF(VLOOKUP($A13,'6-13-18'!$A$4:$R$23,18,FALSE)<>\"\",VLOOKUP($A13,'6-13-18'!$A$4:$R$23,18,FALSE),0)","v":0},{"$f":"IF(VLOOKUP($A13,'6-20-18'!$A$4:$R$23,18,FALSE)<>\"\",VLOOKUP($A13,'6-20-18'!$A$4:$R$23,18,FALSE),0)","v":0},{"$f":"IF(VLOOKUP($A13,'6-27-18'!$A$4:$R$23,18,FALSE)<>\"\",VLOOKUP($A13,'6-27-18'!$A$4:$R$23,18,FALSE),0)","v":0},{"$f":"IF(VLOOKUP($A13,'7-4-18'!$A$4:$R$23,18,FALSE)<>\"\",VLOOKUP($A13,'7-4-18'!$A$4:$R$23,18,FALSE),0)","v":0},{"$f":"IF(VLOOKUP($A13,'7-11-18'!$A$4:$R$23,18,FALSE)<>\"\",VLOOKUP($A13,'7-11-18'!$A$4:$R$23,18,FALSE),0)","v":0},{"$f":"IF(VLOOKUP($A13,'7-18-18'!$A$4:$R$23,18,FALSE)<>\"\",VLOOKUP($A13,'7-18-18'!$A$4:$R$23,18,FALSE),0)","v":0},{"$f":"IF(VLOOKUP($A13,'7-25-18'!$A$4:$R$23,18,FALSE)<>\"\",VLOOKUP($A13,'7-25-18'!$A$4:$R$23,18,FALSE),0)","v":0},{"$f":"IF(VLOOKUP($A13,'8-1-18'!$A$4:$R$23,18,FALSE)<>\"\",VLOOKUP($A13,'8-1-18'!$A$4:$R$23,18,FALSE),0)","v":0},{"$f":"IF(VLOOKUP($A13,'8-8-18'!$A$4:$R$23,18,FALSE)<>\"\",VLOOKUP($A13,'8-8-18'!$A$4:$R$23,18,FALSE),0)","v":0},{"$f":"IF(VLOOKUP($A13,'8-15-18'!$A$4:$R$23,18,FALSE)<>\"\",VLOOKUP($A13,'8-15-18'!$A$4:$R$23,18,FALSE),0)","v":0},{"$f":"IF(VLOOKUP($A13,'8-22-18'!$A$4:$R$23,18,FALSE)<>\"\",VLOOKUP($A13,'8-22-18'!$A$4:$R$23,18,FALSE),0)","v":0},{"$f":"IF(VLOOKUP($A13,'8-29-18'!$A$4:$R$23,18,FALSE)<>\"\",VLOOKUP($A13,'8-29-18'!$A$4:$R$23,18,FALSE),0)","v":0},{"$f":"IF(VLOOKUP($A13,'9-7-18'!$A$4:$R$23,18,FALSE)<>\"\",VLOOKUP($A13,'9-7-18'!$A$4:$R$23,18,FALSE),0)","v":0},{"$f":"IF(VLOOKUP($A13,'9-12-18'!$A$4:$R$23,18,FALSE)<>\"\",VLOOKUP($A13,'9-12-18'!$A$4:$R$23,18,FALSE),0)","v":0},{"$f":"IF(VLOOKUP($A13,'9-19-18'!$A$4:$R$23,18,FALSE)<>\"\",VLOOKUP($A13,'9-19-18'!$A$4:$R$23,18,FALSE),0)","v":0},{"$f":"IF(VLOOKUP($A13,'9-26-18'!$A$4:$R$23,18,FALSE)<>\"\",VLOOKUP($A13,'9-26-18'!$A$4:$R$23,18,FALSE),0)","v":0},{"$f":"IF(VLOOKUP($A13,'10-10-18'!$A$4:$R$23,18,FALSE)<>\"\",VLOOKUP($A13,'10-10-18'!$A$4:$R$23,18,FALSE),0)","v":0},{"$f":"IF(VLOOKUP($A13,'10-3-18'!$A$4:$R$23,18,FALSE)<>\"\",VLOOKUP($A13,'10-3-18'!$A$4:$R$23,18,FALSE),0)","v":0},0]
[{"$f":"CONCATENATE('Skippers List'!B25,\" \",'Skippers List'!C25)","v":" "},"",{"$f":"IF(VLOOKUP($A14,'5-9-18'!$A$4:$R$23,18,FALSE)<>\"\",VLOOKUP($A14,'5-9-18'!$A$4:$R$23,18,FALSE),0)","v":0},{"$f":"IF(VLOOKUP($A14,'5-16-18'!$A$4:$R$23,18,FALSE)<>\"\",VLOOKUP($A14,'5-16-18'!$A$4:$R$23,18,FALSE),0)","v":0},{"$f":"IF(VLOOKUP($A14,'5-23-18'!$A$4:$R$23,18,FALSE)<>\"\",VLOOKUP($A14,'5-23-18'!$A$4:$R$23,18,FALSE),0)","v":0},{"$f":"IF(VLOOKUP($A14,'5-30-18'!$A$4:$R$23,18,FALSE)<>\"\",VLOOKUP($A14,'5-30-18'!$A$4:$R$23,18,FALSE),0)","v":0},{"$f":"IF(VLOOKUP($A14,'6-6-18'!$A$4:$R$23,18,FALSE)<>\"\",VLOOKUP($A14,'6-6-18'!$A$4:$R$23,18,FALSE),0)","v":0},{"$f":"IF(VLOOKUP($A14,'6-13-18'!$A$4:$R$23,18,FALSE)<>\"\",VLOOKUP($A14,'6-13-18'!$A$4:$R$23,18,FALSE),0)","v":0},{"$f":"IF(VLOOKUP($A14,'6-20-18'!$A$4:$R$23,18,FALSE)<>\"\",VLOOKUP($A14,'6-20-18'!$A$4:$R$23,18,FALSE),0)","v":0},{"$f":"IF(VLOOKUP($A14,'6-27-18'!$A$4:$R$23,18,FALSE)<>\"\",VLOOKUP($A14,'6-27-18'!$A$4:$R$23,18,FALSE),0)","v":0},{"$f":"IF(VLOOKUP($A14,'7-4-18'!$A$4:$R$23,18,FALSE)<>\"\",VLOOKUP($A14,'7-4-18'!$A$4:$R$23,18,FALSE),0)","v":0},{"$f":"IF(VLOOKUP($A14,'7-11-18'!$A$4:$R$23,18,FALSE)<>\"\",VLOOKUP($A14,'7-11-18'!$A$4:$R$23,18,FALSE),0)","v":0},{"$f":"IF(VLOOKUP($A14,'7-18-18'!$A$4:$R$23,18,FALSE)<>\"\",VLOOKUP($A14,'7-18-18'!$A$4:$R$23,18,FALSE),0)","v":0},{"$f":"IF(VLOOKUP($A14,'7-25-18'!$A$4:$R$23,18,FALSE)<>\"\",VLOOKUP($A14,'7-25-18'!$A$4:$R$23,18,FALSE),0)","v":0},{"$f":"IF(VLOOKUP($A14,'8-1-18'!$A$4:$R$23,18,FALSE)<>\"\",VLOOKUP($A14,'8-1-18'!$A$4:$R$23,18,FALSE),0)","v":0},{"$f":"IF(VLOOKUP($A14,'8-8-18'!$A$4:$R$23,18,FALSE)<>\"\",VLOOKUP($A14,'8-8-18'!$A$4:$R$23,18,FALSE),0)","v":0},{"$f":"IF(VLOOKUP($A14,'8-15-18'!$A$4:$R$23,18,FALSE)<>\"\",VLOOKUP($A14,'8-15-18'!$A$4:$R$23,18,FALSE),0)","v":0},{"$f":"IF(VLOOKUP($A14,'8-22-18'!$A$4:$R$23,18,FALSE)<>\"\",VLOOKUP($A14,'8-22-18'!$A$4:$R$23,18,FALSE),0)","v":0},{"$f":"IF(VLOOKUP($A14,'8-29-18'!$A$4:$R$23,18,FALSE)<>\"\",VLOOKUP($A14,'8-29-18'!$A$4:$R$23,18,FALSE),0)","v":0},{"$f":"IF(VLOOKUP($A14,'9-7-18'!$A$4:$R$23,18,FALSE)<>\"\",VLOOKUP($A14,'9-7-18'!$A$4:$R$23,18,FALSE),0)","v":0},{"$f":"IF(VLOOKUP($A14,'9-12-18'!$A$4:$R$23,18,FALSE)<>\"\",VLOOKUP($A14,'9-12-18'!$A$4:$R$23,18,FALSE),0)","v":0},{"$f":"IF(VLOOKUP($A14,'9-19-18'!$A$4:$R$23,18,FALSE)<>\"\",VLOOKUP($A14,'9-19-18'!$A$4:$R$23,18,FALSE),0)","v":0},{"$f":"IF(VLOOKUP($A14,'9-26-18'!$A$4:$R$23,18,FALSE)<>\"\",VLOOKUP($A14,'9-26-18'!$A$4:$R$23,18,FALSE),0)","v":0},{"$f":"IF(VLOOKUP($A14,'10-10-18'!$A$4:$R$23,18,FALSE)<>\"\",VLOOKUP($A14,'10-10-18'!$A$4:$R$23,18,FALSE),0)","v":0},{"$f":"IF(VLOOKUP($A14,'10-3-18'!$A$4:$R$23,18,FALSE)<>\"\",VLOOKUP($A14,'10-3-18'!$A$4:$R$23,18,FALSE),0)","v":0},0]
[{"$f":"CONCATENATE('Skippers List'!B26,\" \",'Skippers List'!C26)","v":" "},"",{"$f":"IF(VLOOKUP($A15,'5-9-18'!$A$4:$R$23,18,FALSE)<>\"\",VLOOKUP($A15,'5-9-18'!$A$4:$R$23,18,FALSE),0)","v":0},{"$f":"IF(VLOOKUP($A15,'5-16-18'!$A$4:$R$23,18,FALSE)<>\"\",VLOOKUP($A15,'5-16-18'!$A$4:$R$23,18,FALSE),0)","v":0},{"$f":"IF(VLOOKUP($A15,'5-23-18'!$A$4:$R$23,18,FALSE)<>\"\",VLOOKUP($A15,'5-23-18'!$A$4:$R$23,18,FALSE),0)","v":0},{"$f":"IF(VLOOKUP($A15,'5-30-18'!$A$4:$R$23,18,FALSE)<>\"\",VLOOKUP($A15,'5-30-18'!$A$4:$R$23,18,FALSE),0)","v":0},{"$f":"IF(VLOOKUP($A15,'6-6-18'!$A$4:$R$23,18,FALSE)<>\"\",VLOOKUP($A15,'6-6-18'!$A$4:$R$23,18,FALSE),0)","v":0},{"$f":"IF(VLOOKUP($A15,'6-13-18'!$A$4:$R$23,18,FALSE)<>\"\",VLOOKUP($A15,'6-13-18'!$A$4:$R$23,18,FALSE),0)","v":0},{"$f":"IF(VLOOKUP($A15,'6-20-18'!$A$4:$R$23,18,FALSE)<>\"\",VLOOKUP($A15,'6-20-18'!$A$4:$R$23,18,FALSE),0)","v":0},{"$f":"IF(VLOOKUP($A15,'6-27-18'!$A$4:$R$23,18,FALSE)<>\"\",VLOOKUP($A15,'6-27-18'!$A$4:$R$23,18,FALSE),0)","v":0},{"$f":"IF(VLOOKUP($A15,'7-4-18'!$A$4:$R$23,18,FALSE)<>\"\",VLOOKUP($A15,'7-4-18'!$A$4:$R$23,18,FALSE),0)","v":0},{"$f":"IF(VLOOKUP($A15,'7-11-18'!$A$4:$R$23,18,FALSE)<>\"\",VLOOKUP($A15,'7-11-18'!$A$4:$R$23,18,FALSE),0)","v":0},{"$f":"IF(VLOOKUP($A15,'7-18-18'!$A$4:$R$23,18,FALSE)<>\"\",VLOOKUP($A15,'7-18-18'!$A$4:$R$23,18,FALSE),0)","v":0},{"$f":"IF(VLOOKUP($A15,'7-25-18'!$A$4:$R$23,18,FALSE)<>\"\",VLOOKUP($A15,'7-25-18'!$A$4:$R$23,18,FALSE),0)","v":0},{"$f":"IF(VLOOKUP($A15,'8-1-18'!$A$4:$R$23,18,FALSE)<>\"\",VLOOKUP($A15,'8-1-18'!$A$4:$R$23,18,FALSE),0)","v":0},{"$f":"IF(VLOOKUP($A15,'8-8-18'!$A$4:$R$23,18,FALSE)<>\"\",VLOOKUP($A15,'8-8-18'!$A$4:$R$23,18,FALSE),0)","v":0},{"$f":"IF(VLOOKUP($A15,'8-15-18'!$A$4:$R$23,18,FALSE)<>\"\",VLOOKUP($A15,'8-15-18'!$A$4:$R$23,18,FALSE),0)","v":0},{"$f":"IF(VLOOKUP($A15,'8-22-18'!$A$4:$R$23,18,FALSE)<>\"\",VLOOKUP($A15,'8-22-18'!$A$4:$R$23,18,FALSE),0)","v":0},{"$f":"IF(VLOOKUP($A15,'8-29-18'!$A$4:$R$23,18,FALSE)<>\"\",VLOOKUP($A15,'8-29-18'!$A$4:$R$23,18,FALSE),0)","v":0},{"$f":"IF(VLOOKUP($A15,'9-7-18'!$A$4:$R$23,18,FALSE)<>\"\",VLOOKUP($A15,'9-7-18'!$A$4:$R$23,18,FALSE),0)","v":0},{"$f":"IF(VLOOKUP($A15,'9-12-18'!$A$4:$R$23,18,FALSE)<>\"\",VLOOKUP($A15,'9-12-18'!$A$4:$R$23,18,FALSE),0)","v":0},{"$f":"IF(VLOOKUP($A15,'9-19-18'!$A$4:$R$23,18,FALSE)<>\"\",VLOOKUP($A15,'9-19-18'!$A$4:$R$23,18,FALSE),0)","v":0},{"$f":"IF(VLOOKUP($A15,'9-26-18'!$A$4:$R$23,18,FALSE)<>\"\",VLOOKUP($A15,'9-26-18'!$A$4:$R$23,18,FALSE),0)","v":0},{"$f":"IF(VLOOKUP($A15,'10-10-18'!$A$4:$R$23,18,FALSE)<>\"\",VLOOKUP($A15,'10-10-18'!$A$4:$R$23,18,FALSE),0)","v":0},{"$f":"IF(VLOOKUP($A15,'10-3-18'!$A$4:$R$23,18,FALSE)<>\"\",VLOOKUP($A15,'10-3-18'!$A$4:$R$23,18,FALSE),0)","v":0},0]
[{"$f":"CONCATENATE('Skippers List'!B27,\" \",'Skippers List'!C27)","v":" "},"",{"$f":"IF(VLOOKUP($A16,'5-9-18'!$A$4:$R$23,18,FALSE)<>\"\",VLOOKUP($A16,'5-9-18'!$A$4:$R$23,18,FALSE),0)","v":0},{"$f":"IF(VLOOKUP($A16,'5-16-18'!$A$4:$R$23,18,FALSE)<>\"\",VLOOKUP($A16,'5-16-18'!$A$4:$R$23,18,FALSE),0)","v":0},{"$f":"IF(VLOOKUP($A16,'5-23-18'!$A$4:$R$23,18,FALSE)<>\"\",VLOOKUP($A16,'5-23-18'!$A$4:$R$23,18,FALSE),0)","v":0},{"$f":"IF(VLOOKUP($A16,'5-30-18'!$A$4:$R$23,18,FALSE)<>\"\",VLOOKUP($A16,'5-30-18'!$A$4:$R$23,18,FALSE),0)","v":0},{"$f":"IF(VLOOKUP($A16,'6-6-18'!$A$4:$R$23,18,FALSE)<>\"\",VLOOKUP($A16,'6-6-18'!$A$4:$R$23,18,FALSE),0)","v":0},{"$f":"IF(VLOOKUP($A16,'6-13-18'!$A$4:$R$23,18,FALSE)<>\"\",VLOOKUP($A16,'6-13-18'!$A$4:$R$23,18,FALSE),0)","v":0},{"$f":"IF(VLOOKUP($A16,'6-20-18'!$A$4:$R$23,18,FALSE)<>\"\",VLOOKUP($A16,'6-20-18'!$A$4:$R$23,18,FALSE),0)","v":0},{"$f":"IF(VLOOKUP($A16,'6-27-18'!$A$4:$R$23,18,FALSE)<>\"\",VLOOKUP($A16,'6-27-18'!$A$4:$R$23,18,FALSE),0)","v":0},{"$f":"IF(VLOOKUP($A16,'7-4-18'!$A$4:$R$23,18,FALSE)<>\"\",VLOOKUP($A16,'7-4-18'!$A$4:$R$23,18,FALSE),0)","v":0},{"$f":"IF(VLOOKUP($A16,'7-11-18'!$A$4:$R$23,18,FALSE)<>\"\",VLOOKUP($A16,'7-11-18'!$A$4:$R$23,18,FALSE),0)","v":0},{"$f":"IF(VLOOKUP($A16,'7-18-18'!$A$4:$R$23,18,FALSE)<>\"\",VLOOKUP($A16,'7-18-18'!$A$4:$R$23,18,FALSE),0)","v":0},{"$f":"IF(VLOOKUP($A16,'7-25-18'!$A$4:$R$23,18,FALSE)<>\"\",VLOOKUP($A16,'7-25-18'!$A$4:$R$23,18,FALSE),0)","v":0},{"$f":"IF(VLOOKUP($A16,'8-1-18'!$A$4:$R$23,18,FALSE)<>\"\",VLOOKUP($A16,'8-1-18'!$A$4:$R$23,18,FALSE),0)","v":0},{"$f":"IF(VLOOKUP($A16,'8-8-18'!$A$4:$R$23,18,FALSE)<>\"\",VLOOKUP($A16,'8-8-18'!$A$4:$R$23,18,FALSE),0)","v":0},{"$f":"IF(VLOOKUP($A16,'8-15-18'!$A$4:$R$23,18,FALSE)<>\"\",VLOOKUP($A16,'8-15-18'!$A$4:$R$23,18,FALSE),0)","v":0},{"$f":"IF(VLOOKUP($A16,'8-22-18'!$A$4:$R$23,18,FALSE)<>\"\",VLOOKUP($A16,'8-22-18'!$A$4:$R$23,18,FALSE),0)","v":0},{"$f":"IF(VLOOKUP($A16,'8-29-18'!$A$4:$R$23,18,FALSE)<>\"\",VLOOKUP($A16,'8-29-18'!$A$4:$R$23,18,FALSE),0)","v":0},{"$f":"IF(VLOOKUP($A16,'9-7-18'!$A$4:$R$23,18,FALSE)<>\"\",VLOOKUP($A16,'9-7-18'!$A$4:$R$23,18,FALSE),0)","v":0},{"$f":"IF(VLOOKUP($A16,'9-12-18'!$A$4:$R$23,18,FALSE)<>\"\",VLOOKUP($A16,'9-12-18'!$A$4:$R$23,18,FALSE),0)","v":0},{"$f":"IF(VLOOKUP($A16,'9-19-18'!$A$4:$R$23,18,FALSE)<>\"\",VLOOKUP($A16,'9-19-18'!$A$4:$R$23,18,FALSE),0)","v":0},{"$f":"IF(VLOOKUP($A16,'9-26-18'!$A$4:$R$23,18,FALSE)<>\"\",VLOOKUP($A16,'9-26-18'!$A$4:$R$23,18,FALSE),0)","v":0},{"$f":"IF(VLOOKUP($A16,'10-10-18'!$A$4:$R$23,18,FALSE)<>\"\",VLOOKUP($A16,'10-10-18'!$A$4:$R$23,18,FALSE),0)","v":0},{"$f":"IF(VLOOKUP($A16,'10-3-18'!$A$4:$R$23,18,FALSE)<>\"\",VLOOKUP($A16,'10-3-18'!$A$4:$R$23,18,FALSE),0)","v":0},0]
[{"$f":"CONCATENATE('Skippers List'!B28,\" \",'Skippers List'!C28)","v":" "},"",{"$f":"IF(VLOOKUP($A17,'5-9-18'!$A$4:$R$23,18,FALSE)<>\"\",VLOOKUP($A17,'5-9-18'!$A$4:$R$23,18,FALSE),0)","v":0},{"$f":"IF(VLOOKUP($A17,'5-16-18'!$A$4:$R$23,18,FALSE)<>\"\",VLOOKUP($A17,'5-16-18'!$A$4:$R$23,18,FALSE),0)","v":0},{"$f":"IF(VLOOKUP($A17,'5-23-18'!$A$4:$R$23,18,FALSE)<>\"\",VLOOKUP($A17,'5-23-18'!$A$4:$R$23,18,FALSE),0)","v":0},{"$f":"IF(VLOOKUP($A17,'5-30-18'!$A$4:$R$23,18,FALSE)<>\"\",VLOOKUP($A17,'5-30-18'!$A$4:$R$23,18,FALSE),0)","v":0},{"$f":"IF(VLOOKUP($A17,'6-6-18'!$A$4:$R$23,18,FALSE)<>\"\",VLOOKUP($A17,'6-6-18'!$A$4:$R$23,18,FALSE),0)","v":0},{"$f":"IF(VLOOKUP($A17,'6-13-18'!$A$4:$R$23,18,FALSE)<>\"\",VLOOKUP($A17,'6-13-18'!$A$4:$R$23,18,FALSE),0)","v":0},{"$f":"IF(VLOOKUP($A17,'6-20-18'!$A$4:$R$23,18,FALSE)<>\"\",VLOOKUP($A17,'6-20-18'!$A$4:$R$23,18,FALSE),0)","v":0},{"$f":"IF(VLOOKUP($A17,'6-27-18'!$A$4:$R$23,18,FALSE)<>\"\",VLOOKUP($A17,'6-27-18'!$A$4:$R$23,18,FALSE),0)","v":0},{"$f":"IF(VLOOKUP($A17,'7-4-18'!$A$4:$R$23,18,FALSE)<>\"\",VLOOKUP($A17,'7-4-18'!$A$4:$R$23,18,FALSE),0)","v":0},{"$f":"IF(VLOOKUP($A17,'7-11-18'!$A$4:$R$23,18,FALSE)<>\"\",VLOOKUP($A17,'7-11-18'!$A$4:$R$23,18,FALSE),0)","v":0},{"$f":"IF(VLOOKUP($A17,'7-18-18'!$A$4:$R$23,18,FALSE)<>\"\",VLOOKUP($A17,'7-18-18'!$A$4:$R$23,18,FALSE),0)","v":0},{"$f":"IF(VLOOKUP($A17,'7-25-18'!$A$4:$R$23,18,FALSE)<>\"\",VLOOKUP($A17,'7-25-18'!$A$4:$R$23,18,FALSE),0)","v":0},{"$f":"IF(VLOOKUP($A17,'8-1-18'!$A$4:$R$23,18,FALSE)<>\"\",VLOOKUP($A17,'8-1-18'!$A$4:$R$23,18,FALSE),0)","v":0},{"$f":"IF(VLOOKUP($A17,'8-8-18'!$A$4:$R$23,18,FALSE)<>\"\",VLOOKUP($A17,'8-8-18'!$A$4:$R$23,18,FALSE),0)","v":0},{"$f":"IF(VLOOKUP($A17,'8-15-18'!$A$4:$R$23,18,FALSE)<>\"\",VLOOKUP($A17,'8-15-18'!$A$4:$R$23,18,FALSE),0)","v":0},{"$f":"IF(VLOOKUP($A17,'8-22-18'!$A$4:$R$23,18,FALSE)<>\"\",VLOOKUP($A17,'8-22-18'!$A$4:$R$23,18,FALSE),0)","v":0},{"$f":"IF(VLOOKUP($A17,'8-29-18'!$A$4:$R$23,18,FALSE)<>\"\",VLOOKUP($A17,'8-29-18'!$A$4:$R$23,18,FALSE),0)","v":0},{"$f":"IF(VLOOKUP($A17,'9-7-18'!$A$4:$R$23,18,FALSE)<>\"\",VLOOKUP($A17,'9-7-18'!$A$4:$R$23,18,FALSE),0)","v":0},{"$f":"IF(VLOOKUP($A17,'9-12-18'!$A$4:$R$23,18,FALSE)<>\"\",VLOOKUP($A17,'9-12-18'!$A$4:$R$23,18,FALSE),0)","v":0},{"$f":"IF(VLOOKUP($A17,'9-19-18'!$A$4:$R$23,18,FALSE)<>\"\",VLOOKUP($A17,'9-19-18'!$A$4:$R$23,18,FALSE),0)","v":0},{"$f":"IF(VLOOKUP($A17,'9-26-18'!$A$4:$R$23,18,FALSE)<>\"\",VLOOKUP($A17,'9-26-18'!$A$4:$R$23,18,FALSE),0)","v":0},{"$f":"IF(VLOOKUP($A17,'10-10-18'!$A$4:$R$23,18,FALSE)<>\"\",VLOOKUP($A17,'10-10-18'!$A$4:$R$23,18,FALSE),0)","v":0},{"$f":"IF(VLOOKUP($A17,'10-3-18'!$A$4:$R$23,18,FALSE)<>\"\",VLOOKUP($A17,'10-3-18'!$A$4:$R$23,18,FALSE),0)","v":0},0]
[{"$f":"CONCATENATE('Skippers List'!B29,\" \",'Skippers List'!C29)","v":" "},"",{"$f":"IF(VLOOKUP($A18,'5-9-18'!$A$4:$R$23,18,FALSE)<>\"\",VLOOKUP($A18,'5-9-18'!$A$4:$R$23,18,FALSE),0)","v":0},{"$f":"IF(VLOOKUP($A18,'5-16-18'!$A$4:$R$23,18,FALSE)<>\"\",VLOOKUP($A18,'5-16-18'!$A$4:$R$23,18,FALSE),0)","v":0},{"$f":"IF(VLOOKUP($A18,'5-23-18'!$A$4:$R$23,18,FALSE)<>\"\",VLOOKUP($A18,'5-23-18'!$A$4:$R$23,18,FALSE),0)","v":0},{"$f":"IF(VLOOKUP($A18,'5-30-18'!$A$4:$R$23,18,FALSE)<>\"\",VLOOKUP($A18,'5-30-18'!$A$4:$R$23,18,FALSE),0)","v":0},{"$f":"IF(VLOOKUP($A18,'6-6-18'!$A$4:$R$23,18,FALSE)<>\"\",VLOOKUP($A18,'6-6-18'!$A$4:$R$23,18,FALSE),0)","v":0},{"$f":"IF(VLOOKUP($A18,'6-13-18'!$A$4:$R$23,18,FALSE)<>\"\",VLOOKUP($A18,'6-13-18'!$A$4:$R$23,18,FALSE),0)","v":0},{"$f":"IF(VLOOKUP($A18,'6-20-18'!$A$4:$R$23,18,FALSE)<>\"\",VLOOKUP($A18,'6-20-18'!$A$4:$R$23,18,FALSE),0)","v":0},{"$f":"IF(VLOOKUP($A18,'6-27-18'!$A$4:$R$23,18,FALSE)<>\"\",VLOOKUP($A18,'6-27-18'!$A$4:$R$23,18,FALSE),0)","v":0},{"$f":"IF(VLOOKUP($A18,'7-4-18'!$A$4:$R$23,18,FALSE)<>\"\",VLOOKUP($A18,'7-4-18'!$A$4:$R$23,18,FALSE),0)","v":0},{"$f":"IF(VLOOKUP($A18,'7-11-18'!$A$4:$R$23,18,FALSE)<>\"\",VLOOKUP($A18,'7-11-18'!$A$4:$R$23,18,FALSE),0)","v":0},{"$f":"IF(VLOOKUP($A18,'7-18-18'!$A$4:$R$23,18,FALSE)<>\"\",VLOOKUP($A18,'7-18-18'!$A$4:$R$23,18,FALSE),0)","v":0},{"$f":"IF(VLOOKUP($A18,'7-25-18'!$A$4:$R$23,18,FALSE)<>\"\",VLOOKUP($A18,'7-25-18'!$A$4:$R$23,18,FALSE),0)","v":0},{"$f":"IF(VLOOKUP($A18,'8-1-18'!$A$4:$R$23,18,FALSE)<>\"\",VLOOKUP($A18,'8-1-18'!$A$4:$R$23,18,FALSE),0)","v":0},{"$f":"IF(VLOOKUP($A18,'8-8-18'!$A$4:$R$23,18,FALSE)<>\"\",VLOOKUP($A18,'8-8-18'!$A$4:$R$23,18,FALSE),0)","v":0},{"$f":"IF(VLOOKUP($A18,'8-15-18'!$A$4:$R$23,18,FALSE)<>\"\",VLOOKUP($A18,'8-15-18'!$A$4:$R$23,18,FALSE),0)","v":0},{"$f":"IF(VLOOKUP($A18,'8-22-18'!$A$4:$R$23,18,FALSE)<>\"\",VLOOKUP($A18,'8-22-18'!$A$4:$R$23,18,FALSE),0)","v":0},{"$f":"IF(VLOOKUP($A18,'8-29-18'!$A$4:$R$23,18,FALSE)<>\"\",VLOOKUP($A18,'8-29-18'!$A$4:$R$23,18,FALSE),0)","v":0},{"$f":"IF(VLOOKUP($A18,'9-7-18'!$A$4:$R$23,18,FALSE)<>\"\",VLOOKUP($A18,'9-7-18'!$A$4:$R$23,18,FALSE),0)","v":0},{"$f":"IF(VLOOKUP($A18,'9-12-18'!$A$4:$R$23,18,FALSE)<>\"\",VLOOKUP($A18,'9-12-18'!$A$4:$R$23,18,FALSE),0)","v":0},{"$f":"IF(VLOOKUP($A18,'9-19-18'!$A$4:$R$23,18,FALSE)<>\"\",VLOOKUP($A18,'9-19-18'!$A$4:$R$23,18,FALSE),0)","v":0},{"$f":"IF(VLOOKUP($A18,'9-26-18'!$A$4:$R$23,18,FALSE)<>\"\",VLOOKUP($A18,'9-26-18'!$A$4:$R$23,18,FALSE),0)","v":0},{"$f":"IF(VLOOKUP($A18,'10-10-18'!$A$4:$R$23,18,FALSE)<>\"\",VLOOKUP($A18,'10-10-18'!$A$4:$R$23,18,FALSE),0)","v":0},{"$f":"IF(VLOOKUP($A18,'10-3-18'!$A$4:$R$23,18,FALSE)<>\"\",VLOOKUP($A18,'10-3-18'!$A$4:$R$23,18,FALSE),0)","v":0},0]
[{"$f":"CONCATENATE('Skippers List'!B30,\" \",'Skippers List'!C30)","v":" "},"",{"$f":"IF(VLOOKUP($A19,'5-9-18'!$A$4:$R$23,18,FALSE)<>\"\",VLOOKUP($A19,'5-9-18'!$A$4:$R$23,18,FALSE),0)","v":0},{"$f":"IF(VLOOKUP($A19,'5-16-18'!$A$4:$R$23,18,FALSE)<>\"\",VLOOKUP($A19,'5-16-18'!$A$4:$R$23,18,FALSE),0)","v":0},{"$f":"IF(VLOOKUP($A19,'5-23-18'!$A$4:$R$23,18,FALSE)<>\"\",VLOOKUP($A19,'5-23-18'!$A$4:$R$23,18,FALSE),0)","v":0},{"$f":"IF(VLOOKUP($A19,'5-30-18'!$A$4:$R$23,18,FALSE)<>\"\",VLOOKUP($A19,'5-30-18'!$A$4:$R$23,18,FALSE),0)","v":0},{"$f":"IF(VLOOKUP($A19,'6-6-18'!$A$4:$R$23,18,FALSE)<>\"\",VLOOKUP($A19,'6-6-18'!$A$4:$R$23,18,FALSE),0)","v":0},{"$f":"IF(VLOOKUP($A19,'6-13-18'!$A$4:$R$23,18,FALSE)<>\"\",VLOOKUP($A19,'6-13-18'!$A$4:$R$23,18,FALSE),0)","v":0},{"$f":"IF(VLOOKUP($A19,'6-20-18'!$A$4:$R$23,18,FALSE)<>\"\",VLOOKUP($A19,'6-20-18'!$A$4:$R$23,18,FALSE),0)","v":0},{"$f":"IF(VLOOKUP($A19,'6-27-18'!$A$4:$R$23,18,FALSE)<>\"\",VLOOKUP($A19,'6-27-18'!$A$4:$R$23,18,FALSE),0)","v":0},{"$f":"IF(VLOOKUP($A19,'7-4-18'!$A$4:$R$23,18,FALSE)<>\"\",VLOOKUP($A19,'7-4-18'!$A$4:$R$23,18,FALSE),0)","v":0},{"$f":"IF(VLOOKUP($A19,'7-11-18'!$A$4:$R$23,18,FALSE)<>\"\",VLOOKUP($A19,'7-11-18'!$A$4:$R$23,18,FALSE),0)","v":0},{"$f":"IF(VLOOKUP($A19,'7-18-18'!$A$4:$R$23,18,FALSE)<>\"\",VLOOKUP($A19,'7-18-18'!$A$4:$R$23,18,FALSE),0)","v":0},{"$f":"IF(VLOOKUP($A19,'7-25-18'!$A$4:$R$23,18,FALSE)<>\"\",VLOOKUP($A19,'7-25-18'!$A$4:$R$23,18,FALSE),0)","v":0},{"$f":"IF(VLOOKUP($A19,'8-1-18'!$A$4:$R$23,18,FALSE)<>\"\",VLOOKUP($A19,'8-1-18'!$A$4:$R$23,18,FALSE),0)","v":0},{"$f":"IF(VLOOKUP($A19,'8-8-18'!$A$4:$R$23,18,FALSE)<>\"\",VLOOKUP($A19,'8-8-18'!$A$4:$R$23,18,FALSE),0)","v":0},{"$f":"IF(VLOOKUP($A19,'8-15-18'!$A$4:$R$23,18,FALSE)<>\"\",VLOOKUP($A19,'8-15-18'!$A$4:$R$23,18,FALSE),0)","v":0},{"$f":"IF(VLOOKUP($A19,'8-22-18'!$A$4:$R$23,18,FALSE)<>\"\",VLOOKUP($A19,'8-22-18'!$A$4:$R$23,18,FALSE),0)","v":0},{"$f":"IF(VLOOKUP($A19,'8-29-18'!$A$4:$R$23,18,FALSE)<>\"\",VLOOKUP($A19,'8-29-18'!$A$4:$R$23,18,FALSE),0)","v":0},{"$f":"IF(VLOOKUP($A19,'9-7-18'!$A$4:$R$23,18,FALSE)<>\"\",VLOOKUP($A19,'9-7-18'!$A$4:$R$23,18,FALSE),0)","v":0},{"$f":"IF(VLOOKUP($A19,'9-12-18'!$A$4:$R$23,18,FALSE)<>\"\",VLOOKUP($A19,'9-12-18'!$A$4:$R$23,18,FALSE),0)","v":0},{"$f":"IF(VLOOKUP($A19,'9-19-18'!$A$4:$R$23,18,FALSE)<>\"\",VLOOKUP($A19,'9-19-18'!$A$4:$R$23,18,FALSE),0)","v":0},{"$f":"IF(VLOOKUP($A19,'9-26-18'!$A$4:$R$23,18,FALSE)<>\"\",VLOOKUP($A19,'9-26-18'!$A$4:$R$23,18,FALSE),0)","v":0},{"$f":"IF(VLOOKUP($A19,'10-10-18'!$A$4:$R$23,18,FALSE)<>\"\",VLOOKUP($A19,'10-10-18'!$A$4:$R$23,18,FALSE),0)","v":0},{"$f":"IF(VLOOKUP($A19,'10-3-18'!$A$4:$R$23,18,FALSE)<>\"\",VLOOKUP($A19,'10-3-18'!$A$4:$R$23,18,FALSE),0)","v":0},0]
[{"$f":"CONCATENATE('Skippers List'!B31,\" \",'Skippers List'!C31)","v":" "},"",{"$f":"IF(VLOOKUP($A20,'5-9-18'!$A$4:$R$23,18,FALSE)<>\"\",VLOOKUP($A20,'5-9-18'!$A$4:$R$23,18,FALSE),0)","v":0},{"$f":"IF(VLOOKUP($A20,'5-16-18'!$A$4:$R$23,18,FALSE)<>\"\",VLOOKUP($A20,'5-16-18'!$A$4:$R$23,18,FALSE),0)","v":0},{"$f":"IF(VLOOKUP($A20,'5-23-18'!$A$4:$R$23,18,FALSE)<>\"\",VLOOKUP($A20,'5-23-18'!$A$4:$R$23,18,FALSE),0)","v":0},{"$f":"IF(VLOOKUP($A20,'5-30-18'!$A$4:$R$23,18,FALSE)<>\"\",VLOOKUP($A20,'5-30-18'!$A$4:$R$23,18,FALSE),0)","v":0},{"$f":"IF(VLOOKUP($A20,'6-6-18'!$A$4:$R$23,18,FALSE)<>\"\",VLOOKUP($A20,'6-6-18'!$A$4:$R$23,18,FALSE),0)","v":0},{"$f":"IF(VLOOKUP($A20,'6-13-18'!$A$4:$R$23,18,FALSE)<>\"\",VLOOKUP($A20,'6-13-18'!$A$4:$R$23,18,FALSE),0)","v":0},{"$f":"IF(VLOOKUP($A20,'6-20-18'!$A$4:$R$23,18,FALSE)<>\"\",VLOOKUP($A20,'6-20-18'!$A$4:$R$23,18,FALSE),0)","v":0},{"$f":"IF(VLOOKUP($A20,'6-27-18'!$A$4:$R$23,18,FALSE)<>\"\",VLOOKUP($A20,'6-27-18'!$A$4:$R$23,18,FALSE),0)","v":0},{"$f":"IF(VLOOKUP($A20,'7-4-18'!$A$4:$R$23,18,FALSE)<>\"\",VLOOKUP($A20,'7-4-18'!$A$4:$R$23,18,FALSE),0)","v":0},{"$f":"IF(VLOOKUP($A20,'7-11-18'!$A$4:$R$23,18,FALSE)<>\"\",VLOOKUP($A20,'7-11-18'!$A$4:$R$23,18,FALSE),0)","v":0},{"$f":"IF(VLOOKUP($A20,'7-18-18'!$A$4:$R$23,18,FALSE)<>\"\",VLOOKUP($A20,'7-18-18'!$A$4:$R$23,18,FALSE),0)","v":0},{"$f":"IF(VLOOKUP($A20,'7-25-18'!$A$4:$R$23,18,FALSE)<>\"\",VLOOKUP($A20,'7-25-18'!$A$4:$R$23,18,FALSE),0)","v":0},{"$f":"IF(VLOOKUP($A20,'8-1-18'!$A$4:$R$23,18,FALSE)<>\"\",VLOOKUP($A20,'8-1-18'!$A$4:$R$23,18,FALSE),0)","v":0},{"$f":"IF(VLOOKUP($A20,'8-8-18'!$A$4:$R$23,18,FALSE)<>\"\",VLOOKUP($A20,'8-8-18'!$A$4:$R$23,18,FALSE),0)","v":0},{"$f":"IF(VLOOKUP($A20,'8-15-18'!$A$4:$R$23,18,FALSE)<>\"\",VLOOKUP($A20,'8-15-18'!$A$4:$R$23,18,FALSE),0)","v":0},{"$f":"IF(VLOOKUP($A20,'8-22-18'!$A$4:$R$23,18,FALSE)<>\"\",VLOOKUP($A20,'8-22-18'!$A$4:$R$23,18,FALSE),0)","v":0},{"$f":"IF(VLOOKUP($A20,'8-29-18'!$A$4:$R$23,18,FALSE)<>\"\",VLOOKUP($A20,'8-29-18'!$A$4:$R$23,18,FALSE),0)","v":0},{"$f":"IF(VLOOKUP($A20,'9-7-18'!$A$4:$R$23,18,FALSE)<>\"\",VLOOKUP($A20,'9-7-18'!$A$4:$R$23,18,FALSE),0)","v":0},{"$f":"IF(VLOOKUP($A20,'9-12-18'!$A$4:$R$23,18,FALSE)<>\"\",VLOOKUP($A20,'9-12-18'!$A$4:$R$23,18,FALSE),0)","v":0},{"$f":"IF(VLOOKUP($A20,'9-19-18'!$A$4:$R$23,18,FALSE)<>\"\",VLOOKUP($A20,'9-19-18'!$A$4:$R$23,18,FALSE),0)","v":0},{"$f":"IF(VLOOKUP($A20,'9-26-18'!$A$4:$R$23,18,FALSE)<>\"\",VLOOKUP($A20,'9-26-18'!$A$4:$R$23,18,FALSE),0)","v":0},{"$f":"IF(VLOOKUP($A20,'10-10-18'!$A$4:$R$23,18,FALSE)<>\"\",VLOOKUP($A20,'10-10-18'!$A$4:$R$23,18,FALSE),0)","v":0},{"$f":"IF(VLOOKUP($A20,'10-3-18'!$A$4:$R$23,18,FALSE)<>\"\",VLOOKUP($A20,'10-3-18'!$A$4:$R$23,18,FALSE),0)","v":0},0]
[{"$f":"CONCATENATE('Skippers List'!B32,\" \",'Skippers List'!C32)","v":" "},"",{"$f":"IF(VLOOKUP($A21,'5-9-18'!$A$4:$R$23,18,FALSE)<>\"\",VLOOKUP($A21,'5-9-18'!$A$4:$R$23,18,FALSE),0)","v":0},{"$f":"IF(VLOOKUP($A21,'5-16-18'!$A$4:$R$23,18,FALSE)<>\"\",VLOOKUP($A21,'5-16-18'!$A$4:$R$23,18,FALSE),0)","v":0},{"$f":"IF(VLOOKUP($A21,'5-23-18'!$A$4:$R$23,18,FALSE)<>\"\",VLOOKUP($A21,'5-23-18'!$A$4:$R$23,18,FALSE),0)","v":0},{"$f":"IF(VLOOKUP($A21,'5-30-18'!$A$4:$R$23,18,FALSE)<>\"\",VLOOKUP($A21,'5-30-18'!$A$4:$R$23,18,FALSE),0)","v":0},{"$f":"IF(VLOOKUP($A21,'6-6-18'!$A$4:$R$23,18,FALSE)<>\"\",VLOOKUP($A21,'6-6-18'!$A$4:$R$23,18,FALSE),0)","v":0},{"$f":"IF(VLOOKUP($A21,'6-13-18'!$A$4:$R$23,18,FALSE)<>\"\",VLOOKUP($A21,'6-13-18'!$A$4:$R$23,18,FALSE),0)","v":0},{"$f":"IF(VLOOKUP($A21,'6-20-18'!$A$4:$R$23,18,FALSE)<>\"\",VLOOKUP($A21,'6-20-18'!$A$4:$R$23,18,FALSE),0)","v":0},{"$f":"IF(VLOOKUP($A21,'6-27-18'!$A$4:$R$23,18,FALSE)<>\"\",VLOOKUP($A21,'6-27-18'!$A$4:$R$23,18,FALSE),0)","v":0},{"$f":"IF(VLOOKUP($A21,'7-4-18'!$A$4:$R$23,18,FALSE)<>\"\",VLOOKUP($A21,'7-4-18'!$A$4:$R$23,18,FALSE),0)","v":0},{"$f":"IF(VLOOKUP($A21,'7-11-18'!$A$4:$R$23,18,FALSE)<>\"\",VLOOKUP($A21,'7-11-18'!$A$4:$R$23,18,FALSE),0)","v":0},{"$f":"IF(VLOOKUP($A21,'7-18-18'!$A$4:$R$23,18,FALSE)<>\"\",VLOOKUP($A21,'7-18-18'!$A$4:$R$23,18,FALSE),0)","v":0},{"$f":"IF(VLOOKUP($A21,'7-25-18'!$A$4:$R$23,18,FALSE)<>\"\",VLOOKUP($A21,'7-25-18'!$A$4:$R$23,18,FALSE),0)","v":0},{"$f":"IF(VLOOKUP($A21,'8-1-18'!$A$4:$R$23,18,FALSE)<>\"\",VLOOKUP($A21,'8-1-18'!$A$4:$R$23,18,FALSE),0)","v":0},{"$f":"IF(VLOOKUP($A21,'8-8-18'!$A$4:$R$23,18,FALSE)<>\"\",VLOOKUP($A21,'8-8-18'!$A$4:$R$23,18,FALSE),0)","v":0},{"$f":"IF(VLOOKUP($A21,'8-15-18'!$A$4:$R$23,18,FALSE)<>\"\",VLOOKUP($A21,'8-15-18'!$A$4:$R$23,18,FALSE),0)","v":0},{"$f":"IF(VLOOKUP($A21,'8-22-18'!$A$4:$R$23,18,FALSE)<>\"\",VLOOKUP($A21,'8-22-18'!$A$4:$R$23,18,FALSE),0)","v":0},{"$f":"IF(VLOOKUP($A21,'8-29-18'!$A$4:$R$23,18,FALSE)<>\"\",VLOOKUP($A21,'8-29-18'!$A$4:$R$23,18,FALSE),0)","v":0},{"$f":"IF(VLOOKUP($A21,'9-7-18'!$A$4:$R$23,18,FALSE)<>\"\",VLOOKUP($A21,'9-7-18'!$A$4:$R$23,18,FALSE),0)","v":0},{"$f":"IF(VLOOKUP($A21,'9-12-18'!$A$4:$R$23,18,FALSE)<>\"\",VLOOKUP($A21,'9-12-18'!$A$4:$R$23,18,FALSE),0)","v":0},{"$f":"IF(VLOOKUP($A21,'9-19-18'!$A$4:$R$23,18,FALSE)<>\"\",VLOOKUP($A21,'9-19-18'!$A$4:$R$23,18,FALSE),0)","v":0},{"$f":"IF(VLOOKUP($A21,'9-26-18'!$A$4:$R$23,18,FALSE)<>\"\",VLOOKUP($A21,'9-26-18'!$A$4:$R$23,18,FALSE),0)","v":0},{"$f":"IF(VLOOKUP($A21,'10-10-18'!$A$4:$R$23,18,FALSE)<>\"\",VLOOKUP($A21,'10-10-18'!$A$4:$R$23,18,FALSE),0)","v":0},{"$f":"IF(VLOOKUP($A21,'10-3-18'!$A$4:$R$23,18,FALSE)<>\"\",VLOOKUP($A21,'10-3-18'!$A$4:$R$23,18,FALSE),0)","v":0},0]
[{"$f":"CONCATENATE('Skippers List'!B33,\" \",'Skippers List'!C33)","v":" "},"",{"$f":"IF(VLOOKUP($A22,'5-9-18'!$A$4:$R$23,18,FALSE)<>\"\",VLOOKUP($A22,'5-9-18'!$A$4:$R$23,18,FALSE),0)","v":0},{"$f":"IF(VLOOKUP($A22,'5-16-18'!$A$4:$R$23,18,FALSE)<>\"\",VLOOKUP($A22,'5-16-18'!$A$4:$R$23,18,FALSE),0)","v":0},{"$f":"IF(VLOOKUP($A22,'5-23-18'!$A$4:$R$23,18,FALSE)<>\"\",VLOOKUP($A22,'5-23-18'!$A$4:$R$23,18,FALSE),0)","v":0},{"$f":"IF(VLOOKUP($A22,'5-30-18'!$A$4:$R$23,18,FALSE)<>\"\",VLOOKUP($A22,'5-30-18'!$A$4:$R$23,18,FALSE),0)","v":0},{"$f":"IF(VLOOKUP($A22,'6-6-18'!$A$4:$R$23,18,FALSE)<>\"\",VLOOKUP($A22,'6-6-18'!$A$4:$R$23,18,FALSE),0)","v":0},{"$f":"IF(VLOOKUP($A22,'6-13-18'!$A$4:$R$23,18,FALSE)<>\"\",VLOOKUP($A22,'6-13-18'!$A$4:$R$23,18,FALSE),0)","v":0},{"$f":"IF(VLOOKUP($A22,'6-20-18'!$A$4:$R$23,18,FALSE)<>\"\",VLOOKUP($A22,'6-20-18'!$A$4:$R$23,18,FALSE),0)","v":0},{"$f":"IF(VLOOKUP($A22,'6-27-18'!$A$4:$R$23,18,FALSE)<>\"\",VLOOKUP($A22,'6-27-18'!$A$4:$R$23,18,FALSE),0)","v":0},{"$f":"IF(VLOOKUP($A22,'7-4-18'!$A$4:$R$23,18,FALSE)<>\"\",VLOOKUP($A22,'7-4-18'!$A$4:$R$23,18,FALSE),0)","v":0},{"$f":"IF(VLOOKUP($A22,'7-11-18'!$A$4:$R$23,18,FALSE)<>\"\",VLOOKUP($A22,'7-11-18'!$A$4:$R$23,18,FALSE),0)","v":0},{"$f":"IF(VLOOKUP($A22,'7-18-18'!$A$4:$R$23,18,FALSE)<>\"\",VLOOKUP($A22,'7-18-18'!$A$4:$R$23,18,FALSE),0)","v":0},{"$f":"IF(VLOOKUP($A22,'7-25-18'!$A$4:$R$23,18,FALSE)<>\"\",VLOOKUP($A22,'7-25-18'!$A$4:$R$23,18,FALSE),0)","v":0},{"$f":"IF(VLOOKUP($A22,'8-1-18'!$A$4:$R$23,18,FALSE)<>\"\",VLOOKUP($A22,'8-1-18'!$A$4:$R$23,18,FALSE),0)","v":0},{"$f":"IF(VLOOKUP($A22,'8-8-18'!$A$4:$R$23,18,FALSE)<>\"\",VLOOKUP($A22,'8-8-18'!$A$4:$R$23,18,FALSE),0)","v":0},{"$f":"IF(VLOOKUP($A22,'8-15-18'!$A$4:$R$23,18,FALSE)<>\"\",VLOOKUP($A22,'8-15-18'!$A$4:$R$23,18,FALSE),0)","v":0},{"$f":"IF(VLOOKUP($A22,'8-22-18'!$A$4:$R$23,18,FALSE)<>\"\",VLOOKUP($A22,'8-22-18'!$A$4:$R$23,18,FALSE),0)","v":0},{"$f":"IF(VLOOKUP($A22,'8-29-18'!$A$4:$R$23,18,FALSE)<>\"\",VLOOKUP($A22,'8-29-18'!$A$4:$R$23,18,FALSE),0)","v":0},{"$f":"IF(VLOOKUP($A22,'9-7-18'!$A$4:$R$23,18,FALSE)<>\"\",VLOOKUP($A22,'9-7-18'!$A$4:$R$23,18,FALSE),0)","v":0},{"$f":"IF(VLOOKUP($A22,'9-12-18'!$A$4:$R$23,18,FALSE)<>\"\",VLOOKUP($A22,'9-12-18'!$A$4:$R$23,18,FALSE),0)","v":0},{"$f":"IF(VLOOKUP($A22,'9-19-18'!$A$4:$R$23,18,FALSE)<>\"\",VLOOKUP($A22,'9-19-18'!$A$4:$R$23,18,FALSE),0)","v":0},{"$f":"IF(VLOOKUP($A22,'9-26-18'!$A$4:$R$23,18,FALSE)<>\"\",VLOOKUP($A22,'9-26-18'!$A$4:$R$23,18,FALSE),0)","v":0},{"$f":"IF(VLOOKUP($A22,'10-10-18'!$A$4:$R$23,18,FALSE)<>\"\",VLOOKUP($A22,'10-10-18'!$A$4:$R$23,18,FALSE),0)","v":0},{"$f":"IF(VLOOKUP($A22,'10-3-18'!$A$4:$R$23,18,FALSE)<>\"\",VLOOKUP($A22,'10-3-18'!$A$4:$R$23,18,FALSE),0)","v":0},0]
[{"$f":"CONCATENATE('Skippers List'!B34,\" \",'Skippers List'!C34)","v":" "},"",{"$f":"IF(VLOOKUP($A23,'5-9-18'!$A$4:$R$23,18,FALSE)<>\"\",VLOOKUP($A23,'5-9-18'!$A$4:$R$23,18,FALSE),0)","v":0},{"$f":"IF(VLOOKUP($A23,'5-16-18'!$A$4:$R$23,18,FALSE)<>\"\",VLOOKUP($A23,'5-16-18'!$A$4:$R$23,18,FALSE),0)","v":0},{"$f":"IF(VLOOKUP($A23,'5-23-18'!$A$4:$R$23,18,FALSE)<>\"\",VLOOKUP($A23,'5-23-18'!$A$4:$R$23,18,FALSE),0)","v":0},{"$f":"IF(VLOOKUP($A23,'5-30-18'!$A$4:$R$23,18,FALSE)<>\"\",VLOOKUP($A23,'5-30-18'!$A$4:$R$23,18,FALSE),0)","v":0},{"$f":"IF(VLOOKUP($A23,'6-6-18'!$A$4:$R$23,18,FALSE)<>\"\",VLOOKUP($A23,'6-6-18'!$A$4:$R$23,18,FALSE),0)","v":0},{"$f":"IF(VLOOKUP($A23,'6-13-18'!$A$4:$R$23,18,FALSE)<>\"\",VLOOKUP($A23,'6-13-18'!$A$4:$R$23,18,FALSE),0)","v":0},{"$f":"IF(VLOOKUP($A23,'6-20-18'!$A$4:$R$23,18,FALSE)<>\"\",VLOOKUP($A23,'6-20-18'!$A$4:$R$23,18,FALSE),0)","v":0},{"$f":"IF(VLOOKUP($A23,'6-27-18'!$A$4:$R$23,18,FALSE)<>\"\",VLOOKUP($A23,'6-27-18'!$A$4:$R$23,18,FALSE),0)","v":0},{"$f":"IF(VLOOKUP($A23,'7-4-18'!$A$4:$R$23,18,FALSE)<>\"\",VLOOKUP($A23,'7-4-18'!$A$4:$R$23,18,FALSE),0)","v":0},{"$f":"IF(VLOOKUP($A23,'7-11-18'!$A$4:$R$23,18,FALSE)<>\"\",VLOOKUP($A23,'7-11-18'!$A$4:$R$23,18,FALSE),0)","v":0},{"$f":"IF(VLOOKUP($A23,'7-18-18'!$A$4:$R$23,18,FALSE)<>\"\",VLOOKUP($A23,'7-18-18'!$A$4:$R$23,18,FALSE),0)","v":0},{"$f":"IF(VLOOKUP($A23,'7-25-18'!$A$4:$R$23,18,FALSE)<>\"\",VLOOKUP($A23,'7-25-18'!$A$4:$R$23,18,FALSE),0)","v":0},{"$f":"IF(VLOOKUP($A23,'8-1-18'!$A$4:$R$23,18,FALSE)<>\"\",VLOOKUP($A23,'8-1-18'!$A$4:$R$23,18,FALSE),0)","v":0},{"$f":"IF(VLOOKUP($A23,'8-8-18'!$A$4:$R$23,18,FALSE)<>\"\",VLOOKUP($A23,'8-8-18'!$A$4:$R$23,18,FALSE),0)","v":0},{"$f":"IF(VLOOKUP($A23,'8-15-18'!$A$4:$R$23,18,FALSE)<>\"\",VLOOKUP($A23,'8-15-18'!$A$4:$R$23,18,FALSE),0)","v":0},{"$f":"IF(VLOOKUP($A23,'8-22-18'!$A$4:$R$23,18,FALSE)<>\"\",VLOOKUP($A23,'8-22-18'!$A$4:$R$23,18,FALSE),0)","v":0},{"$f":"IF(VLOOKUP($A23,'8-29-18'!$A$4:$R$23,18,FALSE)<>\"\",VLOOKUP($A23,'8-29-18'!$A$4:$R$23,18,FALSE),0)","v":0},{"$f":"IF(VLOOKUP($A23,'9-7-18'!$A$4:$R$23,18,FALSE)<>\"\",VLOOKUP($A23,'9-7-18'!$A$4:$R$23,18,FALSE),0)","v":0},{"$f":"IF(VLOOKUP($A23,'9-12-18'!$A$4:$R$23,18,FALSE)<>\"\",VLOOKUP($A23,'9-12-18'!$A$4:$R$23,18,FALSE),0)","v":0},{"$f":"IF(VLOOKUP($A23,'9-19-18'!$A$4:$R$23,18,FALSE)<>\"\",VLOOKUP($A23,'9-19-18'!$A$4:$R$23,18,FALSE),0)","v":0},{"$f":"IF(VLOOKUP($A23,'9-26-18'!$A$4:$R$23,18,FALSE)<>\"\",VLOOKUP($A23,'9-26-18'!$A$4:$R$23,18,FALSE),0)","v":0},{"$f":"IF(VLOOKUP($A23,'10-10-18'!$A$4:$R$23,18,FALSE)<>\"\",VLOOKUP($A23,'10-10-18'!$A$4:$R$23,18,FALSE),0)","v":0},{"$f":"IF(VLOOKUP($A23,'10-3-18'!$A$4:$R$23,18,FALSE)<>\"\",VLOOKUP($A23,'10-3-18'!$A$4:$R$23,18,FALSE),0)","v":0},0]